BEGIN:VCALENDAR
VERSION:2.0
PRODID:-//HAGARD:HAL BLOG - ECPv6.15.20//NONSGML v1.0//EN
CALSCALE:GREGORIAN
METHOD:PUBLISH
X-ORIGINAL-URL:https://blog.hagard.sk
X-WR-CALDESC:Udalosti pre HAGARD:HAL BLOG
REFRESH-INTERVAL;VALUE=DURATION:PT1H
X-Robots-Tag:noindex
X-PUBLISHED-TTL:PT1H
BEGIN:VTIMEZONE
TZID:Europe/Bratislava
BEGIN:DAYLIGHT
TZOFFSETFROM:+0100
TZOFFSETTO:+0200
TZNAME:CEST
DTSTART:20230326T010000
END:DAYLIGHT
BEGIN:STANDARD
TZOFFSETFROM:+0200
TZOFFSETTO:+0100
TZNAME:CET
DTSTART:20231029T010000
END:STANDARD
BEGIN:DAYLIGHT
TZOFFSETFROM:+0100
TZOFFSETTO:+0200
TZNAME:CEST
DTSTART:20240331T010000
END:DAYLIGHT
BEGIN:STANDARD
TZOFFSETFROM:+0200
TZOFFSETTO:+0100
TZNAME:CET
DTSTART:20241027T010000
END:STANDARD
BEGIN:DAYLIGHT
TZOFFSETFROM:+0100
TZOFFSETTO:+0200
TZNAME:CEST
DTSTART:20250330T010000
END:DAYLIGHT
BEGIN:STANDARD
TZOFFSETFROM:+0200
TZOFFSETTO:+0100
TZNAME:CET
DTSTART:20251026T010000
END:STANDARD
END:VTIMEZONE
BEGIN:VEVENT
DTSTART;TZID=Europe/Bratislava:20240501T000000
DTEND;TZID=Europe/Bratislava:20240831T235959
DTSTAMP:20260426T023838
CREATED:20240422T135118Z
LAST-MODIFIED:20240729T160422Z
UID:2056-1714521600-1725148799@blog.hagard.sk
SUMMARY:SCAME predajná akcia
DESCRIPTION:TRADIČNÉ HASENIE SMÄDU SO SCAME\n\n\n\n\n\n\n\n\n\nPodmienky akcie: \n\n\n\n\ndarček sa vzťahuje na zásuvkové rozvodnice Scame\n\n\n\nakcia prebieha od 1.5. do 31.7.2024 31.8.2024 (predĺžená) alebo do rozdania darčekov\n\n\n\nakcia sa nevzťahuje na projekty a na objednávky zasielané kuriérom\n\n\n\nprodukty sú v e-shope označené štítkom darček\n\n\n\n\n\n\n\n\n\nPrejsť k produktom na e-shop
URL:https://blog.hagard.sk/udalost/scame-predajna-akcia/
CATEGORIES:Predajná akcia
ATTACH;FMTTYPE=image/jpeg:https://blog.hagard.sk/wp-content/uploads/2024/04/pa_scame_rozvodnice_pivo_2024_bnr_.jpg
END:VEVENT
BEGIN:VEVENT
DTSTART;TZID=Europe/Bratislava:20240502T000000
DTEND;TZID=Europe/Bratislava:20240831T235959
DTSTAMP:20260426T023838
CREATED:20240422T124727Z
LAST-MODIFIED:20241009T101623Z
UID:2050-1714608000-1725148799@blog.hagard.sk
SUMMARY:SEZ DK predajná akcia
DESCRIPTION:ODMEŇ SA SO SEZ DK\n\n\n\n\n\n\n\n\n\nPodmienky akcie: \n\n\n\n\ndarček sa vzťahuje na katalógové rozvodnice ROS 11 a ROS 16\n\n\n\nakcia prebieha od 2.5. do 28.6.2024 predĺžená do 31.8.2024 alebo do rozdania darčekov\n\n\n\nakcia sa nevzťahuje na projekty a na objednávky zasielané kuriérom\n\n\n\nprodukty sú v e-shope označené štítkom darček\n\n\n\n\n\n\n\n\n\nPrejsť k produktom na e-shop
URL:https://blog.hagard.sk/udalost/sez-dk-predajna-akcia/
CATEGORIES:Predajná akcia
ATTACH;FMTTYPE=image/jpeg:https://blog.hagard.sk/wp-content/uploads/2024/04/pa_sez_dk_ros_pivo_2024_bnr.jpg
END:VEVENT
BEGIN:VEVENT
DTSTART;TZID=Europe/Bratislava:20240509T000000
DTEND;TZID=Europe/Bratislava:20240630T235959
DTSTAMP:20260426T023838
CREATED:20240506T135625Z
LAST-MODIFIED:20240507T141658Z
UID:2084-1715212800-1719791999@blog.hagard.sk
SUMMARY:EATON predajná akcia
DESCRIPTION:Podmienky akcie: \n\n\n\n\ndarček sa vzťahuje na EATON položku „Chránič prúdový PF6 112933 40A/4P/30mA typ A 6kA„\n\n\n\nakcia prebieha od 9.5. do 30.6.2024 alebo do rozdania darčekov\n\n\n\nakcia sa nevzťahuje na projekty\n\n\n\n\n\n\n\n\n\nPrejsť k produktu na e-shop
URL:https://blog.hagard.sk/udalost/eaton-predajna-akcia-31-chranic-zdarma/
CATEGORIES:Predajná akcia
ATTACH;FMTTYPE=image/jpeg:https://blog.hagard.sk/wp-content/uploads/2024/05/bnr_eaton_akcia_3plus1_chranic_2024.jpg
END:VEVENT
BEGIN:VEVENT
DTSTART;TZID=Europe/Bratislava:20240618T080000
DTEND;TZID=Europe/Bratislava:20240618T150000
DTSTAMP:20260426T023838
CREATED:20240531T125147Z
LAST-MODIFIED:20240531T125148Z
UID:2158-1718697600-1718722800@blog.hagard.sk
SUMMARY:MOREK prezentačný deň
DESCRIPTION:Vážení zákazníci\,pozývame Vás na prezentáciu v našom mobilnom showroome\, kde Vám predstavíme naše portfólio produktov vrátane noviniek v sortimente.
URL:https://blog.hagard.sk/udalost/morek-prezentacny-den-7/
LOCATION:HAGARD:HAL Nitra\, Pražská 9\, Nitra - Mlynárce\, 949 11
CATEGORIES:Prezentačný deň
ATTACH;FMTTYPE=image/jpeg:https://blog.hagard.sk/wp-content/uploads/2024/04/pd_Morek_2024.jpg
END:VEVENT
BEGIN:VEVENT
DTSTART;TZID=Europe/Bratislava:20240618T090000
DTEND;TZID=Europe/Bratislava:20240618T130000
DTSTAMP:20260426T023838
CREATED:20240531T130848Z
LAST-MODIFIED:20240531T130849Z
UID:2166-1718701200-1718715600@blog.hagard.sk
SUMMARY:EATON prezentačný deň
DESCRIPTION:Vážení zákazníci\,pozývame Vás na prezentáciu v našom mobilnom showroome\, kde Vám predstavíme naše portfólio produktov vrátane noviniek v sortimente.
URL:https://blog.hagard.sk/udalost/eaton-prezentacny-den/
LOCATION:HAGARD:HAL Michalovce\, Močarianska 3582/1\, Michalovce\, 071 01
CATEGORIES:Prezentačný deň
ATTACH;FMTTYPE=image/jpeg:https://blog.hagard.sk/wp-content/uploads/2024/05/pd_eaton_2024.jpg
END:VEVENT
END:VCALENDAR