BEGIN:VCALENDAR
VERSION:2.0
PRODID:-//HAGARD:HAL BLOG - ECPv6.15.20//NONSGML v1.0//EN
CALSCALE:GREGORIAN
METHOD:PUBLISH
X-WR-CALNAME:HAGARD:HAL BLOG
X-ORIGINAL-URL:https://blog.hagard.sk
X-WR-CALDESC:Udalosti pre HAGARD:HAL BLOG
REFRESH-INTERVAL;VALUE=DURATION:PT1H
X-Robots-Tag:noindex
X-PUBLISHED-TTL:PT1H
BEGIN:VTIMEZONE
TZID:Europe/Bratislava
BEGIN:DAYLIGHT
TZOFFSETFROM:+0100
TZOFFSETTO:+0200
TZNAME:CEST
DTSTART:20240331T010000
END:DAYLIGHT
BEGIN:STANDARD
TZOFFSETFROM:+0200
TZOFFSETTO:+0100
TZNAME:CET
DTSTART:20241027T010000
END:STANDARD
BEGIN:DAYLIGHT
TZOFFSETFROM:+0100
TZOFFSETTO:+0200
TZNAME:CEST
DTSTART:20250330T010000
END:DAYLIGHT
BEGIN:STANDARD
TZOFFSETFROM:+0200
TZOFFSETTO:+0100
TZNAME:CET
DTSTART:20251026T010000
END:STANDARD
BEGIN:DAYLIGHT
TZOFFSETFROM:+0100
TZOFFSETTO:+0200
TZNAME:CEST
DTSTART:20260329T010000
END:DAYLIGHT
BEGIN:STANDARD
TZOFFSETFROM:+0200
TZOFFSETTO:+0100
TZNAME:CET
DTSTART:20261025T010000
END:STANDARD
END:VTIMEZONE
BEGIN:VEVENT
DTSTART;TZID=Europe/Bratislava:20250407T000000
DTEND;TZID=Europe/Bratislava:20250618T235959
DTSTAMP:20260425T122832
CREATED:20250401T115222Z
LAST-MODIFIED:20250619T051544Z
UID:2779-1743984000-1750291199@blog.hagard.sk
SUMMARY:Schneider Electric - predajná akcia
DESCRIPTION:Aby Vám na jar nechýbala energia!\n\n\n\n\n\n\n\n\n\nPodmienky akcie: \n\n\n\n\nreferencie na ktoré platí akcia sú v e-shope označené štítkom „darček“\n\n\n\nakcia prebieha od 7.4. do 31.12.2025 alebo do rozdania darčekov\n\n\n\nakcia sa vzťahuje aj na projekty\n\n\n\nza nákup vybraných produktov v hodnote 250€ bez dph získa zákazník darčekový balíček v hodnote 15€\n\n\n\nbalíček je zložený z produktov značky Dr. Max (Vitamín C HE 1000mg\, Vitamín D 2000 IU\, Magnesium Complex Active a Hroznový cukor s horčíkom + B6)\n\n\n\nmaximálne však 10 balíčkov na jeden nákup\n\n\n\n\n\n\n\n\n\nPrejsť k produktom na e-shop
URL:https://blog.hagard.sk/udalost/schneider-electric-predajna-akcia-2/
CATEGORIES:Predajná akcia
ATTACH;FMTTYPE=image/jpeg:https://blog.hagard.sk/wp-content/uploads/2025/04/pa_schneider_vitaminy_jar_2025.jpg
END:VEVENT
BEGIN:VEVENT
DTSTART;TZID=Europe/Bratislava:20250410T083000
DTEND;TZID=Europe/Bratislava:20250411T083000
DTSTAMP:20260425T122832
CREATED:20250214T092603Z
LAST-MODIFIED:20250214T100753Z
UID:2637-1744273800-1744360200@blog.hagard.sk
SUMMARY:HAGARD:HAL priemyselné školenie
DESCRIPTION:Vážení obchodní priatelia\,radi by sme vás pozvali na HAGARD:HAL priemyselné školenie\, ktoré sa uskutoční 10. apríla 2025\, v priestoroch Hotela Termál Vyhne***. HAGARD:HAL v spolupráci s autorizovanými dodávateľmi pre slovenský trh bude prezentovať produktové novinky a rady referenčných aplikácií. \n\n\n\n\n\n\n\nProsím potvrďte Vašu účasť na email: lubica.kompasova@hagard.sk \n\n\n\n\n\n\n\n\n\n\n\n\n\n\n\n\n\n\n\n\n\n\n\nHlavní partneri:\n\n\n\n\n\n\n\n\n\n\n\n\n\n\n\nHAGARD:HAL priemyselné školenie orientačný časový harmonogram:\n\n\n\n10.04.202509:00 – 09:45prezentácia spoločnosti LEGRAND Slovensko09:45 – 10:30prezentácia spoločnosti OBO Bettermann10:30 – 11:00prestávka11:00 – 11:45prezentácia spoločnosti Eaton Electric11:45 – 12:30prezentácia spoločnosti LEDVANCE12:30 – 14:00obed14:00 – 14:45prezentácia spoločnosti LAPP Czech Republic14:45 – 15:30prezentácia spoločnosti PHOTOMATE15:30 – 16:15prezentácia spoločnosti PHOENIX CONTACT11.04.2025Školenie končí raňajkami
URL:https://blog.hagard.sk/udalost/hagardhal-priemyselne-skolenie/
LOCATION:Hotel Termál***\, Vyhne 249\, Vyhne\, 966 02\, Slovakia (Slovak Republic)
CATEGORIES:Prezentačný deň
ATTACH;FMTTYPE=image/jpeg:https://blog.hagard.sk/wp-content/uploads/2025/02/hh_skolenie_priemysel_00.jpg
END:VEVENT
END:VCALENDAR