BEGIN:VCALENDAR
VERSION:2.0
PRODID:-//HAGARD:HAL BLOG - ECPv6.15.20//NONSGML v1.0//EN
CALSCALE:GREGORIAN
METHOD:PUBLISH
X-WR-CALNAME:HAGARD:HAL BLOG
X-ORIGINAL-URL:https://blog.hagard.sk
X-WR-CALDESC:Udalosti pre HAGARD:HAL BLOG
REFRESH-INTERVAL;VALUE=DURATION:PT1H
X-Robots-Tag:noindex
X-PUBLISHED-TTL:PT1H
BEGIN:VTIMEZONE
TZID:Europe/Bratislava
BEGIN:DAYLIGHT
TZOFFSETFROM:+0100
TZOFFSETTO:+0200
TZNAME:CEST
DTSTART:20240331T010000
END:DAYLIGHT
BEGIN:STANDARD
TZOFFSETFROM:+0200
TZOFFSETTO:+0100
TZNAME:CET
DTSTART:20241027T010000
END:STANDARD
BEGIN:DAYLIGHT
TZOFFSETFROM:+0100
TZOFFSETTO:+0200
TZNAME:CEST
DTSTART:20250330T010000
END:DAYLIGHT
BEGIN:STANDARD
TZOFFSETFROM:+0200
TZOFFSETTO:+0100
TZNAME:CET
DTSTART:20251026T010000
END:STANDARD
BEGIN:DAYLIGHT
TZOFFSETFROM:+0100
TZOFFSETTO:+0200
TZNAME:CEST
DTSTART:20260329T010000
END:DAYLIGHT
BEGIN:STANDARD
TZOFFSETFROM:+0200
TZOFFSETTO:+0100
TZNAME:CET
DTSTART:20261025T010000
END:STANDARD
END:VTIMEZONE
BEGIN:VEVENT
DTSTART;TZID=Europe/Bratislava:20250601T000000
DTEND;TZID=Europe/Bratislava:20250831T235959
DTSTAMP:20260425T062101
CREATED:20250602T125900Z
LAST-MODIFIED:20250805T111815Z
UID:2899-1748736000-1756684799@blog.hagard.sk
SUMMARY:SCAME predajná akcia
DESCRIPTION:TRADIČNÉ HASENIE SMÄDU SO SCAME\n\n\n\n\n\n\n\n\n\nPodmienky akcie: \n\n\n\n\ndarček sa vzťahuje na zásuvkové rozvodnice Scame\n\n\n\nakcia prebieha od 1.6. do 31.7.2025 predĺžená 31.8.2025\, alebo do rozdania darčekov\n\n\n\nakcia sa nevzťahuje na projekty a na objednávky zasielané kuriérom\n\n\n\nprodukty sú v e-shope označené štítkom darček\n\n\n\n\n\n\n\n\n\nPrejsť k produktom na e-shop
URL:https://blog.hagard.sk/udalost/scame-predajna-akcia-2/
CATEGORIES:Predajná akcia
ATTACH;FMTTYPE=image/jpeg:https://blog.hagard.sk/wp-content/uploads/2025/06/bnr_pa_scame_rozvodnice_pivo_2025_.jpg
END:VEVENT
BEGIN:VEVENT
DTSTART;TZID=Europe/Bratislava:20250714T000000
DTEND;TZID=Europe/Bratislava:20250824T235959
DTSTAMP:20260425T062101
CREATED:20250704T074810Z
LAST-MODIFIED:20250825T112917Z
UID:3001-1752451200-1756079999@blog.hagard.sk
SUMMARY:NOARK - predajná akcia
DESCRIPTION:ZAŽEŇ HLAD S NOARKOM\n\n\n\n\n\n\n\n\n\nPodmienky akcie: \n\n\n\n\ndarček sa vzťahuje na celý sortiment značky NOARK\n\n\n\nakcia prebieha od 14.7. do 30.9.2025 alebo do rozdania darčekov\n\n\n\nakcia sa nevzťahuje na projekty\n\n\n\nza nákup produktov v hodnote 50€ bez DPH získa zákazník tyčinku AMIX Protein Nuts 40g ako darček\n\n\n\nna jeden nákup je možné získať maximálne 6ks tyčiniek\n\n\n\n\n\n\n\n\n\nPrejsť k produktom na e-shop
URL:https://blog.hagard.sk/udalost/noark-predajna-akcia-3/
CATEGORIES:Predajná akcia
ATTACH;FMTTYPE=image/jpeg:https://blog.hagard.sk/wp-content/uploads/2025/07/noark_akcia_tycinka_2025.jpg
END:VEVENT
BEGIN:VEVENT
DTSTART;TZID=Europe/Bratislava:20250728T000000
DTEND;TZID=Europe/Bratislava:20250729T235959
DTSTAMP:20260425T062101
CREATED:20250728T073420Z
LAST-MODIFIED:20250728T073756Z
UID:3052-1753660800-1753833599@blog.hagard.sk
SUMMARY:Schneider Electric prezentačný deň
DESCRIPTION:08:00 – 15:00 \n\n\n\n\n\n\n\n\n\nVážení zákazníci\,príďte sa k nám občerstviť a získať cenné informácie. Vaše nákupy budú odmenené darčekom.
URL:https://blog.hagard.sk/udalost/schneider-electric-prezentacny-den-4/
LOCATION:HAGARD:HAL Bratislava\, Ivánska cesta 34\, Mokráň Záhon\, Bratislava\, 82104
CATEGORIES:Prezentačný deň
ATTACH;FMTTYPE=image/jpeg:https://blog.hagard.sk/wp-content/uploads/2025/07/pd_schneider_ba_28_29_7_2025.jpg
END:VEVENT
END:VCALENDAR