BEGIN:VCALENDAR
VERSION:2.0
PRODID:-//HAGARD:HAL BLOG - ECPv6.15.20//NONSGML v1.0//EN
CALSCALE:GREGORIAN
METHOD:PUBLISH
X-WR-CALNAME:HAGARD:HAL BLOG
X-ORIGINAL-URL:https://blog.hagard.sk
X-WR-CALDESC:Udalosti pre HAGARD:HAL BLOG
REFRESH-INTERVAL;VALUE=DURATION:PT1H
X-Robots-Tag:noindex
X-PUBLISHED-TTL:PT1H
BEGIN:VTIMEZONE
TZID:Europe/Bratislava
BEGIN:DAYLIGHT
TZOFFSETFROM:+0100
TZOFFSETTO:+0200
TZNAME:CEST
DTSTART:20230326T010000
END:DAYLIGHT
BEGIN:STANDARD
TZOFFSETFROM:+0200
TZOFFSETTO:+0100
TZNAME:CET
DTSTART:20231029T010000
END:STANDARD
BEGIN:DAYLIGHT
TZOFFSETFROM:+0100
TZOFFSETTO:+0200
TZNAME:CEST
DTSTART:20240331T010000
END:DAYLIGHT
BEGIN:STANDARD
TZOFFSETFROM:+0200
TZOFFSETTO:+0100
TZNAME:CET
DTSTART:20241027T010000
END:STANDARD
BEGIN:DAYLIGHT
TZOFFSETFROM:+0100
TZOFFSETTO:+0200
TZNAME:CEST
DTSTART:20250330T010000
END:DAYLIGHT
BEGIN:STANDARD
TZOFFSETFROM:+0200
TZOFFSETTO:+0100
TZNAME:CET
DTSTART:20251026T010000
END:STANDARD
END:VTIMEZONE
BEGIN:VEVENT
DTSTART;TZID=Europe/Bratislava:20240305T070000
DTEND;TZID=Europe/Bratislava:20240305T140000
DTSTAMP:20260426T053157
CREATED:20240223T124255Z
LAST-MODIFIED:20240223T124256Z
UID:1762-1709622000-1709647200@blog.hagard.sk
SUMMARY:ARKYS prezentačný deň
DESCRIPTION:Vážení zákazníci\,radi by sme vás pozvali na prezentáciu káblových nosných systémov MERKUR\, LINEAR a POLAR. Prezentácia sa bude konať v predajných priestoroch pobočky. Predstavíme Vám novinky v našom sortimente. \n\n\n\n\n\n\n\n\n\n\n\nPozývame Vás na prezentáciu systémov káblových trás MERKUR\, LINEAR a POLAR\, ktoré predstavujú komplexné a ucelené riešenia pre inštaláciu\, spĺňajúce najvyššie požiadavky na bezpečnosť\, efektivitu\, funkčnosť a kvalitu. Príďte sa osobne presvedčiť o ich výhodách a tipoch na využitie. Naši odborníci Vám budú k dispozícii. Súčasťou prezentačnej akcie je občerstvenie.
URL:https://blog.hagard.sk/udalost/arkys-prezentacny-den/
LOCATION:HAGARD:HAL Žilina\, Kvačalova 782/11\, Žilina - Závodie\, 010 04
CATEGORIES:Prezentačný deň
ATTACH;FMTTYPE=image/jpeg:https://blog.hagard.sk/wp-content/uploads/2024/02/pd_arkys_2024.jpg
END:VEVENT
BEGIN:VEVENT
DTSTART;TZID=Europe/Bratislava:20240306T080000
DTEND;TZID=Europe/Bratislava:20240306T140000
DTSTAMP:20260426T053157
CREATED:20240304T132243Z
LAST-MODIFIED:20240304T132244Z
UID:1771-1709712000-1709733600@blog.hagard.sk
SUMMARY:E|S|T - prezentačný deň
DESCRIPTION:Vážení zákazníci\,radi by sme vás pozvali na prezentáciu\, ktorá sa bude konať v predajných priestoroch pobočky. Predstavíme Vám novinky v našom sortimente.
URL:https://blog.hagard.sk/udalost/est-prezentacny-den-9/
LOCATION:HAGARD:HAL Poprad\, Teplická 34\, Poprad\, 058 01
CATEGORIES:Prezentačný deň
ATTACH;FMTTYPE=image/jpeg:https://blog.hagard.sk/wp-content/uploads/2024/01/pd_est_2024.jpg
END:VEVENT
BEGIN:VEVENT
DTSTART;TZID=Europe/Bratislava:20240307T070000
DTEND;TZID=Europe/Bratislava:20240307T140000
DTSTAMP:20260426T053157
CREATED:20240306T124920Z
LAST-MODIFIED:20240306T124921Z
UID:1791-1709794800-1709820000@blog.hagard.sk
SUMMARY:ARKYS prezentačný deň
DESCRIPTION:Vážení zákazníci\,radi by sme vás pozvali na prezentáciu káblových nosných systémov MERKUR\, LINEAR a POLAR. Prezentácia sa bude konať v predajných priestoroch pobočky. Predstavíme Vám novinky v našom sortimente. \n\n\n\n\n\n\n\n\n\n\n\nPozývame Vás na prezentáciu systémov káblových trás MERKUR\, LINEAR a POLAR\, ktoré predstavujú komplexné a ucelené riešenia pre inštaláciu\, spĺňajúce najvyššie požiadavky na bezpečnosť\, efektivitu\, funkčnosť a kvalitu. Príďte sa osobne presvedčiť o ich výhodách a tipoch na využitie. Naši odborníci Vám budú k dispozícii. Súčasťou prezentačnej akcie je občerstvenie.
URL:https://blog.hagard.sk/udalost/arkys-prezentacny-den-2/
LOCATION:HAGARD:HAL Trenčín\, Zlatovská 33\, Trenčín - Zlatovce\, 911 05
CATEGORIES:Prezentačný deň
ATTACH;FMTTYPE=image/jpeg:https://blog.hagard.sk/wp-content/uploads/2024/02/pd_arkys_2024.jpg
END:VEVENT
BEGIN:VEVENT
DTSTART;TZID=Europe/Bratislava:20240307T080000
DTEND;TZID=Europe/Bratislava:20240307T140000
DTSTAMP:20260426T053157
CREATED:20240304T132510Z
LAST-MODIFIED:20240304T132511Z
UID:1774-1709798400-1709820000@blog.hagard.sk
SUMMARY:E|S|T - prezentačný deň
DESCRIPTION:Vážení zákazníci\,radi by sme vás pozvali na prezentáciu\, ktorá sa bude konať v predajných priestoroch pobočky. Predstavíme Vám novinky v našom sortimente.
URL:https://blog.hagard.sk/udalost/est-prezentacny-den-10/
LOCATION:HAGARD:HAL Piešťany\, A. Hlinku 15/4430\, Piešťany\, 921 01
CATEGORIES:Prezentačný deň
ATTACH;FMTTYPE=image/jpeg:https://blog.hagard.sk/wp-content/uploads/2024/01/pd_est_2024.jpg
END:VEVENT
BEGIN:VEVENT
DTSTART;TZID=Europe/Bratislava:20240311T093000
DTEND;TZID=Europe/Bratislava:20240311T140000
DTSTAMP:20260426T053157
CREATED:20240219T124328Z
LAST-MODIFIED:20240219T124328Z
UID:1741-1710149400-1710165600@blog.hagard.sk
SUMMARY:HUAWEI roadshow v spolupráci so spoločnosťou PHOTOMATE
DESCRIPTION:Vážení zákazníci\,radi by sme vás pozvali na prezentáciu\, ktorá sa bude konať v predajných priestoroch pobočky. Predstavíme Vám novinky v našom sortimente.
URL:https://blog.hagard.sk/udalost/huawei-roadshow-v-spolupraci-so-spolocnostou-photomate/
LOCATION:HAGARD:HAL Košice\, Holubyho 12\, Košice\, 040 01
CATEGORIES:Prezentačný deň
ATTACH;FMTTYPE=image/jpeg:https://blog.hagard.sk/wp-content/uploads/2024/02/bnr_Huawei_pd_2024.jpg
END:VEVENT
BEGIN:VEVENT
DTSTART;TZID=Europe/Bratislava:20240312T070000
DTEND;TZID=Europe/Bratislava:20240312T140000
DTSTAMP:20260426T053157
CREATED:20240306T125144Z
LAST-MODIFIED:20240306T125144Z
UID:1794-1710226800-1710252000@blog.hagard.sk
SUMMARY:ARKYS prezentačný deň
DESCRIPTION:Vážení zákazníci\,radi by sme vás pozvali na prezentáciu káblových nosných systémov MERKUR\, LINEAR a POLAR. Prezentácia sa bude konať v predajných priestoroch pobočky. Predstavíme Vám novinky v našom sortimente. \n\n\n\n\n\n\n\n\n\n\n\nPozývame Vás na prezentáciu systémov káblových trás MERKUR\, LINEAR a POLAR\, ktoré predstavujú komplexné a ucelené riešenia pre inštaláciu\, spĺňajúce najvyššie požiadavky na bezpečnosť\, efektivitu\, funkčnosť a kvalitu. Príďte sa osobne presvedčiť o ich výhodách a tipoch na využitie. Naši odborníci Vám budú k dispozícii. Súčasťou prezentačnej akcie je občerstvenie.
URL:https://blog.hagard.sk/udalost/arkys-prezentacny-den-3/
LOCATION:Hagard:Hal Banská Bystrica\, Kremnička 51\, Banská Bystrica\, 974 05
CATEGORIES:Prezentačný deň
ATTACH;FMTTYPE=image/jpeg:https://blog.hagard.sk/wp-content/uploads/2024/02/pd_arkys_2024.jpg
END:VEVENT
BEGIN:VEVENT
DTSTART;TZID=Europe/Bratislava:20240312T093000
DTEND;TZID=Europe/Bratislava:20240312T140000
DTSTAMP:20260426T053157
CREATED:20240219T124847Z
LAST-MODIFIED:20240219T124848Z
UID:1746-1710235800-1710252000@blog.hagard.sk
SUMMARY:HUAWEI roadshow v spolupráci so spoločnosťou PHOTOMATE
DESCRIPTION:Vážení zákazníci\,radi by sme vás pozvali na prezentáciu\, ktorá sa bude konať v predajných priestoroch pobočky. Predstavíme Vám novinky v našom sortimente.
URL:https://blog.hagard.sk/udalost/huawei-roadshow-v-spolupraci-so-spolocnostou-photomate-2/
LOCATION:HAGARD:HAL Trenčín\, Zlatovská 33\, Trenčín - Zlatovce\, 911 05
CATEGORIES:Prezentačný deň
ATTACH;FMTTYPE=image/jpeg:https://blog.hagard.sk/wp-content/uploads/2024/02/bnr_Huawei_pd_2024.jpg
END:VEVENT
BEGIN:VEVENT
DTSTART;TZID=Europe/Bratislava:20240313T080000
DTEND;TZID=Europe/Bratislava:20240313T140000
DTSTAMP:20260426T053157
CREATED:20240306T125903Z
LAST-MODIFIED:20240307T073829Z
UID:1801-1710316800-1710338400@blog.hagard.sk
SUMMARY:E|S|T - prezentačný deň
DESCRIPTION:Vážení zákazníci\,radi by sme vás pozvali na prezentáciu\, ktorá sa bude konať v predajných priestoroch pobočky. Predstavíme Vám novinky v našom sortimente.
URL:https://blog.hagard.sk/udalost/est-prezentacny-den-11/
LOCATION:HAGARD:HAL Prešov\, Budovateľská 50\, Prešov\, 080 01
CATEGORIES:Prezentačný deň
ATTACH;FMTTYPE=image/jpeg:https://blog.hagard.sk/wp-content/uploads/2024/01/pd_est_2024.jpg
END:VEVENT
BEGIN:VEVENT
DTSTART;TZID=Europe/Bratislava:20240313T093000
DTEND;TZID=Europe/Bratislava:20240313T140000
DTSTAMP:20260426T053157
CREATED:20240219T125653Z
LAST-MODIFIED:20240226T142329Z
UID:1749-1710322200-1710338400@blog.hagard.sk
SUMMARY:HUAWEI roadshow v spolupráci so spoločnosťou PHOTOMATE
DESCRIPTION:Vážení zákazníci\,radi by sme vás pozvali na prezentáciu\, ktorá sa bude konať v predajných priestoroch pobočky. Predstavíme Vám novinky v našom sortimente.
URL:https://blog.hagard.sk/udalost/huawei-roadshow-v-spolupraci-so-spolocnostou-photomate-3/
LOCATION:HAGARD:HAL Nitra\, Pražská 9\, Nitra - Mlynárce\, 949 11
CATEGORIES:Prezentačný deň
ATTACH;FMTTYPE=image/jpeg:https://blog.hagard.sk/wp-content/uploads/2024/02/bnr_Huawei_pd_2024.jpg
END:VEVENT
BEGIN:VEVENT
DTSTART;TZID=Europe/Bratislava:20240314T070000
DTEND;TZID=Europe/Bratislava:20240314T140000
DTSTAMP:20260426T053157
CREATED:20240306T125315Z
LAST-MODIFIED:20240306T125316Z
UID:1797-1710399600-1710424800@blog.hagard.sk
SUMMARY:ARKYS prezentačný deň
DESCRIPTION:Vážení zákazníci\,radi by sme vás pozvali na prezentáciu káblových nosných systémov MERKUR\, LINEAR a POLAR. Prezentácia sa bude konať v predajných priestoroch pobočky. Predstavíme Vám novinky v našom sortimente. \n\n\n\n\n\n\n\n\n\n\n\nPozývame Vás na prezentáciu systémov káblových trás MERKUR\, LINEAR a POLAR\, ktoré predstavujú komplexné a ucelené riešenia pre inštaláciu\, spĺňajúce najvyššie požiadavky na bezpečnosť\, efektivitu\, funkčnosť a kvalitu. Príďte sa osobne presvedčiť o ich výhodách a tipoch na využitie. Naši odborníci Vám budú k dispozícii. Súčasťou prezentačnej akcie je občerstvenie.
URL:https://blog.hagard.sk/udalost/arkys-prezentacny-den-4/
LOCATION:HAGARD:HAL Zvolen\, Tulská 9227/2\, Zvolen\, 960 01
CATEGORIES:Prezentačný deň
ATTACH;FMTTYPE=image/jpeg:https://blog.hagard.sk/wp-content/uploads/2024/02/pd_arkys_2024.jpg
END:VEVENT
BEGIN:VEVENT
DTSTART;TZID=Europe/Bratislava:20240314T070000
DTEND;TZID=Europe/Bratislava:20240314T140000
DTSTAMP:20260426T053157
CREATED:20240306T125429Z
LAST-MODIFIED:20240306T125430Z
UID:1799-1710399600-1710424800@blog.hagard.sk
SUMMARY:ARKYS prezentačný deň
DESCRIPTION:Vážení zákazníci\,radi by sme vás pozvali na prezentáciu káblových nosných systémov MERKUR\, LINEAR a POLAR. Prezentácia sa bude konať v predajných priestoroch pobočky. Predstavíme Vám novinky v našom sortimente. \n\n\n\n\n\n\n\n\n\n\n\nPozývame Vás na prezentáciu systémov káblových trás MERKUR\, LINEAR a POLAR\, ktoré predstavujú komplexné a ucelené riešenia pre inštaláciu\, spĺňajúce najvyššie požiadavky na bezpečnosť\, efektivitu\, funkčnosť a kvalitu. Príďte sa osobne presvedčiť o ich výhodách a tipoch na využitie. Naši odborníci Vám budú k dispozícii. Súčasťou prezentačnej akcie je občerstvenie.
URL:https://blog.hagard.sk/udalost/arkys-prezentacny-den-5/
LOCATION:HAGARD:HAL Nové Zámky\, Dvorská cesta 23\, Nové Zámky\, 940 02
CATEGORIES:Prezentačný deň
ATTACH;FMTTYPE=image/jpeg:https://blog.hagard.sk/wp-content/uploads/2024/02/pd_arkys_2024.jpg
END:VEVENT
BEGIN:VEVENT
DTSTART;TZID=Europe/Bratislava:20240314T080000
DTEND;TZID=Europe/Bratislava:20240314T140000
DTSTAMP:20260426T053157
CREATED:20240306T130039Z
LAST-MODIFIED:20240306T130040Z
UID:1803-1710403200-1710424800@blog.hagard.sk
SUMMARY:E|S|T - prezentačný deň
DESCRIPTION:Vážení zákazníci\,radi by sme vás pozvali na prezentáciu\, ktorá sa bude konať v predajných priestoroch pobočky. Predstavíme Vám novinky v našom sortimente.
URL:https://blog.hagard.sk/udalost/est-prezentacny-den-12/
LOCATION:HAGARD:HAL Košice\, Holubyho 12\, Košice\, 040 01
CATEGORIES:Prezentačný deň
ATTACH;FMTTYPE=image/jpeg:https://blog.hagard.sk/wp-content/uploads/2024/01/pd_est_2024.jpg
END:VEVENT
BEGIN:VEVENT
DTSTART;TZID=Europe/Bratislava:20240315T093000
DTEND;TZID=Europe/Bratislava:20240315T140000
DTSTAMP:20260426T053157
CREATED:20240219T130104Z
LAST-MODIFIED:20240226T142355Z
UID:1752-1710495000-1710511200@blog.hagard.sk
SUMMARY:HUAWEI roadshow v spolupráci so spoločnosťou PHOTOMATE
DESCRIPTION:Vážení zákazníci\,radi by sme vás pozvali na prezentáciu\, ktorá sa bude konať v predajných priestoroch pobočky. Predstavíme Vám novinky v našom sortimente.
URL:https://blog.hagard.sk/udalost/huawei-roadshow-v-spolupraci-so-spolocnostou-photomate-4/
LOCATION:HAGARD:HAL Bratislava\, Ivánska cesta 34\, Mokráň Záhon\, Bratislava\, 82104
CATEGORIES:Prezentačný deň
ATTACH;FMTTYPE=image/jpeg:https://blog.hagard.sk/wp-content/uploads/2024/02/bnr_Huawei_pd_2024.jpg
END:VEVENT
BEGIN:VEVENT
DTSTART;TZID=Europe/Bratislava:20240315T100000
DTEND;TZID=Europe/Bratislava:20240315T140000
DTSTAMP:20260426T053157
CREATED:20240304T141050Z
LAST-MODIFIED:20240304T141052Z
UID:1781-1710496800-1710511200@blog.hagard.sk
SUMMARY:LEDVANCE prezentačný deň
DESCRIPTION:Vážení zákazníci\,radi by sme vás pozvali na prezentáciu „LEDVAN NA CESTÁCH“\, ktorá sa bude konať pred predajnými priestormi pobočky. V showroome svietidiel a svetelných zdrojov Vám predstavíme novinky v sortimente.
URL:https://blog.hagard.sk/udalost/ledvance-prezentacny-den-2/
LOCATION:HAGARD:HAL Košice\, Holubyho 12\, Košice\, 040 01
CATEGORIES:Prezentačný deň
ATTACH;FMTTYPE=image/jpeg:https://blog.hagard.sk/wp-content/uploads/2024/03/pd_ledvance_2024.jpg
END:VEVENT
BEGIN:VEVENT
DTSTART;TZID=Europe/Bratislava:20240319T080000
DTEND;TZID=Europe/Bratislava:20240319T140000
DTSTAMP:20260426T053157
CREATED:20240326T065313Z
LAST-MODIFIED:20240326T065315Z
UID:1852-1710835200-1710856800@blog.hagard.sk
SUMMARY:ARKYS prezentačný deň
DESCRIPTION:Vážení zákazníci\,radi by sme vás pozvali na prezentáciu káblových nosných systémov MERKUR\, LINEAR a POLAR. Prezentácia sa bude konať v predajných priestoroch pobočky. Predstavíme Vám novinky v našom sortimente. \n\n\n\n\n\n\n\n\n\n\n\nPozývame Vás na prezentáciu systémov káblových trás MERKUR\, LINEAR a POLAR\, ktoré predstavujú komplexné a ucelené riešenia pre inštaláciu\, spĺňajúce najvyššie požiadavky na bezpečnosť\, efektivitu\, funkčnosť a kvalitu. Príďte sa osobne presvedčiť o ich výhodách a tipoch na využitie. Naši odborníci Vám budú k dispozícii. Súčasťou prezentačnej akcie je občerstvenie.
URL:https://blog.hagard.sk/udalost/arkys-prezentacny-den-6/
LOCATION:HAGARD:HAL Bratislava\, Ivánska cesta 34\, Mokráň Záhon\, Bratislava\, 82104
CATEGORIES:Prezentačný deň
ATTACH;FMTTYPE=image/jpeg:https://blog.hagard.sk/wp-content/uploads/2024/02/pd_arkys_2024.jpg
END:VEVENT
BEGIN:VEVENT
DTSTART;TZID=Europe/Bratislava:20240319T080000
DTEND;TZID=Europe/Bratislava:20240319T140000
DTSTAMP:20260426T053157
CREATED:20240326T065500Z
LAST-MODIFIED:20240326T065500Z
UID:1855-1710835200-1710856800@blog.hagard.sk
SUMMARY:ARKYS prezentačný deň
DESCRIPTION:Vážení zákazníci\,radi by sme vás pozvali na prezentáciu káblových nosných systémov MERKUR\, LINEAR a POLAR. Prezentácia sa bude konať v predajných priestoroch pobočky. Predstavíme Vám novinky v našom sortimente. \n\n\n\n\n\n\n\n\n\n\n\nPozývame Vás na prezentáciu systémov káblových trás MERKUR\, LINEAR a POLAR\, ktoré predstavujú komplexné a ucelené riešenia pre inštaláciu\, spĺňajúce najvyššie požiadavky na bezpečnosť\, efektivitu\, funkčnosť a kvalitu. Príďte sa osobne presvedčiť o ich výhodách a tipoch na využitie. Naši odborníci Vám budú k dispozícii. Súčasťou prezentačnej akcie je občerstvenie.
URL:https://blog.hagard.sk/udalost/arkys-prezentacny-den-7/
LOCATION:HAGARD:HAL Piešťany\, A. Hlinku 15/4430\, Piešťany\, 921 01
CATEGORIES:Prezentačný deň
ATTACH;FMTTYPE=image/jpeg:https://blog.hagard.sk/wp-content/uploads/2024/02/pd_arkys_2024.jpg
END:VEVENT
BEGIN:VEVENT
DTSTART;TZID=Europe/Bratislava:20240320T080000
DTEND;TZID=Europe/Bratislava:20240320T140000
DTSTAMP:20260426T053157
CREATED:20240318T064159Z
LAST-MODIFIED:20240318T064200Z
UID:1833-1710921600-1710943200@blog.hagard.sk
SUMMARY:E|S|T - prezentačný deň
DESCRIPTION:Vážení zákazníci\,radi by sme vás pozvali na prezentáciu\, ktorá sa bude konať v predajných priestoroch pobočky. Predstavíme Vám novinky v našom sortimente.
URL:https://blog.hagard.sk/udalost/est-prezentacny-den-13/
LOCATION:HAGARD:HAL Humenné\, Tolstého 1\, Humenné\, 066 01
CATEGORIES:Prezentačný deň
ATTACH;FMTTYPE=image/jpeg:https://blog.hagard.sk/wp-content/uploads/2024/01/pd_est_2024.jpg
END:VEVENT
BEGIN:VEVENT
DTSTART;TZID=Europe/Bratislava:20240321T080000
DTEND;TZID=Europe/Bratislava:20240321T170000
DTSTAMP:20260426T053157
CREATED:20240318T064544Z
LAST-MODIFIED:20240318T064545Z
UID:1836-1711008000-1711040400@blog.hagard.sk
SUMMARY:E|S|T - prezentačný deň
DESCRIPTION:Vážení zákazníci\,radi by sme vás pozvali na prezentáciu\, ktorá sa bude konať v predajných priestoroch pobočky. Predstavíme Vám novinky v našom sortimente.
URL:https://blog.hagard.sk/udalost/est-prezentacny-den-14/
LOCATION:HAGARD:HAL Michalovce\, Močarianska 3582/1\, Michalovce\, 071 01
CATEGORIES:Prezentačný deň
ATTACH;FMTTYPE=image/jpeg:https://blog.hagard.sk/wp-content/uploads/2024/01/pd_est_2024.jpg
END:VEVENT
BEGIN:VEVENT
DTSTART;TZID=Europe/Bratislava:20240325T000000
DTEND;TZID=Europe/Bratislava:20240430T235959
DTSTAMP:20260426T053157
CREATED:20240326T055735Z
LAST-MODIFIED:20240425T084130Z
UID:1842-1711324800-1714521599@blog.hagard.sk
SUMMARY:Schneider Electric predajná akcia
DESCRIPTION:Pozývame na obed! … lebo jedlo je najlepšia energia!\n\n\n\n\n\n\n\n\n\nPodmienky akcie: \n\n\n\n\nreferencie na ktoré platí akcia sú v e-shope označené štítkom „darček“\n\n\n\nakcia prebieha od 25.3. do 30.4.2024 alebo do rozdania darčekov\n\n\n\nakcia sa nevzťahuje na projekty\n\n\n\nza nákup vybraných produktov v hodnote 200€ bez dph získa zákazník jednu poukážku\n\n\n\npoukážka EDENRED Ticket Restaurant v hodnote 10€\, maximálne 10ks na jeden nákup\n\n\n\n\n\n\n\n\n\nPrejsť k produktom na e-shop
URL:https://blog.hagard.sk/udalost/predajna-akcia-schneider-electric/
CATEGORIES:Predajná akcia
ATTACH;FMTTYPE=image/jpeg:https://blog.hagard.sk/wp-content/uploads/2024/03/bnr_Schneider_2024-edenred_.jpg
END:VEVENT
BEGIN:VEVENT
DTSTART;TZID=Europe/Bratislava:20240325T100000
DTEND;TZID=Europe/Bratislava:20240325T140000
DTSTAMP:20260426T053157
CREATED:20240304T140804Z
LAST-MODIFIED:20240314T095409Z
UID:1777-1711360800-1711375200@blog.hagard.sk
SUMMARY:LEDVANCE prezentačný deň
DESCRIPTION:Vážení zákazníci\,radi by sme vás pozvali na prezentáciu „LEDVAN NA CESTÁCH“\, ktorá sa bude konať pred predajnými priestormi pobočky. V showroome svietidiel a svetelných zdrojov Vám predstavíme novinky v sortimente.
URL:https://blog.hagard.sk/udalost/ledvance-prezentacny-den/
LOCATION:HAGARD:HAL Nitra\, Pražská 9\, Nitra - Mlynárce\, 949 11
CATEGORIES:Prezentačný deň
ATTACH;FMTTYPE=image/jpeg:https://blog.hagard.sk/wp-content/uploads/2024/03/pd_ledvance_2024.jpg
END:VEVENT
BEGIN:VEVENT
DTSTART;TZID=Europe/Bratislava:20240326T080000
DTEND;TZID=Europe/Bratislava:20240326T140000
DTSTAMP:20260426T053157
CREATED:20240326T160907Z
LAST-MODIFIED:20240326T160908Z
UID:1863-1711440000-1711461600@blog.hagard.sk
SUMMARY:ARKYS prezentačný deň
DESCRIPTION:Vážení zákazníci\,radi by sme vás pozvali na prezentáciu káblových nosných systémov MERKUR\, LINEAR a POLAR. Prezentácia sa bude konať v predajných priestoroch pobočky. Predstavíme Vám novinky v našom sortimente. \n\n\n\n\n\n\n\n\n\n\n\nPozývame Vás na prezentáciu systémov káblových trás MERKUR\, LINEAR a POLAR\, ktoré predstavujú komplexné a ucelené riešenia pre inštaláciu\, spĺňajúce najvyššie požiadavky na bezpečnosť\, efektivitu\, funkčnosť a kvalitu. Príďte sa osobne presvedčiť o ich výhodách a tipoch na využitie. Naši odborníci Vám budú k dispozícii. Súčasťou prezentačnej akcie je občerstvenie.
URL:https://blog.hagard.sk/udalost/arkys-prezentacny-den-8/
LOCATION:HAGARD:HAL Poprad\, Teplická 34\, Poprad\, 058 01
CATEGORIES:Prezentačný deň
ATTACH;FMTTYPE=image/jpeg:https://blog.hagard.sk/wp-content/uploads/2024/02/pd_arkys_2024.jpg
END:VEVENT
BEGIN:VEVENT
DTSTART;TZID=Europe/Bratislava:20240326T100000
DTEND;TZID=Europe/Bratislava:20240326T140000
DTSTAMP:20260426T053157
CREATED:20240304T141210Z
LAST-MODIFIED:20250304T151240Z
UID:1784-1711447200-1711461600@blog.hagard.sk
SUMMARY:LEDVANCE prezentačný deň
DESCRIPTION:Vážení zákazníci\,radi by sme vás pozvali na prezentáciu „LEDVAN NA CESTÁCH“\, ktorá sa bude konať pred predajnými priestormi pobočky. V showroome svietidiel a svetelných zdrojov Vám predstavíme novinky v sortimente.
URL:https://blog.hagard.sk/udalost/ledvance-prezentacny-den-3/
LOCATION:HAGARD:HAL Bratislava\, Ivánska cesta 34\, Mokráň Záhon\, Bratislava\, 82104
CATEGORIES:Prezentačný deň
ATTACH;FMTTYPE=image/jpeg:https://blog.hagard.sk/wp-content/uploads/2024/03/pd_ledvance_2024.jpg
END:VEVENT
END:VCALENDAR