BEGIN:VCALENDAR
VERSION:2.0
PRODID:-//HAGARD:HAL BLOG - ECPv6.15.20//NONSGML v1.0//EN
CALSCALE:GREGORIAN
METHOD:PUBLISH
X-ORIGINAL-URL:https://blog.hagard.sk
X-WR-CALDESC:Udalosti pre HAGARD:HAL BLOG
REFRESH-INTERVAL;VALUE=DURATION:PT1H
X-Robots-Tag:noindex
X-PUBLISHED-TTL:PT1H
BEGIN:VTIMEZONE
TZID:Europe/Bratislava
BEGIN:DAYLIGHT
TZOFFSETFROM:+0100
TZOFFSETTO:+0200
TZNAME:CEST
DTSTART:20230326T010000
END:DAYLIGHT
BEGIN:STANDARD
TZOFFSETFROM:+0200
TZOFFSETTO:+0100
TZNAME:CET
DTSTART:20231029T010000
END:STANDARD
BEGIN:DAYLIGHT
TZOFFSETFROM:+0100
TZOFFSETTO:+0200
TZNAME:CEST
DTSTART:20240331T010000
END:DAYLIGHT
BEGIN:STANDARD
TZOFFSETFROM:+0200
TZOFFSETTO:+0100
TZNAME:CET
DTSTART:20241027T010000
END:STANDARD
BEGIN:DAYLIGHT
TZOFFSETFROM:+0100
TZOFFSETTO:+0200
TZNAME:CEST
DTSTART:20250330T010000
END:DAYLIGHT
BEGIN:STANDARD
TZOFFSETFROM:+0200
TZOFFSETTO:+0100
TZNAME:CET
DTSTART:20251026T010000
END:STANDARD
END:VTIMEZONE
BEGIN:VEVENT
DTSTART;TZID=Europe/Bratislava:20240325T000000
DTEND;TZID=Europe/Bratislava:20240430T235959
DTSTAMP:20260426T040902
CREATED:20240326T055735Z
LAST-MODIFIED:20240425T084130Z
UID:1842-1711324800-1714521599@blog.hagard.sk
SUMMARY:Schneider Electric predajná akcia
DESCRIPTION:Pozývame na obed! … lebo jedlo je najlepšia energia!\n\n\n\n\n\n\n\n\n\nPodmienky akcie: \n\n\n\n\nreferencie na ktoré platí akcia sú v e-shope označené štítkom „darček“\n\n\n\nakcia prebieha od 25.3. do 30.4.2024 alebo do rozdania darčekov\n\n\n\nakcia sa nevzťahuje na projekty\n\n\n\nza nákup vybraných produktov v hodnote 200€ bez dph získa zákazník jednu poukážku\n\n\n\npoukážka EDENRED Ticket Restaurant v hodnote 10€\, maximálne 10ks na jeden nákup\n\n\n\n\n\n\n\n\n\nPrejsť k produktom na e-shop
URL:https://blog.hagard.sk/udalost/predajna-akcia-schneider-electric/
CATEGORIES:Predajná akcia
ATTACH;FMTTYPE=image/jpeg:https://blog.hagard.sk/wp-content/uploads/2024/03/bnr_Schneider_2024-edenred_.jpg
END:VEVENT
BEGIN:VEVENT
DTSTART;TZID=Europe/Bratislava:20240404T080000
DTEND;TZID=Europe/Bratislava:20240404T140000
DTSTAMP:20260426T040902
CREATED:20240326T161350Z
LAST-MODIFIED:20240326T161351Z
UID:1865-1712217600-1712239200@blog.hagard.sk
SUMMARY:ARKYS prezentačný deň
DESCRIPTION:Vážení zákazníci\,radi by sme vás pozvali na prezentáciu káblových nosných systémov MERKUR\, LINEAR a POLAR. Prezentácia sa bude konať v predajných priestoroch pobočky. Predstavíme Vám novinky v našom sortimente. \n\n\n\n\n\n\n\n\n\n\n\nPozývame Vás na prezentáciu systémov káblových trás MERKUR\, LINEAR a POLAR\, ktoré predstavujú komplexné a ucelené riešenia pre inštaláciu\, spĺňajúce najvyššie požiadavky na bezpečnosť\, efektivitu\, funkčnosť a kvalitu. Príďte sa osobne presvedčiť o ich výhodách a tipoch na využitie. Naši odborníci Vám budú k dispozícii. Súčasťou prezentačnej akcie je občerstvenie.
URL:https://blog.hagard.sk/udalost/arkys-prezentacny-den-9/
LOCATION:HAGARD:HAL Prešov\, Budovateľská 50\, Prešov\, 080 01
CATEGORIES:Prezentačný deň
ATTACH;FMTTYPE=image/jpeg:https://blog.hagard.sk/wp-content/uploads/2024/02/pd_arkys_2024.jpg
END:VEVENT
BEGIN:VEVENT
DTSTART;TZID=Europe/Bratislava:20240409T080000
DTEND;TZID=Europe/Bratislava:20240409T140000
DTSTAMP:20260426T040902
CREATED:20240326T162649Z
LAST-MODIFIED:20240326T162735Z
UID:1867-1712649600-1712671200@blog.hagard.sk
SUMMARY:ARKYS prezentačný deň
DESCRIPTION:Vážení zákazníci\,radi by sme vás pozvali na prezentáciu káblových nosných systémov MERKUR\, LINEAR a POLAR. Prezentácia sa bude konať v predajných priestoroch pobočky. Predstavíme Vám novinky v našom sortimente. \n\n\n\n\n\n\n\n\n\n\n\nPozývame Vás na prezentáciu systémov káblových trás MERKUR\, LINEAR a POLAR\, ktoré predstavujú komplexné a ucelené riešenia pre inštaláciu\, spĺňajúce najvyššie požiadavky na bezpečnosť\, efektivitu\, funkčnosť a kvalitu. Príďte sa osobne presvedčiť o ich výhodách a tipoch na využitie. Naši odborníci Vám budú k dispozícii. Súčasťou prezentačnej akcie je občerstvenie.
URL:https://blog.hagard.sk/udalost/arkys-prezentacny-den-10/
LOCATION:HAGARD:HAL Štúrovo\, Továrenská 3505\, Štúrovo\, 943 01
CATEGORIES:Prezentačný deň
ATTACH;FMTTYPE=image/jpeg:https://blog.hagard.sk/wp-content/uploads/2024/02/pd_arkys_2024.jpg
END:VEVENT
BEGIN:VEVENT
DTSTART;TZID=Europe/Bratislava:20240411T080000
DTEND;TZID=Europe/Bratislava:20240411T140000
DTSTAMP:20260426T040902
CREATED:20240326T162930Z
LAST-MODIFIED:20240326T162931Z
UID:1870-1712822400-1712844000@blog.hagard.sk
SUMMARY:ARKYS prezentačný deň
DESCRIPTION:Vážení zákazníci\,radi by sme vás pozvali na prezentáciu káblových nosných systémov MERKUR\, LINEAR a POLAR. Prezentácia sa bude konať v predajných priestoroch pobočky. Predstavíme Vám novinky v našom sortimente. \n\n\n\n\n\n\n\n\n\n\n\nPozývame Vás na prezentáciu systémov káblových trás MERKUR\, LINEAR a POLAR\, ktoré predstavujú komplexné a ucelené riešenia pre inštaláciu\, spĺňajúce najvyššie požiadavky na bezpečnosť\, efektivitu\, funkčnosť a kvalitu. Príďte sa osobne presvedčiť o ich výhodách a tipoch na využitie. Naši odborníci Vám budú k dispozícii. Súčasťou prezentačnej akcie je občerstvenie.
URL:https://blog.hagard.sk/udalost/arkys-prezentacny-den-11/
LOCATION:Hagard:Hal Komárno\, Bratislavská cesta 1804\, Komárno\, 945 01
CATEGORIES:Prezentačný deň
ATTACH;FMTTYPE=image/jpeg:https://blog.hagard.sk/wp-content/uploads/2024/02/pd_arkys_2024.jpg
END:VEVENT
BEGIN:VEVENT
DTSTART;TZID=Europe/Bratislava:20240415T000000
DTEND;TZID=Europe/Bratislava:20240515T235959
DTSTAMP:20260426T040902
CREATED:20240411T185416Z
LAST-MODIFIED:20240411T185417Z
UID:1993-1713139200-1715817599@blog.hagard.sk
SUMMARY:NOARK predajná akcia
DESCRIPTION:ODMEŇ SA S NOARKOM\n\n\n\n\n\n\n\n\n\nPodmienky akcie: \n\n\n\n\ndarček sa vzťahuje na celý sortiment značky NOARK\n\n\n\nakcia prebieha od 15.4. do 15.5.2024 alebo do rozdania darčekov\n\n\n\nakcia sa nevzťahuje na projekty\n\n\n\nza nákup vybraných produktov v hodnote 400€ bez DPH získa zákazník jednu poukážku\n\n\n\n\n\n\n\n\n\nPrejsť k produktom na e-shop
URL:https://blog.hagard.sk/udalost/noark-predajna-akcia/
CATEGORIES:Predajná akcia
ATTACH;FMTTYPE=image/jpeg:https://blog.hagard.sk/wp-content/uploads/2024/04/bnr_Noark_Alza_poukazka-scaled.jpg
END:VEVENT
BEGIN:VEVENT
DTSTART;TZID=Europe/Bratislava:20240415T100000
DTEND;TZID=Europe/Bratislava:20240415T140000
DTSTAMP:20260426T040902
CREATED:20240411T052714Z
LAST-MODIFIED:20240411T062101Z
UID:1935-1713175200-1713189600@blog.hagard.sk
SUMMARY:TRILUX prezentačný deň
DESCRIPTION:SPOZNAJTE SVET SVIETIDIEL TRILUX-TWENTY3\n\n\n\nVážení zákazníci\, \n\n\n\ntáto prezentácia Vám ponúkne možnosť spoznať svet svietidiel TRILUX – twenty3\, ktoré sú navrhnuté tak\, aby spĺňali všetky potreby profesionálneho osvetlenia v každodennej prevádzke. Súčasťou prezentačnej akcie je aj malé občerstvenie. \n\n\n\nNenechajte si ujsť túto jedinečnú príležitosť dozvedieť sa viac o najnovších trendoch a inováciách v oblasti osvetlenia\, ktoré môžu prispieť k úspechu vašich projektov. \n\n\n\nTešíme sa na Vás!Tím TRILUX Slovakia s.r.o.
URL:https://blog.hagard.sk/udalost/trilux-prezentacny-den/
LOCATION:HAGARD:HAL Trnava\, Zavarská 10/E\, Trnava\, 917 00
CATEGORIES:Prezentačný deň
ATTACH;FMTTYPE=image/jpeg:https://blog.hagard.sk/wp-content/uploads/2024/04/pd_Trilux_2024_.jpg
END:VEVENT
BEGIN:VEVENT
DTSTART;TZID=Europe/Bratislava:20240416T080000
DTEND;TZID=Europe/Bratislava:20240416T140000
DTSTAMP:20260426T040902
CREATED:20240326T163249Z
LAST-MODIFIED:20240326T163250Z
UID:1872-1713254400-1713276000@blog.hagard.sk
SUMMARY:ARKYS prezentačný deň
DESCRIPTION:Vážení zákazníci\,radi by sme vás pozvali na prezentáciu káblových nosných systémov MERKUR\, LINEAR a POLAR. Prezentácia sa bude konať v predajných priestoroch pobočky. Predstavíme Vám novinky v našom sortimente. \n\n\n\n\n\n\n\n\n\n\n\nPozývame Vás na prezentáciu systémov káblových trás MERKUR\, LINEAR a POLAR\, ktoré predstavujú komplexné a ucelené riešenia pre inštaláciu\, spĺňajúce najvyššie požiadavky na bezpečnosť\, efektivitu\, funkčnosť a kvalitu. Príďte sa osobne presvedčiť o ich výhodách a tipoch na využitie. Naši odborníci Vám budú k dispozícii. Súčasťou prezentačnej akcie je občerstvenie.
URL:https://blog.hagard.sk/udalost/arkys-prezentacny-den-12/
LOCATION:HAGARD:HAL Trnava\, Zavarská 10/E\, Trnava\, 917 00
CATEGORIES:Prezentačný deň
ATTACH;FMTTYPE=image/jpeg:https://blog.hagard.sk/wp-content/uploads/2024/02/pd_arkys_2024.jpg
END:VEVENT
BEGIN:VEVENT
DTSTART;TZID=Europe/Bratislava:20240416T100000
DTEND;TZID=Europe/Bratislava:20240416T140000
DTSTAMP:20260426T040902
CREATED:20240411T074103Z
LAST-MODIFIED:20240411T074104Z
UID:1948-1713261600-1713276000@blog.hagard.sk
SUMMARY:TRILUX prezentačný deň
DESCRIPTION:SPOZNAJTE SVET SVIETIDIEL TRILUX-TWENTY3\n\n\n\nVážení zákazníci\, \n\n\n\ntáto prezentácia Vám ponúkne možnosť spoznať svet svietidiel TRILUX – twenty3\, ktoré sú navrhnuté tak\, aby spĺňali všetky potreby profesionálneho osvetlenia v každodennej prevádzke. Súčasťou prezentačnej akcie je aj malé občerstvenie. \n\n\n\nNenechajte si ujsť túto jedinečnú príležitosť dozvedieť sa viac o najnovších trendoch a inováciách v oblasti osvetlenia\, ktoré môžu prispieť k úspechu vašich projektov. \n\n\n\nTešíme sa na Vás!Tím TRILUX Slovakia s.r.o.
URL:https://blog.hagard.sk/udalost/trilux-prezentacny-den-2/
LOCATION:HAGARD:HAL Piešťany\, A. Hlinku 15/4430\, Piešťany\, 921 01
CATEGORIES:Prezentačný deň
ATTACH;FMTTYPE=image/jpeg:https://blog.hagard.sk/wp-content/uploads/2024/04/pd_Trilux_2024_.jpg
END:VEVENT
BEGIN:VEVENT
DTSTART;TZID=Europe/Bratislava:20240417T070000
DTEND;TZID=Europe/Bratislava:20240417T140000
DTSTAMP:20260426T040902
CREATED:20240412T070116Z
LAST-MODIFIED:20240412T070957Z
UID:1998-1713337200-1713362400@blog.hagard.sk
SUMMARY:Hager prezentačný deň
DESCRIPTION:Novinky v sortimente :hager\n\n\n\nVážení zákazníci\,srdečne Vás pozývame na prezentáciu noviniek zo sortimentu HAGER\, predovšetkým rozvodníc a inštalačných prístrojov vrátane bezskrutkovej verzie „quickconnect“\, systému pre ukladanie vedení\,  riešenia Hager pre fotovoltiku\, domových elektroinštalačných prístrojov rady „lumina“\, „berker“ a nových nabíjacích staníc (EVCS). \n\n\n\n\n\n\n\n\n\n\n\n\n\n\n\nNa stretnutie s Vami sa teší tím Hager Elektro. \n\n\n\n\n\nLubomir PetrovičMobil: +420 74 932 064 \n\n\n\n\n\nIng. Michal BalážMobil: +420 724 819 064
URL:https://blog.hagard.sk/udalost/hager-prezentacny-den/
LOCATION:HAGARD:HAL Nové Zámky\, Dvorská cesta 23\, Nové Zámky\, 940 02
CATEGORIES:Prezentačný deň
ATTACH;FMTTYPE=image/jpeg:https://blog.hagard.sk/wp-content/uploads/2024/04/pd_Hager_2024.jpg
END:VEVENT
BEGIN:VEVENT
DTSTART;TZID=Europe/Bratislava:20240417T070000
DTEND;TZID=Europe/Bratislava:20240417T140000
DTSTAMP:20260426T040902
CREATED:20240412T085620Z
LAST-MODIFIED:20240412T085621Z
UID:2010-1713337200-1713362400@blog.hagard.sk
SUMMARY:Hager prezentačný deň
DESCRIPTION:Novinky v sortimente :hager\n\n\n\nVážení zákazníci\,srdečne Vás pozývame na prezentáciu noviniek zo sortimentu HAGER\, predovšetkým rozvodníc a inštalačných prístrojov vrátane bezskrutkovej verzie „quickconnect“\, systému pre ukladanie vedení\,  riešenia Hager pre fotovoltiku\, domových elektroinštalačných prístrojov rady „lumina“\, „berker“ a nových nabíjacích staníc (EVCS). \n\n\n\n\n\n\n\n\n\n\n\n\n\n\n\nNa stretnutie s Vami sa teší tím Hager Elektro. \n\n\n\n\n\nLubomir PetrovičMobil: +420 74 932 064 \n\n\n\n\n\nIng. Michal BalážMobil: +420 724 819 064
URL:https://blog.hagard.sk/udalost/hager-prezentacny-den-3/
LOCATION:HAGARD:HAL Bratislava\, Ivánska cesta 34\, Mokráň Záhon\, Bratislava\, 82104
CATEGORIES:Prezentačný deň
ATTACH;FMTTYPE=image/jpeg:https://blog.hagard.sk/wp-content/uploads/2024/04/pd_Hager_2024.jpg
END:VEVENT
BEGIN:VEVENT
DTSTART;TZID=Europe/Bratislava:20240418T070000
DTEND;TZID=Europe/Bratislava:20240418T140000
DTSTAMP:20260426T040902
CREATED:20240412T071303Z
LAST-MODIFIED:20240412T071304Z
UID:2007-1713423600-1713448800@blog.hagard.sk
SUMMARY:Hager prezentačný deň
DESCRIPTION:Novinky v sortimente :hager\n\n\n\nVážení zákazníci\,srdečne Vás pozývame na prezentáciu noviniek zo sortimentu HAGER\, predovšetkým rozvodníc a inštalačných prístrojov vrátane bezskrutkovej verzie „quickconnect“\, systému pre ukladanie vedení\,  riešenia Hager pre fotovoltiku\, domových elektroinštalačných prístrojov rady „lumina“\, „berker“ a nových nabíjacích staníc (EVCS). \n\n\n\n\n\n\n\n\n\n\n\n\n\n\n\nNa stretnutie s Vami sa teší tím Hager Elektro. \n\n\n\n\n\nLubomir PetrovičMobil: +420 74 932 064 \n\n\n\n\n\nIng. Michal BalážMobil: +420 724 819 064
URL:https://blog.hagard.sk/udalost/hager-prezentacny-den-2/
LOCATION:HAGARD:HAL Žilina\, Kvačalova 782/11\, Žilina - Závodie\, 010 04
CATEGORIES:Prezentačný deň
ATTACH;FMTTYPE=image/jpeg:https://blog.hagard.sk/wp-content/uploads/2024/04/pd_Hager_2024.jpg
END:VEVENT
BEGIN:VEVENT
DTSTART;TZID=Europe/Bratislava:20240418T070000
DTEND;TZID=Europe/Bratislava:20240418T140000
DTSTAMP:20260426T040902
CREATED:20240412T085740Z
LAST-MODIFIED:20240412T085741Z
UID:2012-1713423600-1713448800@blog.hagard.sk
SUMMARY:Hager prezentačný deň
DESCRIPTION:Novinky v sortimente :hager\n\n\n\nVážení zákazníci\,srdečne Vás pozývame na prezentáciu noviniek zo sortimentu HAGER\, predovšetkým rozvodníc a inštalačných prístrojov vrátane bezskrutkovej verzie „quickconnect“\, systému pre ukladanie vedení\,  riešenia Hager pre fotovoltiku\, domových elektroinštalačných prístrojov rady „lumina“\, „berker“ a nových nabíjacích staníc (EVCS). \n\n\n\n\n\n\n\n\n\n\n\n\n\n\n\nNa stretnutie s Vami sa teší tím Hager Elektro. \n\n\n\n\n\nLubomir PetrovičMobil: +420 74 932 064 \n\n\n\n\n\nIng. Michal BalážMobil: +420 724 819 064
URL:https://blog.hagard.sk/udalost/hager-prezentacny-den-4/
LOCATION:HAGARD:HAL Trenčín\, Zlatovská 33\, Trenčín - Zlatovce\, 911 05
CATEGORIES:Prezentačný deň
ATTACH;FMTTYPE=image/jpeg:https://blog.hagard.sk/wp-content/uploads/2024/04/pd_Hager_2024.jpg
END:VEVENT
BEGIN:VEVENT
DTSTART;TZID=Europe/Bratislava:20240418T080000
DTEND;TZID=Europe/Bratislava:20240418T140000
DTSTAMP:20260426T040902
CREATED:20240326T163506Z
LAST-MODIFIED:20240326T163507Z
UID:1874-1713427200-1713448800@blog.hagard.sk
SUMMARY:ARKYS prezentačný deň
DESCRIPTION:Vážení zákazníci\,radi by sme vás pozvali na prezentáciu káblových nosných systémov MERKUR\, LINEAR a POLAR. Prezentácia sa bude konať v predajných priestoroch pobočky. Predstavíme Vám novinky v našom sortimente. \n\n\n\n\n\n\n\n\n\n\n\nPozývame Vás na prezentáciu systémov káblových trás MERKUR\, LINEAR a POLAR\, ktoré predstavujú komplexné a ucelené riešenia pre inštaláciu\, spĺňajúce najvyššie požiadavky na bezpečnosť\, efektivitu\, funkčnosť a kvalitu. Príďte sa osobne presvedčiť o ich výhodách a tipoch na využitie. Naši odborníci Vám budú k dispozícii. Súčasťou prezentačnej akcie je občerstvenie.
URL:https://blog.hagard.sk/udalost/arkys-prezentacny-den-13/
LOCATION:HAGARD:HAL Košice\, Holubyho 12\, Košice\, 040 01
CATEGORIES:Prezentačný deň
ATTACH;FMTTYPE=image/jpeg:https://blog.hagard.sk/wp-content/uploads/2024/02/pd_arkys_2024.jpg
END:VEVENT
BEGIN:VEVENT
DTSTART;TZID=Europe/Bratislava:20240422T080000
DTEND;TZID=Europe/Bratislava:20240422T150000
DTSTAMP:20260426T040902
CREATED:20240409T191417Z
LAST-MODIFIED:20240409T191418Z
UID:1921-1713772800-1713798000@blog.hagard.sk
SUMMARY:MOREK prezentačný deň
DESCRIPTION:Vážení zákazníci\,pozývame Vás na prezentáciu v našom mobilnom showroome\, kde Vám predstavíme naše portfólio produktov vrátane noviniek v sortimente.
URL:https://blog.hagard.sk/udalost/morek-prezentacny-den/
LOCATION:HAGARD:HAL Prešov\, Budovateľská 50\, Prešov\, 080 01
CATEGORIES:Prezentačný deň
ATTACH;FMTTYPE=image/jpeg:https://blog.hagard.sk/wp-content/uploads/2024/04/pd_Morek_2024.jpg
END:VEVENT
BEGIN:VEVENT
DTSTART;TZID=Europe/Bratislava:20240423T070000
DTEND;TZID=Europe/Bratislava:20240423T140000
DTSTAMP:20260426T040902
CREATED:20240422T112722Z
LAST-MODIFIED:20240422T112723Z
UID:2048-1713855600-1713880800@blog.hagard.sk
SUMMARY:Hager prezentačný deň
DESCRIPTION:Novinky v sortimente :hager\n\n\n\nVážení zákazníci\,srdečne Vás pozývame na prezentáciu noviniek zo sortimentu HAGER\, predovšetkým rozvodníc a inštalačných prístrojov vrátane bezskrutkovej verzie „quickconnect“\, systému pre ukladanie vedení\,  riešenia Hager pre fotovoltiku\, domových elektroinštalačných prístrojov rady „lumina“\, „berker“ a nových nabíjacích staníc (EVCS). \n\n\n\n\n\n\n\n\n\n\n\n\n\n\n\nNa stretnutie s Vami sa teší tím Hager Elektro. \n\n\n\n\n\nLubomir PetrovičMobil: +420 74 932 064 \n\n\n\n\n\nIng. Michal BalážMobil: +420 724 819 064
URL:https://blog.hagard.sk/udalost/hager-prezentacny-den-17/
LOCATION:HAGARD:HAL Zvolen\, Tulská 9227/2\, Zvolen\, 960 01
CATEGORIES:Prezentačný deň
ATTACH;FMTTYPE=image/jpeg:https://blog.hagard.sk/wp-content/uploads/2024/04/pd_Hager_2024.jpg
END:VEVENT
BEGIN:VEVENT
DTSTART;TZID=Europe/Bratislava:20240423T073000
DTEND;TZID=Europe/Bratislava:20240423T130000
DTSTAMP:20260426T040902
CREATED:20240409T172552Z
LAST-MODIFIED:20240409T172604Z
UID:1916-1713857400-1713877200@blog.hagard.sk
SUMMARY:EMOS prezentačný deň
DESCRIPTION:Vážení zákazníci\,pozývame Vás na prezentáciu s raňajkami\, kde vám predstavíme novinky LIGHTING\, MONITOROVACEJ TECHNIKY a produkty inteligentnej domácnosti.
URL:https://blog.hagard.sk/udalost/1916/
LOCATION:HAGARD:HAL Nitra\, Pražská 9\, Nitra - Mlynárce\, 949 11
CATEGORIES:Prezentačný deň
ATTACH;FMTTYPE=image/jpeg:https://blog.hagard.sk/wp-content/uploads/2024/04/pd_emos_2024.jpg
END:VEVENT
BEGIN:VEVENT
DTSTART;TZID=Europe/Bratislava:20240423T080000
DTEND;TZID=Europe/Bratislava:20240423T150000
DTSTAMP:20260426T040902
CREATED:20240409T191652Z
LAST-MODIFIED:20240409T191723Z
UID:1924-1713859200-1713884400@blog.hagard.sk
SUMMARY:MOREK prezentačný deň
DESCRIPTION:Vážení zákazníci\,pozývame Vás na prezentáciu v našom mobilnom showroome\, kde Vám predstavíme naše portfólio produktov vrátane noviniek v sortimente.
URL:https://blog.hagard.sk/udalost/morek-prezentacny-den-2/
LOCATION:HAGARD:HAL Košice\, Holubyho 12\, Košice\, 040 01
CATEGORIES:Prezentačný deň
ATTACH;FMTTYPE=image/jpeg:https://blog.hagard.sk/wp-content/uploads/2024/04/pd_Morek_2024.jpg
END:VEVENT
BEGIN:VEVENT
DTSTART;TZID=Europe/Bratislava:20240423T100000
DTEND;TZID=Europe/Bratislava:20240423T140000
DTSTAMP:20260426T040902
CREATED:20240411T074242Z
LAST-MODIFIED:20240411T074243Z
UID:1951-1713866400-1713880800@blog.hagard.sk
SUMMARY:TRILUX prezentačný deň
DESCRIPTION:SPOZNAJTE SVET SVIETIDIEL TRILUX-TWENTY3\n\n\n\nVážení zákazníci\, \n\n\n\ntáto prezentácia Vám ponúkne možnosť spoznať svet svietidiel TRILUX – twenty3\, ktoré sú navrhnuté tak\, aby spĺňali všetky potreby profesionálneho osvetlenia v každodennej prevádzke. Súčasťou prezentačnej akcie je aj malé občerstvenie. \n\n\n\nNenechajte si ujsť túto jedinečnú príležitosť dozvedieť sa viac o najnovších trendoch a inováciách v oblasti osvetlenia\, ktoré môžu prispieť k úspechu vašich projektov. \n\n\n\nTešíme sa na Vás!Tím TRILUX Slovakia s.r.o.
URL:https://blog.hagard.sk/udalost/trilux-prezentacny-den-3/
LOCATION:HAGARD:HAL Trenčín\, Zlatovská 33\, Trenčín - Zlatovce\, 911 05
CATEGORIES:Prezentačný deň
ATTACH;FMTTYPE=image/jpeg:https://blog.hagard.sk/wp-content/uploads/2024/04/pd_Trilux_2024_.jpg
END:VEVENT
BEGIN:VEVENT
DTSTART;TZID=Europe/Bratislava:20240424T070000
DTEND;TZID=Europe/Bratislava:20240424T140000
DTSTAMP:20260426T040902
CREATED:20240422T111209Z
LAST-MODIFIED:20240422T111210Z
UID:2038-1713942000-1713967200@blog.hagard.sk
SUMMARY:Hager prezentačný deň
DESCRIPTION:Novinky v sortimente :hager\n\n\n\nVážení zákazníci\,srdečne Vás pozývame na prezentáciu noviniek zo sortimentu HAGER\, predovšetkým rozvodníc a inštalačných prístrojov vrátane bezskrutkovej verzie „quickconnect“\, systému pre ukladanie vedení\,  riešenia Hager pre fotovoltiku\, domových elektroinštalačných prístrojov rady „lumina“\, „berker“ a nových nabíjacích staníc (EVCS). \n\n\n\n\n\n\n\n\n\n\n\n\n\n\n\nNa stretnutie s Vami sa teší tím Hager Elektro. \n\n\n\n\n\nLubomir PetrovičMobil: +420 74 932 064 \n\n\n\n\n\nIng. Michal BalážMobil: +420 724 819 064
URL:https://blog.hagard.sk/udalost/hager-prezentacny-den-12/
LOCATION:HAGARD:HAL Poprad\, Teplická 34\, Poprad\, 058 01
CATEGORIES:Prezentačný deň
ATTACH;FMTTYPE=image/jpeg:https://blog.hagard.sk/wp-content/uploads/2024/04/pd_Hager_2024.jpg
END:VEVENT
BEGIN:VEVENT
DTSTART;TZID=Europe/Bratislava:20240424T070000
DTEND;TZID=Europe/Bratislava:20240424T140000
DTSTAMP:20260426T040902
CREATED:20240422T111451Z
LAST-MODIFIED:20240422T111452Z
UID:2040-1713942000-1713967200@blog.hagard.sk
SUMMARY:Hager prezentačný deň
DESCRIPTION:Novinky v sortimente :hager\n\n\n\nVážení zákazníci\,srdečne Vás pozývame na prezentáciu noviniek zo sortimentu HAGER\, predovšetkým rozvodníc a inštalačných prístrojov vrátane bezskrutkovej verzie „quickconnect“\, systému pre ukladanie vedení\,  riešenia Hager pre fotovoltiku\, domových elektroinštalačných prístrojov rady „lumina“\, „berker“ a nových nabíjacích staníc (EVCS). \n\n\n\n\n\n\n\n\n\n\n\n\n\n\n\nNa stretnutie s Vami sa teší tím Hager Elektro. \n\n\n\n\n\nLubomir PetrovičMobil: +420 74 932 064 \n\n\n\n\n\nIng. Michal BalážMobil: +420 724 819 064
URL:https://blog.hagard.sk/udalost/hager-prezentacny-den-13/
LOCATION:HAGARD:HAL Prešov\, Budovateľská 50\, Prešov\, 080 01
CATEGORIES:Prezentačný deň
ATTACH;FMTTYPE=image/jpeg:https://blog.hagard.sk/wp-content/uploads/2024/04/pd_Hager_2024.jpg
END:VEVENT
BEGIN:VEVENT
DTSTART;TZID=Europe/Bratislava:20240424T080000
DTEND;TZID=Europe/Bratislava:20240424T150000
DTSTAMP:20260426T040902
CREATED:20240409T191853Z
LAST-MODIFIED:20240409T191854Z
UID:1927-1713945600-1713970800@blog.hagard.sk
SUMMARY:MOREK prezentačný deň
DESCRIPTION:Vážení zákazníci\,pozývame Vás na prezentáciu v našom mobilnom showroome\, kde Vám predstavíme naše portfólio produktov vrátane noviniek v sortimente.
URL:https://blog.hagard.sk/udalost/morek-prezentacny-den-3/
LOCATION:HAGARD:HAL Michalovce\, Močarianska 3582/1\, Michalovce\, 071 01
CATEGORIES:Prezentačný deň
ATTACH;FMTTYPE=image/jpeg:https://blog.hagard.sk/wp-content/uploads/2024/04/pd_Morek_2024.jpg
END:VEVENT
BEGIN:VEVENT
DTSTART;TZID=Europe/Bratislava:20240424T100000
DTEND;TZID=Europe/Bratislava:20240424T140000
DTSTAMP:20260426T040902
CREATED:20240411T081939Z
LAST-MODIFIED:20240411T081940Z
UID:1953-1713952800-1713967200@blog.hagard.sk
SUMMARY:TRILUX prezentačný deň
DESCRIPTION:SPOZNAJTE SVET SVIETIDIEL TRILUX-TWENTY3\n\n\n\nVážení zákazníci\, \n\n\n\ntáto prezentácia Vám ponúkne možnosť spoznať svet svietidiel TRILUX – twenty3\, ktoré sú navrhnuté tak\, aby spĺňali všetky potreby profesionálneho osvetlenia v každodennej prevádzke. Súčasťou prezentačnej akcie je aj malé občerstvenie. \n\n\n\nNenechajte si ujsť túto jedinečnú príležitosť dozvedieť sa viac o najnovších trendoch a inováciách v oblasti osvetlenia\, ktoré môžu prispieť k úspechu vašich projektov. \n\n\n\nTešíme sa na Vás!Tím TRILUX Slovakia s.r.o.
URL:https://blog.hagard.sk/udalost/trilux-prezentacny-den-4/
LOCATION:HAGARD:HAL Žilina\, Kvačalova 782/11\, Žilina - Závodie\, 010 04
CATEGORIES:Prezentačný deň
ATTACH;FMTTYPE=image/jpeg:https://blog.hagard.sk/wp-content/uploads/2024/04/pd_Trilux_2024_.jpg
END:VEVENT
BEGIN:VEVENT
DTSTART;TZID=Europe/Bratislava:20240425T070000
DTEND;TZID=Europe/Bratislava:20240425T140000
DTSTAMP:20260426T040902
CREATED:20240422T091908Z
LAST-MODIFIED:20240422T092515Z
UID:2027-1714028400-1714053600@blog.hagard.sk
SUMMARY:Hager prezentačný deň
DESCRIPTION:Novinky v sortimente :hager\n\n\n\nVážení zákazníci\,srdečne Vás pozývame na prezentáciu noviniek zo sortimentu HAGER\, predovšetkým rozvodníc a inštalačných prístrojov vrátane bezskrutkovej verzie „quickconnect“\, systému pre ukladanie vedení\,  riešenia Hager pre fotovoltiku\, domových elektroinštalačných prístrojov rady „lumina“\, „berker“ a nových nabíjacích staníc (EVCS). \n\n\n\n\n\n\n\n\n\n\n\n\n\n\n\nNa stretnutie s Vami sa teší tím Hager Elektro. \n\n\n\n\n\nLubomir PetrovičMobil: +420 74 932 064 \n\n\n\n\n\nIng. Michal BalážMobil: +420 724 819 064
URL:https://blog.hagard.sk/udalost/hager-prezentacny-den-7/
LOCATION:HAGARD:HAL Košice\, Holubyho 12\, Košice\, 040 01
CATEGORIES:Prezentačný deň
ATTACH;FMTTYPE=image/jpeg:https://blog.hagard.sk/wp-content/uploads/2024/04/pd_Hager_2024.jpg
END:VEVENT
BEGIN:VEVENT
DTSTART;TZID=Europe/Bratislava:20240425T080000
DTEND;TZID=Europe/Bratislava:20240425T150000
DTSTAMP:20260426T040902
CREATED:20240409T192044Z
LAST-MODIFIED:20240409T192045Z
UID:1929-1714032000-1714057200@blog.hagard.sk
SUMMARY:MOREK prezentačný deň
DESCRIPTION:Vážení zákazníci\,pozývame Vás na prezentáciu v našom mobilnom showroome\, kde Vám predstavíme naše portfólio produktov vrátane noviniek v sortimente.
URL:https://blog.hagard.sk/udalost/morek-prezentacny-den-4/
LOCATION:HAGARD:HAL Humenné\, Tolstého 1\, Humenné\, 066 01
CATEGORIES:Prezentačný deň
ATTACH;FMTTYPE=image/jpeg:https://blog.hagard.sk/wp-content/uploads/2024/04/pd_Morek_2024.jpg
END:VEVENT
BEGIN:VEVENT
DTSTART;TZID=Europe/Bratislava:20240426T080000
DTEND;TZID=Europe/Bratislava:20240426T150000
DTSTAMP:20260426T040902
CREATED:20240409T192223Z
LAST-MODIFIED:20240409T192224Z
UID:1931-1714118400-1714143600@blog.hagard.sk
SUMMARY:MOREK prezentačný deň
DESCRIPTION:Vážení zákazníci\,pozývame Vás na prezentáciu v našom mobilnom showroome\, kde Vám predstavíme naše portfólio produktov vrátane noviniek v sortimente.
URL:https://blog.hagard.sk/udalost/morek-prezentacny-den-5/
LOCATION:HAGARD:HAL Poprad\, Teplická 34\, Poprad\, 058 01
CATEGORIES:Prezentačný deň
ATTACH;FMTTYPE=image/jpeg:https://blog.hagard.sk/wp-content/uploads/2024/04/pd_Morek_2024.jpg
END:VEVENT
BEGIN:VEVENT
DTSTART;TZID=Europe/Bratislava:20240429T070000
DTEND;TZID=Europe/Bratislava:20240429T140000
DTSTAMP:20260426T040902
CREATED:20240422T102415Z
LAST-MODIFIED:20240422T102416Z
UID:2036-1714374000-1714399200@blog.hagard.sk
SUMMARY:Hager prezentačný deň
DESCRIPTION:Novinky v sortimente :hager\n\n\n\nVážení zákazníci\,srdečne Vás pozývame na prezentáciu noviniek zo sortimentu HAGER\, predovšetkým rozvodníc a inštalačných prístrojov vrátane bezskrutkovej verzie „quickconnect“\, systému pre ukladanie vedení\,  riešenia Hager pre fotovoltiku\, domových elektroinštalačných prístrojov rady „lumina“\, „berker“ a nových nabíjacích staníc (EVCS). \n\n\n\n\n\n\n\n\n\n\n\n\n\n\n\nNa stretnutie s Vami sa teší tím Hager Elektro. \n\n\n\n\n\nLubomir PetrovičMobil: +420 74 932 064 \n\n\n\n\n\nIng. Michal BalážMobil: +420 724 819 064
URL:https://blog.hagard.sk/udalost/hager-prezentacny-den-11/
LOCATION:HAGARD:HAL Piešťany\, A. Hlinku 15/4430\, Piešťany\, 921 01
CATEGORIES:Prezentačný deň
ATTACH;FMTTYPE=image/jpeg:https://blog.hagard.sk/wp-content/uploads/2024/04/pd_Hager_2024.jpg
END:VEVENT
END:VCALENDAR