BEGIN:VCALENDAR
VERSION:2.0
PRODID:-//HAGARD:HAL BLOG - ECPv6.15.20//NONSGML v1.0//EN
CALSCALE:GREGORIAN
METHOD:PUBLISH
X-WR-CALNAME:HAGARD:HAL BLOG
X-ORIGINAL-URL:https://blog.hagard.sk
X-WR-CALDESC:Udalosti pre HAGARD:HAL BLOG
REFRESH-INTERVAL;VALUE=DURATION:PT1H
X-Robots-Tag:noindex
X-PUBLISHED-TTL:PT1H
BEGIN:VTIMEZONE
TZID:Europe/Bratislava
BEGIN:DAYLIGHT
TZOFFSETFROM:+0100
TZOFFSETTO:+0200
TZNAME:CEST
DTSTART:20240331T010000
END:DAYLIGHT
BEGIN:STANDARD
TZOFFSETFROM:+0200
TZOFFSETTO:+0100
TZNAME:CET
DTSTART:20241027T010000
END:STANDARD
BEGIN:DAYLIGHT
TZOFFSETFROM:+0100
TZOFFSETTO:+0200
TZNAME:CEST
DTSTART:20250330T010000
END:DAYLIGHT
BEGIN:STANDARD
TZOFFSETFROM:+0200
TZOFFSETTO:+0100
TZNAME:CET
DTSTART:20251026T010000
END:STANDARD
BEGIN:DAYLIGHT
TZOFFSETFROM:+0100
TZOFFSETTO:+0200
TZNAME:CEST
DTSTART:20260329T010000
END:DAYLIGHT
BEGIN:STANDARD
TZOFFSETFROM:+0200
TZOFFSETTO:+0100
TZNAME:CET
DTSTART:20261025T010000
END:STANDARD
END:VTIMEZONE
BEGIN:VEVENT
DTSTART;TZID=Europe/Bratislava:20250902T070000
DTEND;TZID=Europe/Bratislava:20250902T140000
DTSTAMP:20260425T033327
CREATED:20250901T071129Z
LAST-MODIFIED:20250901T071131Z
UID:3102-1756796400-1756821600@blog.hagard.sk
SUMMARY:Brother prezentačný deň
DESCRIPTION:Vážení zákazníci\,radi by sme vás pozvali na prezentáciu\, ktorá sa bude konať v predajných priestoroch pobočky. Pripravili sme pre vás novinky v našom sortimente a taktiež malé občerstvenie.
URL:https://blog.hagard.sk/udalost/brother-prezentacny-den-2/
LOCATION:HAGARD:HAL Trenčín\, Zlatovská 33\, Trenčín - Zlatovce\, 911 05
CATEGORIES:Prezentačný deň
ATTACH;FMTTYPE=image/jpeg:https://blog.hagard.sk/wp-content/uploads/2025/09/pd_brother_2025.jpg
END:VEVENT
BEGIN:VEVENT
DTSTART;TZID=Europe/Bratislava:20250903T070000
DTEND;TZID=Europe/Bratislava:20250903T140000
DTSTAMP:20260425T033327
CREATED:20250901T070633Z
LAST-MODIFIED:20250901T070635Z
UID:3098-1756882800-1756908000@blog.hagard.sk
SUMMARY:Brother prezentačný deň
DESCRIPTION:Vážení zákazníci\,radi by sme vás pozvali na prezentáciu\, ktorá sa bude konať v predajných priestoroch pobočky. Pripravili sme pre vás novinky v našom sortimente a taktiež malé občerstvenie.
URL:https://blog.hagard.sk/udalost/brother-prezentacny-den/
LOCATION:HAGARD:HAL Bratislava\, Ivánska cesta 34\, Mokráň Záhon\, Bratislava\, 82104
CATEGORIES:Prezentačný deň
ATTACH;FMTTYPE=image/jpeg:https://blog.hagard.sk/wp-content/uploads/2025/09/pd_brother_2025.jpg
END:VEVENT
BEGIN:VEVENT
DTSTART;TZID=Europe/Bratislava:20250904T070000
DTEND;TZID=Europe/Bratislava:20250904T140000
DTSTAMP:20260425T033327
CREATED:20250901T072746Z
LAST-MODIFIED:20250901T072747Z
UID:3105-1756969200-1756994400@blog.hagard.sk
SUMMARY:Brother prezentačný deň
DESCRIPTION:Vážení zákazníci\,radi by sme vás pozvali na prezentáciu\, ktorá sa bude konať v predajných priestoroch pobočky. Pripravili sme pre vás novinky v našom sortimente a taktiež malé občerstvenie.
URL:https://blog.hagard.sk/udalost/brother-prezentacny-den-3/
LOCATION:HAGARD:HAL Nitra\, Pražská 9\, Nitra - Mlynárce\, 949 11
CATEGORIES:Prezentačný deň
ATTACH;FMTTYPE=image/jpeg:https://blog.hagard.sk/wp-content/uploads/2025/09/pd_brother_2025.jpg
END:VEVENT
BEGIN:VEVENT
DTSTART;TZID=Europe/Bratislava:20250905T070000
DTEND;TZID=Europe/Bratislava:20250905T140000
DTSTAMP:20260425T033327
CREATED:20250901T073907Z
LAST-MODIFIED:20250901T073908Z
UID:3107-1757055600-1757080800@blog.hagard.sk
SUMMARY:Brother prezentačný deň
DESCRIPTION:Vážení zákazníci\,radi by sme vás pozvali na prezentáciu\, ktorá sa bude konať v predajných priestoroch pobočky. Pripravili sme pre vás novinky v našom sortimente a taktiež malé občerstvenie.
URL:https://blog.hagard.sk/udalost/brother-prezentacny-den-4/
LOCATION:HAGARD:HAL Žilina\, Kvačalova 782/11\, Žilina - Závodie\, 010 04
CATEGORIES:Prezentačný deň
ATTACH;FMTTYPE=image/jpeg:https://blog.hagard.sk/wp-content/uploads/2025/09/pd_brother_2025.jpg
END:VEVENT
BEGIN:VEVENT
DTSTART;TZID=Europe/Bratislava:20250922T070000
DTEND;TZID=Europe/Bratislava:20250922T140000
DTSTAMP:20260425T033327
CREATED:20250901T080239Z
LAST-MODIFIED:20250901T080240Z
UID:3110-1758524400-1758549600@blog.hagard.sk
SUMMARY:Brother prezentačný deň
DESCRIPTION:Vážení zákazníci\,radi by sme vás pozvali na prezentáciu\, ktorá sa bude konať v predajných priestoroch pobočky. Pripravili sme pre vás novinky v našom sortimente a taktiež malé občerstvenie.
URL:https://blog.hagard.sk/udalost/brother-prezentacny-den-5/
LOCATION:HAGARD:HAL Košice\, Holubyho 12\, Košice\, 040 01
CATEGORIES:Prezentačný deň
ATTACH;FMTTYPE=image/jpeg:https://blog.hagard.sk/wp-content/uploads/2025/09/pd_brother_2025.jpg
END:VEVENT
BEGIN:VEVENT
DTSTART;TZID=Europe/Bratislava:20250923T070000
DTEND;TZID=Europe/Bratislava:20250923T140000
DTSTAMP:20260425T033327
CREATED:20250901T080506Z
LAST-MODIFIED:20250901T080507Z
UID:3113-1758610800-1758636000@blog.hagard.sk
SUMMARY:Brother prezentačný deň
DESCRIPTION:Vážení zákazníci\,radi by sme vás pozvali na prezentáciu\, ktorá sa bude konať v predajných priestoroch pobočky. Pripravili sme pre vás novinky v našom sortimente a taktiež malé občerstvenie.
URL:https://blog.hagard.sk/udalost/brother-prezentacny-den-6/
LOCATION:HAGARD:HAL Prešov\, Budovateľská 50\, Prešov\, 080 01
CATEGORIES:Prezentačný deň
ATTACH;FMTTYPE=image/jpeg:https://blog.hagard.sk/wp-content/uploads/2025/09/pd_brother_2025.jpg
END:VEVENT
BEGIN:VEVENT
DTSTART;TZID=Europe/Bratislava:20250923T080000
DTEND;TZID=Europe/Bratislava:20250923T140000
DTSTAMP:20260425T033327
CREATED:20250901T083030Z
LAST-MODIFIED:20250901T083031Z
UID:3117-1758614400-1758636000@blog.hagard.sk
SUMMARY:Obo Bettermann prezentačný deň
DESCRIPTION:Vážení zákazníci\,radi by sme vás pozvali na prezentáciu výrobného sortimentu OBO BETTERMANN\, ktorá sa bude konať v predajných priestoroch pobočky. Predstavíme Vám novinky v našom sortimente.
URL:https://blog.hagard.sk/udalost/obo-bettermann-prezentacny-den-13/
LOCATION:HAGARD:HAL Michalovce\, Močarianska 3582/1\, Michalovce\, 071 01
CATEGORIES:Prezentačný deň
ATTACH;FMTTYPE=image/jpeg:https://blog.hagard.sk/wp-content/uploads/2024/02/pd_obo_2024.jpg
END:VEVENT
BEGIN:VEVENT
DTSTART;TZID=Europe/Bratislava:20250924T070000
DTEND;TZID=Europe/Bratislava:20250924T140000
DTSTAMP:20260425T033327
CREATED:20250901T080704Z
LAST-MODIFIED:20250901T080705Z
UID:3115-1758697200-1758722400@blog.hagard.sk
SUMMARY:Brother prezentačný deň
DESCRIPTION:Vážení zákazníci\,radi by sme vás pozvali na prezentáciu\, ktorá sa bude konať v predajných priestoroch pobočky. Pripravili sme pre vás novinky v našom sortimente a taktiež malé občerstvenie.
URL:https://blog.hagard.sk/udalost/brother-prezentacny-den-7/
LOCATION:HAGARD:HAL Poprad\, Teplická 34\, Poprad\, 058 01
CATEGORIES:Prezentačný deň
ATTACH;FMTTYPE=image/jpeg:https://blog.hagard.sk/wp-content/uploads/2025/09/pd_brother_2025.jpg
END:VEVENT
BEGIN:VEVENT
DTSTART;TZID=Europe/Bratislava:20250924T080000
DTEND;TZID=Europe/Bratislava:20250924T140000
DTSTAMP:20260425T033327
CREATED:20250902T090659Z
LAST-MODIFIED:20250902T090700Z
UID:3120-1758700800-1758722400@blog.hagard.sk
SUMMARY:Obo Bettermann prezentačný deň
DESCRIPTION:Vážení zákazníci\,radi by sme vás pozvali na prezentáciu výrobného sortimentu OBO BETTERMANN\, ktorá sa bude konať v predajných priestoroch pobočky. Predstavíme Vám novinky v našom sortimente.
URL:https://blog.hagard.sk/udalost/obo-bettermann-prezentacny-den-14/
LOCATION:HAGARD:HAL Humenné\, Tolstého 1\, Humenné\, 066 01
CATEGORIES:Prezentačný deň
ATTACH;FMTTYPE=image/jpeg:https://blog.hagard.sk/wp-content/uploads/2024/02/pd_obo_2024.jpg
END:VEVENT
BEGIN:VEVENT
DTSTART;TZID=Europe/Bratislava:20250925T080000
DTEND;TZID=Europe/Bratislava:20250925T140000
DTSTAMP:20260425T033327
CREATED:20250902T091013Z
LAST-MODIFIED:20250902T091014Z
UID:3123-1758787200-1758808800@blog.hagard.sk
SUMMARY:Obo Bettermann prezentačný deň
DESCRIPTION:Vážení zákazníci\,radi by sme vás pozvali na prezentáciu výrobného sortimentu OBO BETTERMANN\, ktorá sa bude konať v predajných priestoroch pobočky. Predstavíme Vám novinky v našom sortimente.
URL:https://blog.hagard.sk/udalost/obo-bettermann-prezentacny-den-15/
LOCATION:HAGARD:HAL Košice\, Holubyho 12\, Košice\, 040 01
CATEGORIES:Prezentačný deň
ATTACH;FMTTYPE=image/jpeg:https://blog.hagard.sk/wp-content/uploads/2024/02/pd_obo_2024.jpg
END:VEVENT
BEGIN:VEVENT
DTSTART;TZID=Europe/Bratislava:20250926T080000
DTEND;TZID=Europe/Bratislava:20250926T140000
DTSTAMP:20260425T033327
CREATED:20250902T091641Z
LAST-MODIFIED:20250902T091643Z
UID:3125-1758873600-1758895200@blog.hagard.sk
SUMMARY:Obo Bettermann prezentačný deň
DESCRIPTION:Vážení zákazníci\,radi by sme vás pozvali na prezentáciu výrobného sortimentu OBO BETTERMANN\, ktorá sa bude konať v predajných priestoroch pobočky. Predstavíme Vám novinky v našom sortimente.
URL:https://blog.hagard.sk/udalost/obo-bettermann-prezentacny-den-16/
LOCATION:HAGARD:HAL Prešov\, Budovateľská 50\, Prešov\, 080 01
CATEGORIES:Prezentačný deň
ATTACH;FMTTYPE=image/jpeg:https://blog.hagard.sk/wp-content/uploads/2024/02/pd_obo_2024.jpg
END:VEVENT
BEGIN:VEVENT
DTSTART;TZID=Europe/Bratislava:20250930T080000
DTEND;TZID=Europe/Bratislava:20250930T150000
DTSTAMP:20260425T033327
CREATED:20250929T114326Z
LAST-MODIFIED:20250929T114327Z
UID:3182-1759219200-1759244400@blog.hagard.sk
SUMMARY:PHILIPS a PILA prezentačný deň
DESCRIPTION:Vážení zákazníci\,za nákup výrobkov PHILIPS a PILA si môžete počas prezentačného dňa vytočiť zaujímavú výhru.
URL:https://blog.hagard.sk/udalost/philips-a-pila-prezentacny-den/
LOCATION:Hagard:Hal Banská Bystrica\, Kremnička 51\, Banská Bystrica\, 974 05
CATEGORIES:Predajná akcia,Prezentačný deň
ATTACH;FMTTYPE=image/jpeg:https://blog.hagard.sk/wp-content/uploads/2025/09/pd_philips_pila_2025.jpg
END:VEVENT
END:VCALENDAR