BEGIN:VCALENDAR
VERSION:2.0
PRODID:-//HAGARD:HAL BLOG - ECPv6.15.20//NONSGML v1.0//EN
CALSCALE:GREGORIAN
METHOD:PUBLISH
X-WR-CALNAME:HAGARD:HAL BLOG
X-ORIGINAL-URL:https://blog.hagard.sk
X-WR-CALDESC:Udalosti pre HAGARD:HAL BLOG
REFRESH-INTERVAL;VALUE=DURATION:PT1H
X-Robots-Tag:noindex
X-PUBLISHED-TTL:PT1H
BEGIN:VTIMEZONE
TZID:Europe/Bratislava
BEGIN:DAYLIGHT
TZOFFSETFROM:+0100
TZOFFSETTO:+0200
TZNAME:CEST
DTSTART:20230326T010000
END:DAYLIGHT
BEGIN:STANDARD
TZOFFSETFROM:+0200
TZOFFSETTO:+0100
TZNAME:CET
DTSTART:20231029T010000
END:STANDARD
BEGIN:DAYLIGHT
TZOFFSETFROM:+0100
TZOFFSETTO:+0200
TZNAME:CEST
DTSTART:20240331T010000
END:DAYLIGHT
BEGIN:STANDARD
TZOFFSETFROM:+0200
TZOFFSETTO:+0100
TZNAME:CET
DTSTART:20241027T010000
END:STANDARD
BEGIN:DAYLIGHT
TZOFFSETFROM:+0100
TZOFFSETTO:+0200
TZNAME:CEST
DTSTART:20250330T010000
END:DAYLIGHT
BEGIN:STANDARD
TZOFFSETFROM:+0200
TZOFFSETTO:+0100
TZNAME:CET
DTSTART:20251026T010000
END:STANDARD
BEGIN:DAYLIGHT
TZOFFSETFROM:+0100
TZOFFSETTO:+0200
TZNAME:CEST
DTSTART:20260329T010000
END:DAYLIGHT
BEGIN:STANDARD
TZOFFSETFROM:+0200
TZOFFSETTO:+0100
TZNAME:CET
DTSTART:20261025T010000
END:STANDARD
END:VTIMEZONE
BEGIN:VEVENT
DTSTART;TZID=Europe/Bratislava:20250417T080000
DTEND;TZID=Europe/Bratislava:20250417T140000
DTSTAMP:20260425T171307
CREATED:20250413T190213Z
LAST-MODIFIED:20250413T190213Z
UID:2797-1744876800-1744898400@blog.hagard.sk
SUMMARY:E|S|T - prezentačný deň
DESCRIPTION:Vážení zákazníci\,radi by sme vás pozvali na prezentáciu\, ktorá sa bude konať v predajných priestoroch pobočky. Predstavíme Vám novinky v našom sortimente.
URL:https://blog.hagard.sk/udalost/est-prezentacny-den-38/
LOCATION:HAGARD:HAL Dolný Kubín\, Aleja Slobody 2236/15\, Dolný Kubín\, 026 01
CATEGORIES:Prezentačný deň
ATTACH;FMTTYPE=image/jpeg:https://blog.hagard.sk/wp-content/uploads/2025/03/pd_est_2025.jpg
END:VEVENT
BEGIN:VEVENT
DTSTART;TZID=Europe/Bratislava:20250417T080000
DTEND;TZID=Europe/Bratislava:20250417T140000
DTSTAMP:20260425T171307
CREATED:20250321T150126Z
LAST-MODIFIED:20250321T150127Z
UID:2734-1744876800-1744898400@blog.hagard.sk
SUMMARY:ARKYS prezentačný deň
DESCRIPTION:Vážení zákazníci\,radi by sme vás pozvali na prezentáciu káblových nosných systémov MERKUR\, LINEAR a POLAR. Prezentácia sa bude konať v predajných priestoroch pobočky. Predstavíme Vám novinky v našom sortimente. \n\n\n\n\n\n\n\n\n\n\n\nPozývame Vás na prezentáciu systémov káblových trás MERKUR\, LINEAR a POLAR\, ktoré predstavujú komplexné a ucelené riešenia pre inštaláciu\, spĺňajúce najvyššie požiadavky na bezpečnosť\, efektivitu\, funkčnosť a kvalitu. Príďte sa osobne presvedčiť o ich výhodách a tipoch na využitie. Naši odborníci Vám budú k dispozícii. Súčasťou prezentačnej akcie je občerstvenie.
URL:https://blog.hagard.sk/udalost/arkys-prezentacny-den-23/
LOCATION:HAGARD:HAL Trenčín\, Zlatovská 33\, Trenčín - Zlatovce\, 911 05
CATEGORIES:Prezentačný deň
ATTACH;FMTTYPE=image/png:https://blog.hagard.sk/wp-content/uploads/2024/02/pd_arkys_2024.png
END:VEVENT
BEGIN:VEVENT
DTSTART;TZID=Europe/Bratislava:20250416T080000
DTEND;TZID=Europe/Bratislava:20250416T140000
DTSTAMP:20260425T171307
CREATED:20250413T190005Z
LAST-MODIFIED:20250413T190248Z
UID:2794-1744790400-1744812000@blog.hagard.sk
SUMMARY:E|S|T - prezentačný deň
DESCRIPTION:Vážení zákazníci\,radi by sme vás pozvali na prezentáciu\, ktorá sa bude konať v predajných priestoroch pobočky. Predstavíme Vám novinky v našom sortimente.
URL:https://blog.hagard.sk/udalost/est-prezentacny-den-37/
LOCATION:HAGARD:HAL Martin\, Ulica pri Turci 24\, Martin\, 036 01
CATEGORIES:Prezentačný deň
ATTACH;FMTTYPE=image/jpeg:https://blog.hagard.sk/wp-content/uploads/2025/03/pd_est_2025.jpg
END:VEVENT
BEGIN:VEVENT
DTSTART;TZID=Europe/Bratislava:20250416T080000
DTEND;TZID=Europe/Bratislava:20250416T140000
DTSTAMP:20260425T171307
CREATED:20250321T150325Z
LAST-MODIFIED:20250321T150326Z
UID:2736-1744790400-1744812000@blog.hagard.sk
SUMMARY:ARKYS prezentačný deň
DESCRIPTION:Vážení zákazníci\,radi by sme vás pozvali na prezentáciu káblových nosných systémov MERKUR\, LINEAR a POLAR. Prezentácia sa bude konať v predajných priestoroch pobočky. Predstavíme Vám novinky v našom sortimente. \n\n\n\n\n\n\n\n\n\n\n\nPozývame Vás na prezentáciu systémov káblových trás MERKUR\, LINEAR a POLAR\, ktoré predstavujú komplexné a ucelené riešenia pre inštaláciu\, spĺňajúce najvyššie požiadavky na bezpečnosť\, efektivitu\, funkčnosť a kvalitu. Príďte sa osobne presvedčiť o ich výhodách a tipoch na využitie. Naši odborníci Vám budú k dispozícii. Súčasťou prezentačnej akcie je občerstvenie.
URL:https://blog.hagard.sk/udalost/arkys-prezentacny-den-24/
LOCATION:HAGARD:HAL Trnava\, Zavarská 10/E\, Trnava\, 917 00
CATEGORIES:Prezentačný deň
ATTACH;FMTTYPE=image/png:https://blog.hagard.sk/wp-content/uploads/2024/02/pd_arkys_2024.png
END:VEVENT
BEGIN:VEVENT
DTSTART;TZID=Europe/Bratislava:20250410T083000
DTEND;TZID=Europe/Bratislava:20250411T083000
DTSTAMP:20260425T171307
CREATED:20250214T092603Z
LAST-MODIFIED:20250214T100753Z
UID:2637-1744273800-1744360200@blog.hagard.sk
SUMMARY:HAGARD:HAL priemyselné školenie
DESCRIPTION:Vážení obchodní priatelia\,radi by sme vás pozvali na HAGARD:HAL priemyselné školenie\, ktoré sa uskutoční 10. apríla 2025\, v priestoroch Hotela Termál Vyhne***. HAGARD:HAL v spolupráci s autorizovanými dodávateľmi pre slovenský trh bude prezentovať produktové novinky a rady referenčných aplikácií. \n\n\n\n\n\n\n\nProsím potvrďte Vašu účasť na email: lubica.kompasova@hagard.sk \n\n\n\n\n\n\n\n\n\n\n\n\n\n\n\n\n\n\n\n\n\n\n\nHlavní partneri:\n\n\n\n\n\n\n\n\n\n\n\n\n\n\n\nHAGARD:HAL priemyselné školenie orientačný časový harmonogram:\n\n\n\n10.04.202509:00 – 09:45prezentácia spoločnosti LEGRAND Slovensko09:45 – 10:30prezentácia spoločnosti OBO Bettermann10:30 – 11:00prestávka11:00 – 11:45prezentácia spoločnosti Eaton Electric11:45 – 12:30prezentácia spoločnosti LEDVANCE12:30 – 14:00obed14:00 – 14:45prezentácia spoločnosti LAPP Czech Republic14:45 – 15:30prezentácia spoločnosti PHOTOMATE15:30 – 16:15prezentácia spoločnosti PHOENIX CONTACT11.04.2025Školenie končí raňajkami
URL:https://blog.hagard.sk/udalost/hagardhal-priemyselne-skolenie/
LOCATION:Hotel Termál***\, Vyhne 249\, Vyhne\, 966 02\, Slovakia (Slovak Republic)
CATEGORIES:Prezentačný deň
ATTACH;FMTTYPE=image/jpeg:https://blog.hagard.sk/wp-content/uploads/2025/02/hh_skolenie_priemysel_00.jpg
END:VEVENT
BEGIN:VEVENT
DTSTART;TZID=Europe/Bratislava:20250402T080000
DTEND;TZID=Europe/Bratislava:20250402T140000
DTSTAMP:20260425T171307
CREATED:20250321T144034Z
LAST-MODIFIED:20250321T144035Z
UID:2726-1743580800-1743602400@blog.hagard.sk
SUMMARY:ARKYS prezentačný deň
DESCRIPTION:Vážení zákazníci\,radi by sme vás pozvali na prezentáciu káblových nosných systémov MERKUR\, LINEAR a POLAR. Prezentácia sa bude konať v predajných priestoroch pobočky. Predstavíme Vám novinky v našom sortimente. \n\n\n\n\n\n\n\n\n\n\n\nPozývame Vás na prezentáciu systémov káblových trás MERKUR\, LINEAR a POLAR\, ktoré predstavujú komplexné a ucelené riešenia pre inštaláciu\, spĺňajúce najvyššie požiadavky na bezpečnosť\, efektivitu\, funkčnosť a kvalitu. Príďte sa osobne presvedčiť o ich výhodách a tipoch na využitie. Naši odborníci Vám budú k dispozícii. Súčasťou prezentačnej akcie je občerstvenie.
URL:https://blog.hagard.sk/udalost/arkys-prezentacny-den-20/
LOCATION:HAGARD:HAL Bratislava\, Ivánska cesta 34\, Mokráň Záhon\, Bratislava\, 82104
CATEGORIES:Prezentačný deň
ATTACH;FMTTYPE=image/png:https://blog.hagard.sk/wp-content/uploads/2024/02/pd_arkys_2024.png
END:VEVENT
BEGIN:VEVENT
DTSTART;TZID=Europe/Bratislava:20250327T080000
DTEND;TZID=Europe/Bratislava:20250327T150000
DTSTAMP:20260425T171307
CREATED:20250304T152803Z
LAST-MODIFIED:20250304T152804Z
UID:2693-1743062400-1743087600@blog.hagard.sk
SUMMARY:E|S|T - prezentačný deň
DESCRIPTION:Vážení zákazníci\,radi by sme vás pozvali na prezentáciu\, ktorá sa bude konať v predajných priestoroch pobočky. Predstavíme Vám novinky v našom sortimente.
URL:https://blog.hagard.sk/udalost/est-prezentacny-den-35/
LOCATION:Hagard:Hal Banská Bystrica\, Kremnička 51\, Banská Bystrica\, 974 05
CATEGORIES:Prezentačný deň
ATTACH;FMTTYPE=image/jpeg:https://blog.hagard.sk/wp-content/uploads/2025/03/pd_est_2025.jpg
END:VEVENT
BEGIN:VEVENT
DTSTART;TZID=Europe/Bratislava:20250326T080000
DTEND;TZID=Europe/Bratislava:20250326T150000
DTSTAMP:20260425T171307
CREATED:20250304T152629Z
LAST-MODIFIED:20250304T152629Z
UID:2691-1742976000-1743001200@blog.hagard.sk
SUMMARY:E|S|T - prezentačný deň
DESCRIPTION:Vážení zákazníci\,radi by sme vás pozvali na prezentáciu\, ktorá sa bude konať v predajných priestoroch pobočky. Predstavíme Vám novinky v našom sortimente.
URL:https://blog.hagard.sk/udalost/est-prezentacny-den-34/
LOCATION:HAGARD:HAL Trenčín\, Zlatovská 33\, Trenčín - Zlatovce\, 911 05
CATEGORIES:Prezentačný deň
ATTACH;FMTTYPE=image/jpeg:https://blog.hagard.sk/wp-content/uploads/2025/03/pd_est_2025.jpg
END:VEVENT
BEGIN:VEVENT
DTSTART;TZID=Europe/Bratislava:20250325T080000
DTEND;TZID=Europe/Bratislava:20250325T140000
DTSTAMP:20260425T171307
CREATED:20250322T164838Z
LAST-MODIFIED:20250322T164839Z
UID:2776-1742889600-1742911200@blog.hagard.sk
SUMMARY:Obo Bettermann prezentačný deň
DESCRIPTION:Vážení zákazníci\,radi by sme vás pozvali na prezentáciu výrobného sortimentu OBO BETTERMANN\, ktorá sa bude konať v predajných priestoroch pobočky. Predstavíme Vám novinky v našom sortimente.
URL:https://blog.hagard.sk/udalost/obo-bettermann-prezentacny-den-12/
LOCATION:HAGARD:HAL Žilina\, Kvačalova 782/11\, Žilina - Závodie\, 010 04
CATEGORIES:Prezentačný deň
ATTACH;FMTTYPE=image/jpeg:https://blog.hagard.sk/wp-content/uploads/2024/02/pd_obo_2024.jpg
END:VEVENT
BEGIN:VEVENT
DTSTART;TZID=Europe/Bratislava:20250325T070000
DTEND;TZID=Europe/Bratislava:20250325T140000
DTSTAMP:20260425T171307
CREATED:20250304T155624Z
LAST-MODIFIED:20250304T155625Z
UID:2697-1742886000-1742911200@blog.hagard.sk
SUMMARY:ARKYS prezentačný deň
DESCRIPTION:Vážení zákazníci\,radi by sme vás pozvali na prezentáciu káblových nosných systémov MERKUR\, LINEAR a POLAR. Prezentácia sa bude konať v predajných priestoroch pobočky. Predstavíme Vám novinky v našom sortimente. \n\n\n\n\n\n\n\n\n\n\n\nPozývame Vás na prezentáciu systémov káblových trás MERKUR\, LINEAR a POLAR\, ktoré predstavujú komplexné a ucelené riešenia pre inštaláciu\, spĺňajúce najvyššie požiadavky na bezpečnosť\, efektivitu\, funkčnosť a kvalitu. Príďte sa osobne presvedčiť o ich výhodách a tipoch na využitie. Naši odborníci Vám budú k dispozícii. Súčasťou prezentačnej akcie je občerstvenie.
URL:https://blog.hagard.sk/udalost/arkys-prezentacny-den-19/
LOCATION:Hagard:Hal Banská Bystrica\, Kremnička 51\, Banská Bystrica\, 974 05
CATEGORIES:Prezentačný deň
ATTACH;FMTTYPE=image/png:https://blog.hagard.sk/wp-content/uploads/2024/02/pd_arkys_2024.png
END:VEVENT
BEGIN:VEVENT
DTSTART;TZID=Europe/Bratislava:20250319T080000
DTEND;TZID=Europe/Bratislava:20250319T150000
DTSTAMP:20260425T171307
CREATED:20250308T194036Z
LAST-MODIFIED:20250308T194037Z
UID:2700-1742371200-1742396400@blog.hagard.sk
SUMMARY:E|S|T - prezentačný deň
DESCRIPTION:Vážení zákazníci\,radi by sme vás pozvali na prezentáciu\, ktorá sa bude konať v predajných priestoroch pobočky. Predstavíme Vám novinky v našom sortimente.
URL:https://blog.hagard.sk/udalost/est-prezentacny-den-36/
LOCATION:HAGARD:HAL Nové Zámky\, Dvorská cesta 23\, Nové Zámky\, 940 02
CATEGORIES:Prezentačný deň
ATTACH;FMTTYPE=image/jpeg:https://blog.hagard.sk/wp-content/uploads/2025/03/pd_est_2025.jpg
END:VEVENT
BEGIN:VEVENT
DTSTART;TZID=Europe/Bratislava:20250318T070000
DTEND;TZID=Europe/Bratislava:20250318T140000
DTSTAMP:20260425T171307
CREATED:20250304T155425Z
LAST-MODIFIED:20250304T155426Z
UID:2695-1742281200-1742306400@blog.hagard.sk
SUMMARY:ARKYS prezentačný deň
DESCRIPTION:Vážení zákazníci\,radi by sme vás pozvali na prezentáciu káblových nosných systémov MERKUR\, LINEAR a POLAR. Prezentácia sa bude konať v predajných priestoroch pobočky. Predstavíme Vám novinky v našom sortimente. \n\n\n\n\n\n\n\n\n\n\n\nPozývame Vás na prezentáciu systémov káblových trás MERKUR\, LINEAR a POLAR\, ktoré predstavujú komplexné a ucelené riešenia pre inštaláciu\, spĺňajúce najvyššie požiadavky na bezpečnosť\, efektivitu\, funkčnosť a kvalitu. Príďte sa osobne presvedčiť o ich výhodách a tipoch na využitie. Naši odborníci Vám budú k dispozícii. Súčasťou prezentačnej akcie je občerstvenie.
URL:https://blog.hagard.sk/udalost/arkys-prezentacny-den-18/
LOCATION:HAGARD:HAL Žilina\, Kvačalova 782/11\, Žilina - Závodie\, 010 04
CATEGORIES:Prezentačný deň
ATTACH;FMTTYPE=image/png:https://blog.hagard.sk/wp-content/uploads/2024/02/pd_arkys_2024.png
END:VEVENT
BEGIN:VEVENT
DTSTART;TZID=Europe/Bratislava:20250313T080000
DTEND;TZID=Europe/Bratislava:20250313T150000
DTSTAMP:20260425T171307
CREATED:20250304T152439Z
LAST-MODIFIED:20250304T152440Z
UID:2689-1741852800-1741878000@blog.hagard.sk
SUMMARY:E|S|T - prezentačný deň
DESCRIPTION:Vážení zákazníci\,radi by sme vás pozvali na prezentáciu\, ktorá sa bude konať v predajných priestoroch pobočky. Predstavíme Vám novinky v našom sortimente.
URL:https://blog.hagard.sk/udalost/est-prezentacny-den-33/
LOCATION:HAGARD:HAL Piešťany\, A. Hlinku 15/4430\, Piešťany\, 921 01
CATEGORIES:Prezentačný deň
ATTACH;FMTTYPE=image/jpeg:https://blog.hagard.sk/wp-content/uploads/2025/03/pd_est_2025.jpg
END:VEVENT
BEGIN:VEVENT
DTSTART;TZID=Europe/Bratislava:20250312T080000
DTEND;TZID=Europe/Bratislava:20250312T150000
DTSTAMP:20260425T171307
CREATED:20250304T152300Z
LAST-MODIFIED:20250304T152301Z
UID:2687-1741766400-1741791600@blog.hagard.sk
SUMMARY:E|S|T - prezentačný deň
DESCRIPTION:Vážení zákazníci\,radi by sme vás pozvali na prezentáciu\, ktorá sa bude konať v predajných priestoroch pobočky. Predstavíme Vám novinky v našom sortimente.
URL:https://blog.hagard.sk/udalost/est-prezentacny-den-32/
LOCATION:HAGARD:HAL Trnava\, Zavarská 10/E\, Trnava\, 917 00
CATEGORIES:Prezentačný deň
ATTACH;FMTTYPE=image/jpeg:https://blog.hagard.sk/wp-content/uploads/2025/03/pd_est_2025.jpg
END:VEVENT
BEGIN:VEVENT
DTSTART;TZID=Europe/Bratislava:20250306T080000
DTEND;TZID=Europe/Bratislava:20250306T150000
DTSTAMP:20260425T171307
CREATED:20250303T195040Z
LAST-MODIFIED:20250303T195041Z
UID:2670-1741248000-1741273200@blog.hagard.sk
SUMMARY:E|S|T - prezentačný deň
DESCRIPTION:Vážení zákazníci\,radi by sme vás pozvali na prezentáciu\, ktorá sa bude konať v predajných priestoroch pobočky. Predstavíme Vám novinky v našom sortimente.
URL:https://blog.hagard.sk/udalost/est-prezentacny-den-30/
LOCATION:HAGARD:HAL Bratislava\, Ivánska cesta 34\, Mokráň Záhon\, Bratislava\, 82104
CATEGORIES:Prezentačný deň
ATTACH;FMTTYPE=image/jpeg:https://blog.hagard.sk/wp-content/uploads/2025/03/pd_est_2025.jpg
END:VEVENT
BEGIN:VEVENT
DTSTART;TZID=Europe/Bratislava:20250305T080000
DTEND;TZID=Europe/Bratislava:20250305T150000
DTSTAMP:20260425T171307
CREATED:20250303T195517Z
LAST-MODIFIED:20250303T195518Z
UID:2673-1741161600-1741186800@blog.hagard.sk
SUMMARY:E|S|T - prezentačný deň
DESCRIPTION:Vážení zákazníci\,radi by sme vás pozvali na prezentáciu\, ktorá sa bude konať v predajných priestoroch pobočky. Predstavíme Vám novinky v našom sortimente.
URL:https://blog.hagard.sk/udalost/est-prezentacny-den-31/
LOCATION:HAGARD:HAL Nitra\, Pražská 9\, Nitra - Mlynárce\, 949 11
CATEGORIES:Prezentačný deň
ATTACH;FMTTYPE=image/jpeg:https://blog.hagard.sk/wp-content/uploads/2025/03/pd_est_2025.jpg
END:VEVENT
BEGIN:VEVENT
DTSTART;TZID=Europe/Bratislava:20241209T000000
DTEND;TZID=Europe/Bratislava:20241220T235959
DTSTAMP:20260425T171307
CREATED:20241209T095227Z
LAST-MODIFIED:20241209T100533Z
UID:2604-1733702400-1734739199@blog.hagard.sk
SUMMARY:EATON predajná akcia - hľadanie víťazov
DESCRIPTION:Nabite sa energiou od EATONU
URL:https://blog.hagard.sk/udalost/eaton-predajna-akcia-hladanie-vitazov/
ATTACH;FMTTYPE=image/jpeg:https://blog.hagard.sk/wp-content/uploads/2024/12/bnr_eaton_vitaz.jpg
END:VEVENT
BEGIN:VEVENT
DTSTART;TZID=Europe/Bratislava:20241128T080000
DTEND;TZID=Europe/Bratislava:20241128T140000
DTSTAMP:20260425T171307
CREATED:20241118T143546Z
LAST-MODIFIED:20241118T143809Z
UID:2566-1732780800-1732802400@blog.hagard.sk
SUMMARY:E|S|T - prezentačný deň
DESCRIPTION:Vážení zákazníci\,radi by sme vás pozvali na prezentáciu\, ktorá sa bude konať v predajných priestoroch pobočky. Predstavíme Vám novinky v našom sortimente.
URL:https://blog.hagard.sk/udalost/est-prezentacny-den-25/
LOCATION:HAGARD:HAL Šaľa\, Diakovská cesta 9/6241\, Šaľa\, 927 01
CATEGORIES:Prezentačný deň
ATTACH;FMTTYPE=image/jpeg:https://blog.hagard.sk/wp-content/uploads/2024/09/pd_est_2024.jpg
END:VEVENT
BEGIN:VEVENT
DTSTART;TZID=Europe/Bratislava:20241127T080000
DTEND;TZID=Europe/Bratislava:20241127T140000
DTSTAMP:20260425T171307
CREATED:20241118T135323Z
LAST-MODIFIED:20241118T135324Z
UID:2563-1732694400-1732716000@blog.hagard.sk
SUMMARY:E|S|T - prezentačný deň
DESCRIPTION:Vážení zákazníci\,radi by sme vás pozvali na prezentáciu\, ktorá sa bude konať v predajných priestoroch pobočky. Predstavíme Vám novinky v našom sortimente.
URL:https://blog.hagard.sk/udalost/est-prezentacny-den-24/
LOCATION:HAGARD:HAL Štúrovo\, Továrenská 3505\, Štúrovo\, 943 01
CATEGORIES:Prezentačný deň
ATTACH;FMTTYPE=image/jpeg:https://blog.hagard.sk/wp-content/uploads/2024/09/pd_est_2024.jpg
END:VEVENT
BEGIN:VEVENT
DTSTART;TZID=Europe/Bratislava:20241126T080000
DTEND;TZID=Europe/Bratislava:20241126T140000
DTSTAMP:20260425T171307
CREATED:20241118T144055Z
LAST-MODIFIED:20241118T144056Z
UID:2570-1732608000-1732629600@blog.hagard.sk
SUMMARY:E|S|T – prezentačný deň
DESCRIPTION:Vážení zákazníci\,radi by sme vás pozvali na prezentáciu\, ktorá sa bude konať v predajných priestoroch pobočky. Predstavíme Vám novinky v našom sortimente.
URL:https://blog.hagard.sk/udalost/est-prezentacny-den-26/
LOCATION:HAGARD:HAL Piešťany\, A. Hlinku 15/4430\, Piešťany\, 921 01
CATEGORIES:Prezentačný deň
ATTACH;FMTTYPE=image/jpeg:https://blog.hagard.sk/wp-content/uploads/2024/09/pd_est_2024.jpg
END:VEVENT
BEGIN:VEVENT
DTSTART;TZID=Europe/Bratislava:20241121T080000
DTEND;TZID=Europe/Bratislava:20241121T140000
DTSTAMP:20260425T171307
CREATED:20241118T144612Z
LAST-MODIFIED:20241118T144613Z
UID:2572-1732176000-1732197600@blog.hagard.sk
SUMMARY:E|S|T – prezentačný deň
DESCRIPTION:Vážení zákazníci\,radi by sme vás pozvali na prezentáciu\, ktorá sa bude konať v predajných priestoroch pobočky. Predstavíme Vám novinky v našom sortimente.
URL:https://blog.hagard.sk/udalost/est-prezentacny-den-27/
LOCATION:HAGARD:HAL Nové Zámky\, Dvorská cesta 23\, Nové Zámky\, 940 02
CATEGORIES:Prezentačný deň
ATTACH;FMTTYPE=image/jpeg:https://blog.hagard.sk/wp-content/uploads/2024/09/pd_est_2024.jpg
END:VEVENT
BEGIN:VEVENT
DTSTART;TZID=Europe/Bratislava:20241120T080000
DTEND;TZID=Europe/Bratislava:20241120T140000
DTSTAMP:20260425T171307
CREATED:20241118T144738Z
LAST-MODIFIED:20241118T144738Z
UID:2574-1732089600-1732111200@blog.hagard.sk
SUMMARY:E|S|T – prezentačný deň
DESCRIPTION:Vážení zákazníci\,radi by sme vás pozvali na prezentáciu\, ktorá sa bude konať v predajných priestoroch pobočky. Predstavíme Vám novinky v našom sortimente.
URL:https://blog.hagard.sk/udalost/est-prezentacny-den-28/
LOCATION:Hagard:Hal Komárno\, Bratislavská cesta 1804\, Komárno\, 945 01
CATEGORIES:Prezentačný deň
ATTACH;FMTTYPE=image/jpeg:https://blog.hagard.sk/wp-content/uploads/2024/09/pd_est_2024.jpg
END:VEVENT
BEGIN:VEVENT
DTSTART;TZID=Europe/Bratislava:20241119T080000
DTEND;TZID=Europe/Bratislava:20241119T140000
DTSTAMP:20260425T171307
CREATED:20241118T144851Z
LAST-MODIFIED:20241118T144852Z
UID:2576-1732003200-1732024800@blog.hagard.sk
SUMMARY:E|S|T - prezentačný deň
DESCRIPTION:Vážení zákazníci\,radi by sme vás pozvali na prezentáciu\, ktorá sa bude konať v predajných priestoroch pobočky. Predstavíme Vám novinky v našom sortimente.
URL:https://blog.hagard.sk/udalost/est-prezentacny-den-29/
LOCATION:HAGARD:HAL Trenčín\, Zlatovská 33\, Trenčín - Zlatovce\, 911 05
CATEGORIES:Prezentačný deň
ATTACH;FMTTYPE=image/jpeg:https://blog.hagard.sk/wp-content/uploads/2024/09/pd_est_2024.jpg
END:VEVENT
BEGIN:VEVENT
DTSTART;TZID=Europe/Bratislava:20241118T000000
DTEND;TZID=Europe/Bratislava:20241204T235959
DTSTAMP:20260425T171307
CREATED:20241118T123230Z
LAST-MODIFIED:20241209T095622Z
UID:2552-1731888000-1733356799@blog.hagard.sk
SUMMARY:EATON predajná akcia
DESCRIPTION:Nabite sa energiou od EATONU\n\n\n\n\n\n\n\n\n\n\n\n\n\nPodmienky akcie: \n\n\n\n\nza nákup produktov EATON v hodnote nad 50€ s DPH dostane zákazník energetický nápoj s jedinečným kódom\, ktorý si uschová\n\n\n\nakcia prebieha od 18.11.2024 – do 4.12.2024\, alebo do vypredania zásob!\n\n\n\nnásledne prebehne žrebovanie\, ktoré sa uskutoční 5.12.2024\n\n\n\n\n\n\n\n\n\nPrejsť k produktu na e-shop
URL:https://blog.hagard.sk/udalost/eaton-predajna-akcia/
CATEGORIES:Predajná akcia
ATTACH;FMTTYPE=image/jpeg:https://blog.hagard.sk/wp-content/uploads/2024/11/bnr_eaton_nabite_sa_energiou_2024.jpg
END:VEVENT
BEGIN:VEVENT
DTSTART;TZID=Europe/Bratislava:20241101T000000
DTEND;TZID=Europe/Bratislava:20241215T235959
DTSTAMP:20260425T171307
CREATED:20241103T165203Z
LAST-MODIFIED:20241103T165204Z
UID:2527-1730419200-1734307199@blog.hagard.sk
SUMMARY:NOARK predajná akcia s ALZA poukážkou
DESCRIPTION:ZÍSKAJTE 10€ ALZA POUKÁŽKU ZA NÁKUP NOARK PRODUKTOV \n\n\n\n\n\n\n\n\n\nPodmienky akcie: \n\n\n\n\ndarček sa vzťahuje na celý sortiment značky NOARK\n\n\n\nakcia prebieha od 1.11. do do rozdania darčekov\n\n\n\nza nákup NOARK produktov v minimálnej hodnote 350€ bez DPH získa zákazník ALZA poukážku v hodnote 10€ (platnosť poukážky je do 04/2025)\n\n\n\n\n\n\n\n\n\nPrejsť k produktom na e-shop
URL:https://blog.hagard.sk/udalost/noark-predajna-akcia-s-alza-poukazkou/
CATEGORIES:Predajná akcia
ATTACH;FMTTYPE=image/jpeg:https://blog.hagard.sk/wp-content/uploads/2024/11/pa_noark_poukazka_alza_2024.jpg
END:VEVENT
BEGIN:VEVENT
DTSTART;TZID=Europe/Bratislava:20241031T080000
DTEND;TZID=Europe/Bratislava:20241031T140000
DTSTAMP:20260425T171307
CREATED:20241007T103122Z
LAST-MODIFIED:20241007T103123Z
UID:2483-1730361600-1730383200@blog.hagard.sk
SUMMARY:E|S|T - prezentačný deň
DESCRIPTION:Vážení zákazníci\,radi by sme vás pozvali na prezentáciu\, ktorá sa bude konať v predajných priestoroch pobočky. Predstavíme Vám novinky v našom sortimente.
URL:https://blog.hagard.sk/udalost/est-prezentacny-den-23/
LOCATION:HAGARD:HAL Martin\, Ulica pri Turci 24\, Martin\, 036 01
CATEGORIES:Prezentačný deň
ATTACH;FMTTYPE=image/jpeg:https://blog.hagard.sk/wp-content/uploads/2024/09/pd_est_2024.jpg
END:VEVENT
BEGIN:VEVENT
DTSTART;TZID=Europe/Bratislava:20241031T080000
DTEND;TZID=Europe/Bratislava:20241031T140000
DTSTAMP:20260425T171307
CREATED:20240923T113102Z
LAST-MODIFIED:20240924T083540Z
UID:2349-1730361600-1730383200@blog.hagard.sk
SUMMARY:NOARK prezentačný deň
DESCRIPTION:Vážení zákazníci\,radi by sme vás pozvali na prezentáciu\, ktorá sa bude konať v predajných priestoroch pobočky. Pripravili sme pre vás novinky v našom sortimente a taktiež malé občerstvenie.
URL:https://blog.hagard.sk/udalost/noark-prezentacny-den-2/
LOCATION:HAGARD:HAL Nové Zámky\, Dvorská cesta 23\, Nové Zámky\, 940 02
CATEGORIES:Prezentačný deň
ATTACH;FMTTYPE=image/jpeg:https://blog.hagard.sk/wp-content/uploads/2024/09/pd_noark_2024.jpg
END:VEVENT
BEGIN:VEVENT
DTSTART;TZID=Europe/Bratislava:20241030T080000
DTEND;TZID=Europe/Bratislava:20241030T140000
DTSTAMP:20260425T171307
CREATED:20241007T102953Z
LAST-MODIFIED:20241007T102954Z
UID:2481-1730275200-1730296800@blog.hagard.sk
SUMMARY:E|S|T - prezentačný deň
DESCRIPTION:Vážení zákazníci\,radi by sme vás pozvali na prezentáciu\, ktorá sa bude konať v predajných priestoroch pobočky. Predstavíme Vám novinky v našom sortimente.
URL:https://blog.hagard.sk/udalost/est-prezentacny-den-22/
LOCATION:HAGARD:HAL Dolný Kubín\, Aleja Slobody 2236/15\, Dolný Kubín\, 026 01
CATEGORIES:Prezentačný deň
ATTACH;FMTTYPE=image/jpeg:https://blog.hagard.sk/wp-content/uploads/2024/09/pd_est_2024.jpg
END:VEVENT
BEGIN:VEVENT
DTSTART;TZID=Europe/Bratislava:20241030T080000
DTEND;TZID=Europe/Bratislava:20241030T140000
DTSTAMP:20260425T171307
CREATED:20241007T094824Z
LAST-MODIFIED:20241007T094825Z
UID:2468-1730275200-1730296800@blog.hagard.sk
SUMMARY:Obo Bettermann prezentačný deň
DESCRIPTION:Vážení zákazníci\,radi by sme vás pozvali na prezentáciu výrobného sortimentu OBO BETTERMANN\, ktorá sa bude konať v predajných priestoroch pobočky. Predstavíme Vám novinky v našom sortimente.
URL:https://blog.hagard.sk/udalost/obo-bettermann-prezentacny-den-6/
LOCATION:HAGARD:HAL Trenčín\, Zlatovská 33\, Trenčín - Zlatovce\, 911 05
CATEGORIES:Prezentačný deň
ATTACH;FMTTYPE=image/jpeg:https://blog.hagard.sk/wp-content/uploads/2024/02/pd_obo_2024.jpg
END:VEVENT
BEGIN:VEVENT
DTSTART;TZID=Europe/Bratislava:20241029T080000
DTEND;TZID=Europe/Bratislava:20241029T140000
DTSTAMP:20260425T171307
CREATED:20240923T114346Z
LAST-MODIFIED:20240924T065304Z
UID:2362-1730188800-1730210400@blog.hagard.sk
SUMMARY:NOARK prezentačný deň
DESCRIPTION:Vážení zákazníci\,radi by sme vás pozvali na prezentáciu\, ktorá sa bude konať v predajných priestoroch pobočky. Pripravili sme pre vás novinky v našom sortimente a taktiež malé občerstvenie.
URL:https://blog.hagard.sk/udalost/noark-prezentacny-den-4/
LOCATION:HAGARD:HAL Martin\, Ulica pri Turci 24\, Martin\, 036 01
CATEGORIES:Prezentačný deň
ATTACH;FMTTYPE=image/jpeg:https://blog.hagard.sk/wp-content/uploads/2024/09/pd_noark_2024.jpg
END:VEVENT
END:VCALENDAR