BEGIN:VCALENDAR
VERSION:2.0
PRODID:-//HAGARD:HAL BLOG - ECPv6.15.20//NONSGML v1.0//EN
CALSCALE:GREGORIAN
METHOD:PUBLISH
X-WR-CALNAME:HAGARD:HAL BLOG
X-ORIGINAL-URL:https://blog.hagard.sk
X-WR-CALDESC:Udalosti pre HAGARD:HAL BLOG
REFRESH-INTERVAL;VALUE=DURATION:PT1H
X-Robots-Tag:noindex
X-PUBLISHED-TTL:PT1H
BEGIN:VTIMEZONE
TZID:Europe/Bratislava
BEGIN:DAYLIGHT
TZOFFSETFROM:+0100
TZOFFSETTO:+0200
TZNAME:CEST
DTSTART:20240331T010000
END:DAYLIGHT
BEGIN:STANDARD
TZOFFSETFROM:+0200
TZOFFSETTO:+0100
TZNAME:CET
DTSTART:20241027T010000
END:STANDARD
BEGIN:DAYLIGHT
TZOFFSETFROM:+0100
TZOFFSETTO:+0200
TZNAME:CEST
DTSTART:20250330T010000
END:DAYLIGHT
BEGIN:STANDARD
TZOFFSETFROM:+0200
TZOFFSETTO:+0100
TZNAME:CET
DTSTART:20251026T010000
END:STANDARD
BEGIN:DAYLIGHT
TZOFFSETFROM:+0100
TZOFFSETTO:+0200
TZNAME:CEST
DTSTART:20260329T010000
END:DAYLIGHT
BEGIN:STANDARD
TZOFFSETFROM:+0200
TZOFFSETTO:+0100
TZNAME:CET
DTSTART:20261025T010000
END:STANDARD
END:VTIMEZONE
BEGIN:VEVENT
DTSTART;TZID=Europe/Bratislava:20250521T080000
DTEND;TZID=Europe/Bratislava:20250521T140000
DTSTAMP:20260425T145458
CREATED:20250512T091700Z
LAST-MODIFIED:20250512T091701Z
UID:2894-1747814400-1747836000@blog.hagard.sk
SUMMARY:TECH-Controllers prezentačný deň
DESCRIPTION:Vážení zákazníci\,pozývame Vás na stretnutie s obchodným zástupcom\, ktorý Vám predstaví portfólio produktov vrátane noviniek v sortimente.
URL:https://blog.hagard.sk/udalost/tech-controllers-prezentacny-den-4/
LOCATION:HAGARD:HAL Bratislava\, Ivánska cesta 34\, Mokráň Záhon\, Bratislava\, 82104
CATEGORIES:Prezentačný deň
ATTACH;FMTTYPE=image/jpeg:https://blog.hagard.sk/wp-content/uploads/2025/05/pd_tech-controllers_2025.jpg
END:VEVENT
BEGIN:VEVENT
DTSTART;TZID=Europe/Bratislava:20250521T080000
DTEND;TZID=Europe/Bratislava:20250521T140000
DTSTAMP:20260425T145458
CREATED:20250321T154709Z
LAST-MODIFIED:20250321T154709Z
UID:2751-1747814400-1747836000@blog.hagard.sk
SUMMARY:ARKYS prezentačný deň
DESCRIPTION:Vážení zákazníci\,radi by sme vás pozvali na prezentáciu káblových nosných systémov MERKUR\, LINEAR a POLAR. Prezentácia sa bude konať v predajných priestoroch pobočky. Predstavíme Vám novinky v našom sortimente. \n\n\n\n\n\n\n\n\n\n\n\nPozývame Vás na prezentáciu systémov káblových trás MERKUR\, LINEAR a POLAR\, ktoré predstavujú komplexné a ucelené riešenia pre inštaláciu\, spĺňajúce najvyššie požiadavky na bezpečnosť\, efektivitu\, funkčnosť a kvalitu. Príďte sa osobne presvedčiť o ich výhodách a tipoch na využitie. Naši odborníci Vám budú k dispozícii. Súčasťou prezentačnej akcie je občerstvenie.
URL:https://blog.hagard.sk/udalost/arkys-prezentacny-den-28/
LOCATION:HAGARD:HAL Michalovce\, Močarianska 3582/1\, Michalovce\, 071 01
CATEGORIES:Prezentačný deň
ATTACH;FMTTYPE=image/png:https://blog.hagard.sk/wp-content/uploads/2024/02/pd_arkys_2024.png
END:VEVENT
BEGIN:VEVENT
DTSTART;TZID=Europe/Bratislava:20250521T073000
DTEND;TZID=Europe/Bratislava:20250521T113000
DTSTAMP:20260425T145458
CREATED:20250504T175653Z
LAST-MODIFIED:20250504T175655Z
UID:2876-1747812600-1747827000@blog.hagard.sk
SUMMARY:EATON prezentačný deň
DESCRIPTION:Vážení zákazníci\,radi by sme vám osobne predstavili nové riešenie rozvodníc BF-U-3S\, ktoré prináša množstvo výhod a uľahčuje prácu pri výrobe rozvádzača. Hlavnou výhodou je\, že máte zvlášť ochrannú vaňu\, rám s DIN lištami a potom samostatný rám s dverami. Vďaka tomu môžete prácu rozdeliť na tri kroky.
URL:https://blog.hagard.sk/udalost/eaton-prezentacny-den-11/
LOCATION:HAGARD:HAL Prešov\, Budovateľská 50\, Prešov\, 080 01
CATEGORIES:Prezentačný deň
ATTACH;FMTTYPE=image/jpeg:https://blog.hagard.sk/wp-content/uploads/2025/05/pd_eaton_2025.jpg
END:VEVENT
BEGIN:VEVENT
DTSTART;TZID=Europe/Bratislava:20250521T070000
DTEND;TZID=Europe/Bratislava:20250521T150000
DTSTAMP:20260425T145458
CREATED:20250420T190059Z
LAST-MODIFIED:20250420T190100Z
UID:2823-1747810800-1747839600@blog.hagard.sk
SUMMARY:MOREK prezentačný deň
DESCRIPTION:Vážení zákazníci\,pozývame Vás na prezentáciu v našom mobilnom showroome\, kde Vám predstavíme naše portfólio produktov vrátane noviniek v sortimente.
URL:https://blog.hagard.sk/udalost/morek-prezentacny-den-16/
LOCATION:HAGARD:HAL Zvolen\, Tulská 9227/2\, Zvolen\, 960 01
CATEGORIES:Prezentačný deň
ATTACH;FMTTYPE=image/jpeg:https://blog.hagard.sk/wp-content/uploads/2025/04/pd_morek_2025.jpg
END:VEVENT
BEGIN:VEVENT
DTSTART;TZID=Europe/Bratislava:20250520T130000
DTEND;TZID=Europe/Bratislava:20250520T153000
DTSTAMP:20260425T145458
CREATED:20250504T175110Z
LAST-MODIFIED:20250504T175111Z
UID:2870-1747746000-1747755000@blog.hagard.sk
SUMMARY:EATON prezentačný deň
DESCRIPTION:Vážení zákazníci\,radi by sme vám osobne predstavili nové riešenie rozvodníc BF-U-3S\, ktoré prináša množstvo výhod a uľahčuje prácu pri výrobe rozvádzača. Hlavnou výhodou je\, že máte zvlášť ochrannú vaňu\, rám s DIN lištami a potom samostatný rám s dverami. Vďaka tomu môžete prácu rozdeliť na tri kroky.
URL:https://blog.hagard.sk/udalost/eaton-prezentacny-den-8/
LOCATION:HAGARD:HAL Košice\, Holubyho 12\, Košice\, 040 01
CATEGORIES:Prezentačný deň
ATTACH;FMTTYPE=image/jpeg:https://blog.hagard.sk/wp-content/uploads/2025/05/pd_eaton_2025.jpg
END:VEVENT
BEGIN:VEVENT
DTSTART;TZID=Europe/Bratislava:20250520T080000
DTEND;TZID=Europe/Bratislava:20250520T140000
DTSTAMP:20260425T145458
CREATED:20250512T091431Z
LAST-MODIFIED:20250512T091432Z
UID:2892-1747728000-1747749600@blog.hagard.sk
SUMMARY:TECH-Controllers prezentačný deň
DESCRIPTION:Vážení zákazníci\,pozývame Vás na stretnutie s obchodným zástupcom\, ktorý Vám predstaví portfólio produktov vrátane noviniek v sortimente.
URL:https://blog.hagard.sk/udalost/tech-controllers-prezentacny-den-3/
LOCATION:HAGARD:HAL Nitra\, Pražská 9\, Nitra - Mlynárce\, 949 11
CATEGORIES:Prezentačný deň
ATTACH;FMTTYPE=image/jpeg:https://blog.hagard.sk/wp-content/uploads/2025/05/pd_tech-controllers_2025.jpg
END:VEVENT
BEGIN:VEVENT
DTSTART;TZID=Europe/Bratislava:20250520T080000
DTEND;TZID=Europe/Bratislava:20250520T140000
DTSTAMP:20260425T145458
CREATED:20250321T154952Z
LAST-MODIFIED:20250321T154953Z
UID:2755-1747728000-1747749600@blog.hagard.sk
SUMMARY:ARKYS prezentačný deň
DESCRIPTION:Vážení zákazníci\,radi by sme vás pozvali na prezentáciu káblových nosných systémov MERKUR\, LINEAR a POLAR. Prezentácia sa bude konať v predajných priestoroch pobočky. Predstavíme Vám novinky v našom sortimente. \n\n\n\n\n\n\n\n\n\n\n\nPozývame Vás na prezentáciu systémov káblových trás MERKUR\, LINEAR a POLAR\, ktoré predstavujú komplexné a ucelené riešenia pre inštaláciu\, spĺňajúce najvyššie požiadavky na bezpečnosť\, efektivitu\, funkčnosť a kvalitu. Príďte sa osobne presvedčiť o ich výhodách a tipoch na využitie. Naši odborníci Vám budú k dispozícii. Súčasťou prezentačnej akcie je občerstvenie.
URL:https://blog.hagard.sk/udalost/arkys-prezentacny-den-30/
LOCATION:HAGARD:HAL Nové Zámky\, Dvorská cesta 23\, Nové Zámky\, 940 02
CATEGORIES:Prezentačný deň
ATTACH;FMTTYPE=image/png:https://blog.hagard.sk/wp-content/uploads/2024/02/pd_arkys_2024.png
END:VEVENT
BEGIN:VEVENT
DTSTART;TZID=Europe/Bratislava:20250520T080000
DTEND;TZID=Europe/Bratislava:20250520T140000
DTSTAMP:20260425T145458
CREATED:20250321T152407Z
LAST-MODIFIED:20250321T155222Z
UID:2746-1747728000-1747749600@blog.hagard.sk
SUMMARY:ARKYS prezentačný deň
DESCRIPTION:Vážení zákazníci\,radi by sme vás pozvali na prezentáciu káblových nosných systémov MERKUR\, LINEAR a POLAR. Prezentácia sa bude konať v predajných priestoroch pobočky. Predstavíme Vám novinky v našom sortimente. \n\n\n\n\n\n\n\n\n\n\n\nPozývame Vás na prezentáciu systémov káblových trás MERKUR\, LINEAR a POLAR\, ktoré predstavujú komplexné a ucelené riešenia pre inštaláciu\, spĺňajúce najvyššie požiadavky na bezpečnosť\, efektivitu\, funkčnosť a kvalitu. Príďte sa osobne presvedčiť o ich výhodách a tipoch na využitie. Naši odborníci Vám budú k dispozícii. Súčasťou prezentačnej akcie je občerstvenie.
URL:https://blog.hagard.sk/udalost/arkys-prezentacny-den-26/
LOCATION:HAGARD:HAL Humenné\, Tolstého 1\, Humenné\, 066 01
CATEGORIES:Prezentačný deň
ATTACH;FMTTYPE=image/png:https://blog.hagard.sk/wp-content/uploads/2024/02/pd_arkys_2024.png
END:VEVENT
BEGIN:VEVENT
DTSTART;TZID=Europe/Bratislava:20250515T080000
DTEND;TZID=Europe/Bratislava:20250515T140000
DTSTAMP:20260425T145458
CREATED:20250512T091137Z
LAST-MODIFIED:20250512T091138Z
UID:2889-1747296000-1747317600@blog.hagard.sk
SUMMARY:TECH-Controllers prezentačný deň
DESCRIPTION:Vážení zákazníci\,pozývame Vás na stretnutie s obchodným zástupcom\, ktorý Vám predstaví portfólio produktov vrátane noviniek v sortimente.
URL:https://blog.hagard.sk/udalost/tech-controllers-prezentacny-den-2/
LOCATION:HAGARD:HAL Žilina\, Kvačalova 782/11\, Žilina - Závodie\, 010 04
CATEGORIES:Prezentačný deň
ATTACH;FMTTYPE=image/jpeg:https://blog.hagard.sk/wp-content/uploads/2025/05/pd_tech-controllers_2025.jpg
END:VEVENT
BEGIN:VEVENT
DTSTART;TZID=Europe/Bratislava:20250515T080000
DTEND;TZID=Europe/Bratislava:20250515T140000
DTSTAMP:20260425T145458
CREATED:20250321T155643Z
LAST-MODIFIED:20250321T155643Z
UID:2762-1747296000-1747317600@blog.hagard.sk
SUMMARY:ARKYS prezentačný deň
DESCRIPTION:Vážení zákazníci\,radi by sme vás pozvali na prezentáciu káblových nosných systémov MERKUR\, LINEAR a POLAR. Prezentácia sa bude konať v predajných priestoroch pobočky. Predstavíme Vám novinky v našom sortimente. \n\n\n\n\n\n\n\n\n\n\n\nPozývame Vás na prezentáciu systémov káblových trás MERKUR\, LINEAR a POLAR\, ktoré predstavujú komplexné a ucelené riešenia pre inštaláciu\, spĺňajúce najvyššie požiadavky na bezpečnosť\, efektivitu\, funkčnosť a kvalitu. Príďte sa osobne presvedčiť o ich výhodách a tipoch na využitie. Naši odborníci Vám budú k dispozícii. Súčasťou prezentačnej akcie je občerstvenie.
URL:https://blog.hagard.sk/udalost/arkys-prezentacny-den-33/
LOCATION:HAGARD:HAL Šaľa\, Diakovská cesta 9/6241\, Šaľa\, 927 01
CATEGORIES:Prezentačný deň
ATTACH;FMTTYPE=image/png:https://blog.hagard.sk/wp-content/uploads/2024/02/pd_arkys_2024.png
END:VEVENT
BEGIN:VEVENT
DTSTART;TZID=Europe/Bratislava:20250515T073000
DTEND;TZID=Europe/Bratislava:20250515T103000
DTSTAMP:20260425T145458
CREATED:20250502T125902Z
LAST-MODIFIED:20250502T125904Z
UID:2843-1747294200-1747305000@blog.hagard.sk
SUMMARY:EATON prezentačný deň
DESCRIPTION:Vážení zákazníci\,radi by sme vám osobne predstavili nové riešenie rozvodníc BF-U-3S\, ktoré prináša množstvo výhod a uľahčuje prácu pri výrobe rozvádzača. Hlavnou výhodou je\, že máte zvlášť ochrannú vaňu\, rám s DIN lištami a potom samostatný rám s dverami. Vďaka tomu môžete prácu rozdeliť na tri kroky.
URL:https://blog.hagard.sk/udalost/eaton-prezentacny-den-6/
LOCATION:Hagard:Hal Banská Bystrica\, Kremnička 51\, Banská Bystrica\, 974 05
CATEGORIES:Prezentačný deň
ATTACH;FMTTYPE=image/jpeg:https://blog.hagard.sk/wp-content/uploads/2025/05/pd_eaton_2025.jpg
END:VEVENT
BEGIN:VEVENT
DTSTART;TZID=Europe/Bratislava:20250514T080000
DTEND;TZID=Europe/Bratislava:20250514T140000
DTSTAMP:20260425T145458
CREATED:20250322T164507Z
LAST-MODIFIED:20250322T164508Z
UID:2772-1747209600-1747231200@blog.hagard.sk
SUMMARY:Obo Bettermann prezentačný deň
DESCRIPTION:Vážení zákazníci\,radi by sme vás pozvali na prezentáciu výrobného sortimentu OBO BETTERMANN\, ktorá sa bude konať v predajných priestoroch pobočky. Predstavíme Vám novinky v našom sortimente.
URL:https://blog.hagard.sk/udalost/obo-bettermann-prezentacny-den-10/
LOCATION:HAGARD:HAL Štúrovo\, Továrenská 3505\, Štúrovo\, 943 01
CATEGORIES:Prezentačný deň
ATTACH;FMTTYPE=image/jpeg:https://blog.hagard.sk/wp-content/uploads/2024/02/pd_obo_2024.jpg
END:VEVENT
BEGIN:VEVENT
DTSTART;TZID=Europe/Bratislava:20250514T080000
DTEND;TZID=Europe/Bratislava:20250514T140000
DTSTAMP:20260425T145458
CREATED:20250320T143334Z
LAST-MODIFIED:20250320T143915Z
UID:2717-1747209600-1747231200@blog.hagard.sk
SUMMARY:HUAWEI C&I Truck + LEDVANCE + K2 systems prezentačný deň
DESCRIPTION:Vážení zákazníci\,radi by sme vás pozvali na prezentáciu\, ktorá sa bude konať pred predajnými priestormi pobočky.
URL:https://blog.hagard.sk/udalost/huawei-ci-truck-ledvance-k2-systems-prezentacny-den/
LOCATION:HAGARD:HAL Nitra\, Pražská 9\, Nitra - Mlynárce\, 949 11
CATEGORIES:Prezentačný deň
ATTACH;FMTTYPE=image/jpeg:https://blog.hagard.sk/wp-content/uploads/2025/03/PD_Huawei_Ledvance_K2-systems_2025_NR.jpg
END:VEVENT
BEGIN:VEVENT
DTSTART;TZID=Europe/Bratislava:20250513T130000
DTEND;TZID=Europe/Bratislava:20250513T153000
DTSTAMP:20260425T145458
CREATED:20250504T180100Z
LAST-MODIFIED:20250504T180101Z
UID:2880-1747141200-1747150200@blog.hagard.sk
SUMMARY:EATON prezentačný deň
DESCRIPTION:Vážení zákazníci\,radi by sme vám osobne predstavili nové riešenie rozvodníc BF-U-3S\, ktoré prináša množstvo výhod a uľahčuje prácu pri výrobe rozvádzača. Hlavnou výhodou je\, že máte zvlášť ochrannú vaňu\, rám s DIN lištami a potom samostatný rám s dverami. Vďaka tomu môžete prácu rozdeliť na tri kroky.
URL:https://blog.hagard.sk/udalost/eaton-prezentacny-den-13/
LOCATION:HAGARD:HAL Žilina\, Kvačalova 782/11\, Žilina - Závodie\, 010 04
CATEGORIES:Prezentačný deň
ATTACH;FMTTYPE=image/jpeg:https://blog.hagard.sk/wp-content/uploads/2025/05/pd_eaton_2025.jpg
END:VEVENT
BEGIN:VEVENT
DTSTART;TZID=Europe/Bratislava:20250513T080000
DTEND;TZID=Europe/Bratislava:20250513T140000
DTSTAMP:20260425T145458
CREATED:20250512T090033Z
LAST-MODIFIED:20250512T090337Z
UID:2884-1747123200-1747144800@blog.hagard.sk
SUMMARY:TECH-Controllers prezentačný deň
DESCRIPTION:Vážení zákazníci\,pozývame Vás na stretnutie s obchodným zástupcom\, ktorý Vám predstaví portfólio produktov vrátane noviniek v sortimente.
URL:https://blog.hagard.sk/udalost/tech-controllers-prezentacny-den/
LOCATION:HAGARD:HAL Nové Zámky\, Dvorská cesta 23\, Nové Zámky\, 940 02
CATEGORIES:Prezentačný deň
ATTACH;FMTTYPE=image/jpeg:https://blog.hagard.sk/wp-content/uploads/2025/05/pd_tech-controllers_2025.jpg
END:VEVENT
BEGIN:VEVENT
DTSTART;TZID=Europe/Bratislava:20250513T080000
DTEND;TZID=Europe/Bratislava:20250513T140000
DTSTAMP:20260425T145458
CREATED:20250322T164313Z
LAST-MODIFIED:20250322T164314Z
UID:2770-1747123200-1747144800@blog.hagard.sk
SUMMARY:Obo Bettermann prezentačný deň
DESCRIPTION:Vážení zákazníci\,radi by sme vás pozvali na prezentáciu výrobného sortimentu OBO BETTERMANN\, ktorá sa bude konať v predajných priestoroch pobočky. Predstavíme Vám novinky v našom sortimente.
URL:https://blog.hagard.sk/udalost/obo-bettermann-prezentacny-den-9/
LOCATION:HAGARD:HAL Šaľa\, Diakovská cesta 9/6241\, Šaľa\, 927 01
CATEGORIES:Prezentačný deň
ATTACH;FMTTYPE=image/jpeg:https://blog.hagard.sk/wp-content/uploads/2024/02/pd_obo_2024.jpg
END:VEVENT
BEGIN:VEVENT
DTSTART;TZID=Europe/Bratislava:20250513T080000
DTEND;TZID=Europe/Bratislava:20250513T140000
DTSTAMP:20260425T145458
CREATED:20250321T152600Z
LAST-MODIFIED:20250321T152600Z
UID:2749-1747123200-1747144800@blog.hagard.sk
SUMMARY:ARKYS prezentačný deň
DESCRIPTION:Vážení zákazníci\,radi by sme vás pozvali na prezentáciu káblových nosných systémov MERKUR\, LINEAR a POLAR. Prezentácia sa bude konať v predajných priestoroch pobočky. Predstavíme Vám novinky v našom sortimente. \n\n\n\n\n\n\n\n\n\n\n\nPozývame Vás na prezentáciu systémov káblových trás MERKUR\, LINEAR a POLAR\, ktoré predstavujú komplexné a ucelené riešenia pre inštaláciu\, spĺňajúce najvyššie požiadavky na bezpečnosť\, efektivitu\, funkčnosť a kvalitu. Príďte sa osobne presvedčiť o ich výhodách a tipoch na využitie. Naši odborníci Vám budú k dispozícii. Súčasťou prezentačnej akcie je občerstvenie.
URL:https://blog.hagard.sk/udalost/arkys-prezentacny-den-27/
LOCATION:HAGARD:HAL Martin\, Ulica pri Turci 24\, Martin\, 036 01
CATEGORIES:Prezentačný deň
ATTACH;FMTTYPE=image/png:https://blog.hagard.sk/wp-content/uploads/2024/02/pd_arkys_2024.png
END:VEVENT
BEGIN:VEVENT
DTSTART;TZID=Europe/Bratislava:20250507T080000
DTEND;TZID=Europe/Bratislava:20250507T133000
DTSTAMP:20260425T145458
CREATED:20250502T120055Z
LAST-MODIFIED:20250502T120153Z
UID:2836-1746604800-1746624600@blog.hagard.sk
SUMMARY:Elektris prezentačný deň
DESCRIPTION:Vážení zákazníci\,pozývame Vás na prezentáciu v našom mobilnom showroome\, kde Vám predstavíme naše portfólio produktov vrátane noviniek v sortimente.
URL:https://blog.hagard.sk/udalost/elektris-prezentacny-den/
LOCATION:HAGARD:HAL Poprad\, Teplická 34\, Poprad\, 058 01
CATEGORIES:Prezentačný deň
ATTACH;FMTTYPE=image/jpeg:https://blog.hagard.sk/wp-content/uploads/2025/05/pd_weidmuller_2025.jpg
END:VEVENT
BEGIN:VEVENT
DTSTART;TZID=Europe/Bratislava:20250507T073000
DTEND;TZID=Europe/Bratislava:20250507T103000
DTSTAMP:20260425T145458
CREATED:20250504T174720Z
LAST-MODIFIED:20250504T174721Z
UID:2868-1746603000-1746613800@blog.hagard.sk
SUMMARY:EATON prezentačný deň
DESCRIPTION:Vážení zákazníci\,radi by sme vám osobne predstavili nové riešenie rozvodníc BF-U-3S\, ktoré prináša množstvo výhod a uľahčuje prácu pri výrobe rozvádzača. Hlavnou výhodou je\, že máte zvlášť ochrannú vaňu\, rám s DIN lištami a potom samostatný rám s dverami. Vďaka tomu môžete prácu rozdeliť na tri kroky.
URL:https://blog.hagard.sk/udalost/eaton-prezentacny-den-7/
LOCATION:HAGARD:HAL Bratislava\, Ivánska cesta 34\, Mokráň Záhon\, Bratislava\, 82104
CATEGORIES:Prezentačný deň
ATTACH;FMTTYPE=image/jpeg:https://blog.hagard.sk/wp-content/uploads/2025/05/pd_eaton_2025.jpg
END:VEVENT
BEGIN:VEVENT
DTSTART;TZID=Europe/Bratislava:20250506T080000
DTEND;TZID=Europe/Bratislava:20250506T140000
DTSTAMP:20260425T145458
CREATED:20250321T155755Z
LAST-MODIFIED:20250321T155756Z
UID:2764-1746518400-1746540000@blog.hagard.sk
SUMMARY:ARKYS prezentačný deň
DESCRIPTION:Vážení zákazníci\,radi by sme vás pozvali na prezentáciu káblových nosných systémov MERKUR\, LINEAR a POLAR. Prezentácia sa bude konať v predajných priestoroch pobočky. Predstavíme Vám novinky v našom sortimente. \n\n\n\n\n\n\n\n\n\n\n\nPozývame Vás na prezentáciu systémov káblových trás MERKUR\, LINEAR a POLAR\, ktoré predstavujú komplexné a ucelené riešenia pre inštaláciu\, spĺňajúce najvyššie požiadavky na bezpečnosť\, efektivitu\, funkčnosť a kvalitu. Príďte sa osobne presvedčiť o ich výhodách a tipoch na využitie. Naši odborníci Vám budú k dispozícii. Súčasťou prezentačnej akcie je občerstvenie.
URL:https://blog.hagard.sk/udalost/arkys-prezentacny-den-34/
LOCATION:HAGARD:HAL Zvolen\, Tulská 9227/2\, Zvolen\, 960 01
CATEGORIES:Prezentačný deň
ATTACH;FMTTYPE=image/png:https://blog.hagard.sk/wp-content/uploads/2024/02/pd_arkys_2024.png
END:VEVENT
BEGIN:VEVENT
DTSTART;TZID=Europe/Bratislava:20250506T080000
DTEND;TZID=Europe/Bratislava:20250506T140000
DTSTAMP:20260425T145458
CREATED:20250321T155522Z
LAST-MODIFIED:20250321T155523Z
UID:2760-1746518400-1746540000@blog.hagard.sk
SUMMARY:ARKYS prezentačný deň
DESCRIPTION:Vážení zákazníci\,radi by sme vás pozvali na prezentáciu káblových nosných systémov MERKUR\, LINEAR a POLAR. Prezentácia sa bude konať v predajných priestoroch pobočky. Predstavíme Vám novinky v našom sortimente. \n\n\n\n\n\n\n\n\n\n\n\nPozývame Vás na prezentáciu systémov káblových trás MERKUR\, LINEAR a POLAR\, ktoré predstavujú komplexné a ucelené riešenia pre inštaláciu\, spĺňajúce najvyššie požiadavky na bezpečnosť\, efektivitu\, funkčnosť a kvalitu. Príďte sa osobne presvedčiť o ich výhodách a tipoch na využitie. Naši odborníci Vám budú k dispozícii. Súčasťou prezentačnej akcie je občerstvenie.
URL:https://blog.hagard.sk/udalost/arkys-prezentacny-den-32/
LOCATION:HAGARD:HAL Prešov\, Budovateľská 50\, Prešov\, 080 01
CATEGORIES:Prezentačný deň
ATTACH;FMTTYPE=image/png:https://blog.hagard.sk/wp-content/uploads/2024/02/pd_arkys_2024.png
END:VEVENT
BEGIN:VEVENT
DTSTART;TZID=Europe/Bratislava:20250506T073000
DTEND;TZID=Europe/Bratislava:20250506T113000
DTSTAMP:20260425T145458
CREATED:20250504T175319Z
LAST-MODIFIED:20250504T175321Z
UID:2872-1746516600-1746531000@blog.hagard.sk
SUMMARY:EATON prezentačný deň
DESCRIPTION:Vážení zákazníci\,radi by sme vám osobne predstavili nové riešenie rozvodníc BF-U-3S\, ktoré prináša množstvo výhod a uľahčuje prácu pri výrobe rozvádzača. Hlavnou výhodou je\, že máte zvlášť ochrannú vaňu\, rám s DIN lištami a potom samostatný rám s dverami. Vďaka tomu môžete prácu rozdeliť na tri kroky.
URL:https://blog.hagard.sk/udalost/eaton-prezentacny-den-9/
LOCATION:HAGARD:HAL Nitra\, Pražská 9\, Nitra - Mlynárce\, 949 11
CATEGORIES:Prezentačný deň
ATTACH;FMTTYPE=image/jpeg:https://blog.hagard.sk/wp-content/uploads/2025/05/pd_eaton_2025.jpg
END:VEVENT
BEGIN:VEVENT
DTSTART;TZID=Europe/Bratislava:20250505T130000
DTEND;TZID=Europe/Bratislava:20250505T153000
DTSTAMP:20260425T145458
CREATED:20250504T175915Z
LAST-MODIFIED:20250504T175916Z
UID:2878-1746450000-1746459000@blog.hagard.sk
SUMMARY:EATON prezentačný deň
DESCRIPTION:Vážení zákazníci\,radi by sme vám osobne predstavili nové riešenie rozvodníc BF-U-3S\, ktoré prináša množstvo výhod a uľahčuje prácu pri výrobe rozvádzača. Hlavnou výhodou je\, že máte zvlášť ochrannú vaňu\, rám s DIN lištami a potom samostatný rám s dverami. Vďaka tomu môžete prácu rozdeliť na tri kroky.
URL:https://blog.hagard.sk/udalost/eaton-prezentacny-den-12/
LOCATION:HAGARD:HAL Trenčín\, Zlatovská 33\, Trenčín - Zlatovce\, 911 05
CATEGORIES:Prezentačný deň
ATTACH;FMTTYPE=image/jpeg:https://blog.hagard.sk/wp-content/uploads/2025/05/pd_eaton_2025.jpg
END:VEVENT
BEGIN:VEVENT
DTSTART;TZID=Europe/Bratislava:20250505T080000
DTEND;TZID=Europe/Bratislava:20250505T140000
DTSTAMP:20260425T145458
CREATED:20250321T154831Z
LAST-MODIFIED:20250321T154832Z
UID:2753-1746432000-1746453600@blog.hagard.sk
SUMMARY:ARKYS prezentačný deň
DESCRIPTION:Vážení zákazníci\,radi by sme vás pozvali na prezentáciu káblových nosných systémov MERKUR\, LINEAR a POLAR. Prezentácia sa bude konať v predajných priestoroch pobočky. Predstavíme Vám novinky v našom sortimente. \n\n\n\n\n\n\n\n\n\n\n\nPozývame Vás na prezentáciu systémov káblových trás MERKUR\, LINEAR a POLAR\, ktoré predstavujú komplexné a ucelené riešenia pre inštaláciu\, spĺňajúce najvyššie požiadavky na bezpečnosť\, efektivitu\, funkčnosť a kvalitu. Príďte sa osobne presvedčiť o ich výhodách a tipoch na využitie. Naši odborníci Vám budú k dispozícii. Súčasťou prezentačnej akcie je občerstvenie.
URL:https://blog.hagard.sk/udalost/arkys-prezentacny-den-29/
LOCATION:HAGARD:HAL Nitra\, Pražská 9\, Nitra - Mlynárce\, 949 11
CATEGORIES:Prezentačný deň
ATTACH;FMTTYPE=image/png:https://blog.hagard.sk/wp-content/uploads/2024/02/pd_arkys_2024.png
END:VEVENT
BEGIN:VEVENT
DTSTART;TZID=Europe/Bratislava:20250501T000000
DTEND;TZID=Europe/Bratislava:20250531T235959
DTSTAMP:20260425T145458
CREATED:20250504T155214Z
LAST-MODIFIED:20250504T155448Z
UID:2849-1746057600-1748735999@blog.hagard.sk
SUMMARY:NOARK predajná akcia HUDBA AKO DARČEK
DESCRIPTION:VYPECKUJ TOMU S NOARKOM!Nakupuj produkty NOARK a získaj štýlový reproduktor! \n\n\n\n\n\n\n\n\n\nPodmienky akcie: \n\n\n\n\nakcia trvá od 1.5.2025 do 31.5. 2025\n\n\n\nvzťahuje sa iba na B2B partnerov\, zákazníci registrovaný na IČ\n\n\n\nna jedno IČ je možné získať len 1x reproduktor\n\n\n\nak zákazník nakúpi za požadovanú hodnotu nákupu a získa reproduktor podľa pravidiel\, za ďalší nákup presahujúci požadovanú hodnotu už nič nezíska\n\n\n\no výslednej odmene rozhoduje celková hodnota faktúr vystavených počas trvania akcie\n\n\n\ndarčeky sa budú rozdávať po skončení akcie na základe reportu od zapojených B2B partnerov\n\n\n\nhodnota nákupu je uvedená bez DPH\n\n\n\nreproduktory sa budú posielať až po skončení akcie na základe reportu\n\n\n\n\n\n\n\n\n\nPrejsť k produktom na e-shop
URL:https://blog.hagard.sk/udalost/noark-predajna-akcia-hudba-ako-darcek/
CATEGORIES:Predajná akcia
ATTACH;FMTTYPE=image/jpeg:https://blog.hagard.sk/wp-content/uploads/2025/05/pa_noark_2025_reproduktor_perex.jpg
END:VEVENT
BEGIN:VEVENT
DTSTART;TZID=Europe/Bratislava:20250430T100000
DTEND;TZID=Europe/Bratislava:20250430T140000
DTSTAMP:20260425T145458
CREATED:20250304T151830Z
LAST-MODIFIED:20250417T073115Z
UID:2684-1746007200-1746021600@blog.hagard.sk
SUMMARY:LEDVANCE prezentačný deň
DESCRIPTION:LEDVAN NA CESTÁCH\n\n\n\nVážení zákazníci\,radi by sme vás pozvali na prezentáciu „LEDVAN NA CESTÁCH“\, ktorá sa bude konať pred predajnými priestormi pobočky. V showroome svietidiel a svetelných zdrojov Vám predstavíme novinky v sortimente.
URL:https://blog.hagard.sk/udalost/ledvance-prezentacny-den-6/
LOCATION:HAGARD:HAL Nové Zámky\, Dvorská cesta 23\, Nové Zámky\, 940 02
CATEGORIES:Prezentačný deň
ATTACH;FMTTYPE=image/jpeg:https://blog.hagard.sk/wp-content/uploads/2025/03/bnr_ledvance_tour_2025.jpg
END:VEVENT
BEGIN:VEVENT
DTSTART;TZID=Europe/Bratislava:20250429T100000
DTEND;TZID=Europe/Bratislava:20250429T140000
DTSTAMP:20260425T145458
CREATED:20250304T151653Z
LAST-MODIFIED:20250417T073033Z
UID:2681-1745920800-1745935200@blog.hagard.sk
SUMMARY:LEDVANCE prezentačný deň
DESCRIPTION:LEDVAN NA CESTÁCH\n\n\n\nVážení zákazníci\,radi by sme vás pozvali na prezentáciu „LEDVAN NA CESTÁCH“\, ktorá sa bude konať pred predajnými priestormi pobočky. V showroome svietidiel a svetelných zdrojov Vám predstavíme novinky v sortimente.
URL:https://blog.hagard.sk/udalost/ledvance-prezentacny-den-5/
LOCATION:HAGARD:HAL Nitra\, Pražská 9\, Nitra - Mlynárce\, 949 11
CATEGORIES:Prezentačný deň
ATTACH;FMTTYPE=image/jpeg:https://blog.hagard.sk/wp-content/uploads/2025/03/bnr_ledvance_tour_2025.jpg
END:VEVENT
BEGIN:VEVENT
DTSTART;TZID=Europe/Bratislava:20250429T080000
DTEND;TZID=Europe/Bratislava:20250429T140000
DTSTAMP:20260425T145458
CREATED:20250321T144802Z
LAST-MODIFIED:20250321T144803Z
UID:2732-1745913600-1745935200@blog.hagard.sk
SUMMARY:ARKYS prezentačný deň
DESCRIPTION:Vážení zákazníci\,radi by sme vás pozvali na prezentáciu káblových nosných systémov MERKUR\, LINEAR a POLAR. Prezentácia sa bude konať v predajných priestoroch pobočky. Predstavíme Vám novinky v našom sortimente. \n\n\n\n\n\n\n\n\n\n\n\nPozývame Vás na prezentáciu systémov káblových trás MERKUR\, LINEAR a POLAR\, ktoré predstavujú komplexné a ucelené riešenia pre inštaláciu\, spĺňajúce najvyššie požiadavky na bezpečnosť\, efektivitu\, funkčnosť a kvalitu. Príďte sa osobne presvedčiť o ich výhodách a tipoch na využitie. Naši odborníci Vám budú k dispozícii. Súčasťou prezentačnej akcie je občerstvenie.
URL:https://blog.hagard.sk/udalost/arkys-prezentacny-den-22/
LOCATION:HAGARD:HAL Poprad\, Teplická 34\, Poprad\, 058 01
CATEGORIES:Prezentačný deň
ATTACH;FMTTYPE=image/png:https://blog.hagard.sk/wp-content/uploads/2024/02/pd_arkys_2024.png
END:VEVENT
BEGIN:VEVENT
DTSTART;TZID=Europe/Bratislava:20250429T080000
DTEND;TZID=Europe/Bratislava:20250429T140000
DTSTAMP:20260425T145458
CREATED:20250321T144608Z
LAST-MODIFIED:20250321T144633Z
UID:2729-1745913600-1745935200@blog.hagard.sk
SUMMARY:ARKYS prezentačný deň
DESCRIPTION:Vážení zákazníci\,radi by sme vás pozvali na prezentáciu káblových nosných systémov MERKUR\, LINEAR a POLAR. Prezentácia sa bude konať v predajných priestoroch pobočky. Predstavíme Vám novinky v našom sortimente. \n\n\n\n\n\n\n\n\n\n\n\nPozývame Vás na prezentáciu systémov káblových trás MERKUR\, LINEAR a POLAR\, ktoré predstavujú komplexné a ucelené riešenia pre inštaláciu\, spĺňajúce najvyššie požiadavky na bezpečnosť\, efektivitu\, funkčnosť a kvalitu. Príďte sa osobne presvedčiť o ich výhodách a tipoch na využitie. Naši odborníci Vám budú k dispozícii. Súčasťou prezentačnej akcie je občerstvenie.
URL:https://blog.hagard.sk/udalost/arkys-prezentacny-den-21/
LOCATION:HAGARD:HAL Dolný Kubín\, Aleja Slobody 2236/15\, Dolný Kubín\, 026 01
CATEGORIES:Prezentačný deň
ATTACH;FMTTYPE=image/png:https://blog.hagard.sk/wp-content/uploads/2024/02/pd_arkys_2024.png
END:VEVENT
BEGIN:VEVENT
DTSTART;TZID=Europe/Bratislava:20250425T100000
DTEND;TZID=Europe/Bratislava:20250425T140000
DTSTAMP:20260425T145458
CREATED:20250401T120747Z
LAST-MODIFIED:20250417T072947Z
UID:2783-1745575200-1745589600@blog.hagard.sk
SUMMARY:LEDVANCE prezentačný deň
DESCRIPTION:LEDVAN NA CESTÁCH\n\n\n\nVážení zákazníci\,radi by sme vás pozvali na prezentáciu „LEDVAN NA CESTÁCH“\, ktorá sa bude konať pred predajnými priestormi pobočky. V showroome svietidiel a svetelných zdrojov Vám predstavíme novinky v sortimente.
URL:https://blog.hagard.sk/udalost/ledvance-prezentacny-den-7/
LOCATION:HAGARD:HAL Bratislava\, Ivánska cesta 34\, Mokráň Záhon\, Bratislava\, 82104
CATEGORIES:Prezentačný deň
ATTACH;FMTTYPE=image/jpeg:https://blog.hagard.sk/wp-content/uploads/2025/03/bnr_ledvance_tour_2025.jpg
END:VEVENT
END:VCALENDAR