BEGIN:VCALENDAR
VERSION:2.0
PRODID:-//HAGARD:HAL BLOG - ECPv6.15.20//NONSGML v1.0//EN
CALSCALE:GREGORIAN
METHOD:PUBLISH
X-WR-CALNAME:HAGARD:HAL BLOG
X-ORIGINAL-URL:https://blog.hagard.sk
X-WR-CALDESC:Udalosti pre HAGARD:HAL BLOG
REFRESH-INTERVAL;VALUE=DURATION:PT1H
X-Robots-Tag:noindex
X-PUBLISHED-TTL:PT1H
BEGIN:VTIMEZONE
TZID:Europe/Bratislava
BEGIN:DAYLIGHT
TZOFFSETFROM:+0100
TZOFFSETTO:+0200
TZNAME:CEST
DTSTART:20250330T010000
END:DAYLIGHT
BEGIN:STANDARD
TZOFFSETFROM:+0200
TZOFFSETTO:+0100
TZNAME:CET
DTSTART:20251026T010000
END:STANDARD
BEGIN:DAYLIGHT
TZOFFSETFROM:+0100
TZOFFSETTO:+0200
TZNAME:CEST
DTSTART:20260329T010000
END:DAYLIGHT
BEGIN:STANDARD
TZOFFSETFROM:+0200
TZOFFSETTO:+0100
TZNAME:CET
DTSTART:20261025T010000
END:STANDARD
BEGIN:DAYLIGHT
TZOFFSETFROM:+0100
TZOFFSETTO:+0200
TZNAME:CEST
DTSTART:20270328T010000
END:DAYLIGHT
BEGIN:STANDARD
TZOFFSETFROM:+0200
TZOFFSETTO:+0100
TZNAME:CET
DTSTART:20271031T010000
END:STANDARD
END:VTIMEZONE
BEGIN:VEVENT
DTSTART;TZID=Europe/Bratislava:20260422T083000
DTEND;TZID=Europe/Bratislava:20260422T143000
DTSTAMP:20260425T143257
CREATED:20260401T065220Z
LAST-MODIFIED:20260401T065222Z
UID:3383-1776846600-1776868200@blog.hagard.sk
SUMMARY:ABB prezentačný deň
DESCRIPTION:Vážení zákazníci\, \n\n\n\n\n\n\n\n\n\n\n\n\n\nVážení zákazníci\,pozývame Vás na prezentáciu\, kde vám predstavíme novinky z radu Zoni\, UK600\, ABB Welcome Midi
URL:https://blog.hagard.sk/udalost/abb-prezentacny-den-7/
LOCATION:HAGARD:HAL Poprad\, Teplická 34\, Poprad\, 058 01
CATEGORIES:Prezentačný deň
ATTACH;FMTTYPE=image/jpeg:https://blog.hagard.sk/wp-content/uploads/2026/04/bnr_pd_abb_2026.jpg
END:VEVENT
BEGIN:VEVENT
DTSTART;TZID=Europe/Bratislava:20260423T080000
DTEND;TZID=Europe/Bratislava:20260423T140000
DTSTAMP:20260425T143257
CREATED:20260415T154619Z
LAST-MODIFIED:20260415T154621Z
UID:3396-1776931200-1776952800@blog.hagard.sk
SUMMARY:KOPOS prezentačný deň
DESCRIPTION:Vážení zákazníci\,pozývame Vás na prezentáciu\, kde Vám predstavíme novinky v sortimente.
URL:https://blog.hagard.sk/udalost/kopos-prezentacny-den-6/
LOCATION:HAGARD:HAL Trnava\, Zavarská 10/E\, Trnava\, 917 00
CATEGORIES:Prezentačný deň
ATTACH;FMTTYPE=image/jpeg:https://blog.hagard.sk/wp-content/uploads/2026/04/pd_kopos_2026_.jpg
END:VEVENT
BEGIN:VEVENT
DTSTART;TZID=Europe/Bratislava:20260429T080000
DTEND;TZID=Europe/Bratislava:20260429T140000
DTSTAMP:20260425T143257
CREATED:20260415T155140Z
LAST-MODIFIED:20260415T155141Z
UID:3398-1777449600-1777471200@blog.hagard.sk
SUMMARY:KOPOS prezentačný deň
DESCRIPTION:Vážení zákazníci\,pozývame Vás na prezentáciu\, kde Vám predstavíme novinky v sortimente.
URL:https://blog.hagard.sk/udalost/kopos-prezentacny-den-7/
LOCATION:HAGARD:HAL Žilina\, Kvačalova 782/11\, Žilina - Závodie\, 010 04
CATEGORIES:Prezentačný deň
ATTACH;FMTTYPE=image/jpeg:https://blog.hagard.sk/wp-content/uploads/2026/04/pd_kopos_2026_.jpg
END:VEVENT
BEGIN:VEVENT
DTSTART;TZID=Europe/Bratislava:20260429T080000
DTEND;TZID=Europe/Bratislava:20260429T140000
DTSTAMP:20260425T143257
CREATED:20260415T162334Z
LAST-MODIFIED:20260415T162336Z
UID:3401-1777449600-1777471200@blog.hagard.sk
SUMMARY:E|S|T - prezentačný deň
DESCRIPTION:Vážení zákazníci\,radi by sme vás pozvali na prezentáciu\, ktorá sa bude konať v predajných priestoroch pobočky. Predstavíme Vám novinky v našom sortimente.
URL:https://blog.hagard.sk/udalost/est-prezentacny-den-41/
LOCATION:HAGARD:HAL Bratislava\, Ivánska cesta 34\, Mokráň Záhon\, Bratislava\, 82104
CATEGORIES:Prezentačný deň
ATTACH;FMTTYPE=image/jpeg:https://blog.hagard.sk/wp-content/uploads/2026/04/pd_est_2026.jpg
END:VEVENT
END:VCALENDAR