BEGIN:VCALENDAR
VERSION:2.0
PRODID:-//HAGARD:HAL BLOG - ECPv6.15.20//NONSGML v1.0//EN
CALSCALE:GREGORIAN
METHOD:PUBLISH
X-WR-CALNAME:HAGARD:HAL BLOG
X-ORIGINAL-URL:https://blog.hagard.sk
X-WR-CALDESC:Udalosti pre HAGARD:HAL BLOG
REFRESH-INTERVAL;VALUE=DURATION:PT1H
X-Robots-Tag:noindex
X-PUBLISHED-TTL:PT1H
BEGIN:VTIMEZONE
TZID:Europe/Bratislava
BEGIN:DAYLIGHT
TZOFFSETFROM:+0100
TZOFFSETTO:+0200
TZNAME:CEST
DTSTART:20230326T010000
END:DAYLIGHT
BEGIN:STANDARD
TZOFFSETFROM:+0200
TZOFFSETTO:+0100
TZNAME:CET
DTSTART:20231029T010000
END:STANDARD
BEGIN:DAYLIGHT
TZOFFSETFROM:+0100
TZOFFSETTO:+0200
TZNAME:CEST
DTSTART:20240331T010000
END:DAYLIGHT
BEGIN:STANDARD
TZOFFSETFROM:+0200
TZOFFSETTO:+0100
TZNAME:CET
DTSTART:20241027T010000
END:STANDARD
BEGIN:DAYLIGHT
TZOFFSETFROM:+0100
TZOFFSETTO:+0200
TZNAME:CEST
DTSTART:20250330T010000
END:DAYLIGHT
BEGIN:STANDARD
TZOFFSETFROM:+0200
TZOFFSETTO:+0100
TZNAME:CET
DTSTART:20251026T010000
END:STANDARD
END:VTIMEZONE
BEGIN:VEVENT
DTSTART;TZID=Europe/Bratislava:20241016T080000
DTEND;TZID=Europe/Bratislava:20241016T140000
DTSTAMP:20260426T015036
CREATED:20241007T095009Z
LAST-MODIFIED:20241007T095009Z
UID:2471-1729065600-1729087200@blog.hagard.sk
SUMMARY:Obo Bettermann prezentačný deň
DESCRIPTION:Vážení zákazníci\,radi by sme vás pozvali na prezentáciu výrobného sortimentu OBO BETTERMANN\, ktorá sa bude konať v predajných priestoroch pobočky. Predstavíme Vám novinky v našom sortimente.
URL:https://blog.hagard.sk/udalost/obo-bettermann-prezentacny-den-7/
LOCATION:HAGARD:HAL Nitra\, Pražská 9\, Nitra - Mlynárce\, 949 11
CATEGORIES:Prezentačný deň
ATTACH;FMTTYPE=image/jpeg:https://blog.hagard.sk/wp-content/uploads/2024/02/pd_obo_2024.jpg
END:VEVENT
BEGIN:VEVENT
DTSTART;TZID=Europe/Bratislava:20241016T080000
DTEND;TZID=Europe/Bratislava:20241016T140000
DTSTAMP:20260426T015036
CREATED:20241007T085910Z
LAST-MODIFIED:20241007T085911Z
UID:2438-1729065600-1729087200@blog.hagard.sk
SUMMARY:E|S|T - prezentačný deň
DESCRIPTION:Vážení zákazníci\,radi by sme vás pozvali na prezentáciu\, ktorá sa bude konať v predajných priestoroch pobočky. Predstavíme Vám novinky v našom sortimente.
URL:https://blog.hagard.sk/udalost/est-prezentacny-den-17/
LOCATION:HAGARD:HAL Poprad\, Teplická 34\, Poprad\, 058 01
CATEGORIES:Prezentačný deň
ATTACH;FMTTYPE=image/jpeg:https://blog.hagard.sk/wp-content/uploads/2024/09/pd_est_2024.jpg
END:VEVENT
BEGIN:VEVENT
DTSTART;TZID=Europe/Bratislava:20241015T080000
DTEND;TZID=Europe/Bratislava:20241015T140000
DTSTAMP:20260426T015036
CREATED:20241010T092008Z
LAST-MODIFIED:20241010T092009Z
UID:2512-1728979200-1729000800@blog.hagard.sk
SUMMARY:NOARK prezentačný deň
DESCRIPTION:Vážení zákazníci\,radi by sme vás pozvali na prezentáciu\, ktorá sa bude konať v predajných priestoroch pobočky. Pripravili sme pre vás novinky v našom sortimente a taktiež malé občerstvenie.
URL:https://blog.hagard.sk/udalost/noark-prezentacny-den-11/
LOCATION:HAGARD:HAL Košice\, Holubyho 12\, Košice\, 040 01
CATEGORIES:Prezentačný deň
ATTACH;FMTTYPE=image/jpeg:https://blog.hagard.sk/wp-content/uploads/2024/09/pd_noark_2024.jpg
END:VEVENT
BEGIN:VEVENT
DTSTART;TZID=Europe/Bratislava:20241015T080000
DTEND;TZID=Europe/Bratislava:20241015T140000
DTSTAMP:20260426T015036
CREATED:20241003T102609Z
LAST-MODIFIED:20241007T091748Z
UID:2421-1728979200-1729000800@blog.hagard.sk
SUMMARY:Obo Bettermann prezentačný deň
DESCRIPTION:Vážení zákazníci\,radi by sme vás pozvali na prezentáciu výrobného sortimentu OBO BETTERMANN\, ktorá sa bude konať v predajných priestoroch pobočky. Predstavíme Vám novinky v našom sortimente.
URL:https://blog.hagard.sk/udalost/obo-bettermann-prezentacny-den-5/
LOCATION:HAGARD:HAL Piešťany\, A. Hlinku 15/4430\, Piešťany\, 921 01
CATEGORIES:Prezentačný deň
ATTACH;FMTTYPE=image/jpeg:https://blog.hagard.sk/wp-content/uploads/2024/02/pd_obo_2024.jpg
END:VEVENT
BEGIN:VEVENT
DTSTART;TZID=Europe/Bratislava:20241014T000000
DTEND;TZID=Europe/Bratislava:20241214T235959
DTSTAMP:20260426T015036
CREATED:20241009T090316Z
LAST-MODIFIED:20241009T104202Z
UID:2486-1728864000-1734220799@blog.hagard.sk
SUMMARY:SEZ DK predajná akcia ACIDUR 3
DESCRIPTION:ODMEŇ SA SO SEZ DK\n\n\n\n\n\n\n\n\n\nPodmienky akcie: \n\n\n\n\ndarček sa vzťahuje na kúpu celého balenia krabíc ACIDUR 3\n\n\n\nakcia prebieha od 14.10. do 14.12.2024 alebo do rozdania darčekov\n\n\n\nprodukty sú v e-shope označené štítkom darček\n\n\n\n\n\n\n\n\n\nPrejsť k produktom na e-shop
URL:https://blog.hagard.sk/udalost/sez-dk-predajna-akcia-acidur-3/
ATTACH;FMTTYPE=image/jpeg:https://blog.hagard.sk/wp-content/uploads/2024/10/bnr_sez_dk_acidur_darcek_2024.jpg
END:VEVENT
BEGIN:VEVENT
DTSTART;TZID=Europe/Bratislava:20241011T080000
DTEND;TZID=Europe/Bratislava:20241011T140000
DTSTAMP:20260426T015036
CREATED:20241010T091637Z
LAST-MODIFIED:20241010T091705Z
UID:2508-1728633600-1728655200@blog.hagard.sk
SUMMARY:NOARK prezentačný deň
DESCRIPTION:Vážení zákazníci\,radi by sme vás pozvali na prezentáciu\, ktorá sa bude konať v predajných priestoroch pobočky. Pripravili sme pre vás novinky v našom sortimente a taktiež malé občerstvenie.
URL:https://blog.hagard.sk/udalost/noark-prezentacny-den-9/
LOCATION:HAGARD:HAL Bratislava\, Ivánska cesta 34\, Mokráň Záhon\, Bratislava\, 82104
CATEGORIES:Prezentačný deň
ATTACH;FMTTYPE=image/jpeg:https://blog.hagard.sk/wp-content/uploads/2024/09/pd_noark_2024.jpg
END:VEVENT
BEGIN:VEVENT
DTSTART;TZID=Europe/Bratislava:20241009T080000
DTEND;TZID=Europe/Bratislava:20241009T140000
DTSTAMP:20260426T015036
CREATED:20241007T090059Z
LAST-MODIFIED:20241007T100051Z
UID:2440-1728460800-1728482400@blog.hagard.sk
SUMMARY:E|S|T - prezentačný deň
DESCRIPTION:Vážení zákazníci\,radi by sme vás pozvali na prezentáciu\, ktorá sa bude konať v predajných priestoroch pobočky. Predstavíme Vám novinky v našom sortimente.
URL:https://blog.hagard.sk/udalost/est-prezentacny-den-18/
LOCATION:HAGARD:HAL Nitra\, Pražská 9\, Nitra - Mlynárce\, 949 11
CATEGORIES:Prezentačný deň
ATTACH;FMTTYPE=image/jpeg:https://blog.hagard.sk/wp-content/uploads/2024/09/pd_est_2024.jpg
END:VEVENT
BEGIN:VEVENT
DTSTART;TZID=Europe/Bratislava:20241008T080000
DTEND;TZID=Europe/Bratislava:20241008T140000
DTSTAMP:20260426T015036
CREATED:20241007T090226Z
LAST-MODIFIED:20241007T090343Z
UID:2442-1728374400-1728396000@blog.hagard.sk
SUMMARY:E|S|T - prezentačný deň
DESCRIPTION:Vážení zákazníci\,radi by sme vás pozvali na prezentáciu\, ktorá sa bude konať v predajných priestoroch pobočky. Predstavíme Vám novinky v našom sortimente.
URL:https://blog.hagard.sk/udalost/est-prezentacny-den-19/
LOCATION:HAGARD:HAL Trnava\, Zavarská 10/E\, Trnava\, 917 00
CATEGORIES:Prezentačný deň
ATTACH;FMTTYPE=image/jpeg:https://blog.hagard.sk/wp-content/uploads/2024/09/pd_est_2024.jpg
END:VEVENT
BEGIN:VEVENT
DTSTART;TZID=Europe/Bratislava:20241007T080000
DTEND;TZID=Europe/Bratislava:20241130T170000
DTSTAMP:20260426T015036
CREATED:20241007T071256Z
LAST-MODIFIED:20241007T071914Z
UID:2425-1728288000-1732986000@blog.hagard.sk
SUMMARY:SIGNIFY predajná akcia LED produktov Philips a Pila
DESCRIPTION:Nepremeškajte príležitosť\n\n\n\nZa nákup LED produktov Philips a Pila v minimálnej hodnote 30€ s DPH získajte slúchadlá ako darček. \n\n\n\n\n\n\n\n\n\n\n\nPodmienky akcie:\n\n\n\n\nak nákup presiahne hodnotu 30€ s DPH zákazník získa 1x slúchadlá\n\n\n\nakcia prebieha od 7.10.2024 do 30.11.2024 alebo do rozdania darčekov\n\n\n\n\n\n\n\n\n\nPrejsť k produktom na e-shop
URL:https://blog.hagard.sk/udalost/signify-predajna-akcia-led-produktov-philips-a-pila/
CATEGORIES:Predajná akcia
ATTACH;FMTTYPE=image/jpeg:https://blog.hagard.sk/wp-content/uploads/2024/10/pa_signify_sluchadla_2024.jpg
END:VEVENT
BEGIN:VEVENT
DTSTART;TZID=Europe/Bratislava:20241003T080000
DTEND;TZID=Europe/Bratislava:20241003T140000
DTSTAMP:20260426T015036
CREATED:20240925T091917Z
LAST-MODIFIED:20240925T091918Z
UID:2367-1727942400-1727964000@blog.hagard.sk
SUMMARY:E|S|T - prezentačný deň
DESCRIPTION:Vážení zákazníci\,radi by sme vás pozvali na prezentáciu\, ktorá sa bude konať v predajných priestoroch pobočky. Predstavíme Vám novinky v našom sortimente.
URL:https://blog.hagard.sk/udalost/est-prezentacny-den-15/
LOCATION:HAGARD:HAL Bratislava\, Ivánska cesta 34\, Mokráň Záhon\, Bratislava\, 82104
CATEGORIES:Prezentačný deň
ATTACH;FMTTYPE=image/jpeg:https://blog.hagard.sk/wp-content/uploads/2024/09/pd_est_2024.jpg
END:VEVENT
BEGIN:VEVENT
DTSTART;TZID=Europe/Bratislava:20240926T080000
DTEND;TZID=Europe/Bratislava:20240926T140000
DTSTAMP:20260426T015036
CREATED:20240916T083845Z
LAST-MODIFIED:20240916T083846Z
UID:2346-1727337600-1727359200@blog.hagard.sk
SUMMARY:Signify prezentačný deň
DESCRIPTION:Vážení zákazníci\,pozývame Vás na prezentačné dni\, kde si môžete za nakúp produktov Signify a Pila vytočiť zaujímavú výhru.
URL:https://blog.hagard.sk/udalost/signify-prezentacny-den-6/
LOCATION:HAGARD:HAL Žilina\, Kvačalova 782/11\, Žilina - Závodie\, 010 04
CATEGORIES:Prezentačný deň
ATTACH;FMTTYPE=image/jpeg:https://blog.hagard.sk/wp-content/uploads/2024/09/pd_Signify_2024.jpg
END:VEVENT
BEGIN:VEVENT
DTSTART;TZID=Europe/Bratislava:20240925T080000
DTEND;TZID=Europe/Bratislava:20240925T140000
DTSTAMP:20260426T015036
CREATED:20240916T083732Z
LAST-MODIFIED:20240916T083734Z
UID:2344-1727251200-1727272800@blog.hagard.sk
SUMMARY:Signify prezentačný deň
DESCRIPTION:Vážení zákazníci\,pozývame Vás na prezentačné dni\, kde si môžete za nakúp produktov Signify a Pila vytočiť zaujímavú výhru.
URL:https://blog.hagard.sk/udalost/signify-prezentacny-den-5/
LOCATION:HAGARD:HAL Zvolen\, Tulská 9227/2\, Zvolen\, 960 01
CATEGORIES:Prezentačný deň
ATTACH;FMTTYPE=image/jpeg:https://blog.hagard.sk/wp-content/uploads/2024/09/pd_Signify_2024.jpg
END:VEVENT
BEGIN:VEVENT
DTSTART;TZID=Europe/Bratislava:20240924T080000
DTEND;TZID=Europe/Bratislava:20240924T140000
DTSTAMP:20260426T015036
CREATED:20240916T083616Z
LAST-MODIFIED:20240916T083617Z
UID:2342-1727164800-1727186400@blog.hagard.sk
SUMMARY:Signify prezentačný deň
DESCRIPTION:Vážení zákazníci\,pozývame Vás na prezentačné dni\, kde si môžete za nakúp produktov Signify a Pila vytočiť zaujímavú výhru.
URL:https://blog.hagard.sk/udalost/signify-prezentacny-den-4/
LOCATION:HAGARD:HAL Trenčín\, Zlatovská 33\, Trenčín - Zlatovce\, 911 05
CATEGORIES:Prezentačný deň
ATTACH;FMTTYPE=image/jpeg:https://blog.hagard.sk/wp-content/uploads/2024/09/pd_Signify_2024.jpg
END:VEVENT
BEGIN:VEVENT
DTSTART;TZID=Europe/Bratislava:20240919T080000
DTEND;TZID=Europe/Bratislava:20240919T140000
DTSTAMP:20260426T015037
CREATED:20240916T083453Z
LAST-MODIFIED:20240916T083454Z
UID:2340-1726732800-1726754400@blog.hagard.sk
SUMMARY:Signify prezentačný deň
DESCRIPTION:Vážení zákazníci\,pozývame Vás na prezentačné dni\, kde si môžete za nakúp produktov Signify a Pila vytočiť zaujímavú výhru.
URL:https://blog.hagard.sk/udalost/signify-prezentacny-den-3/
LOCATION:HAGARD:HAL Štúrovo\, Továrenská 3505\, Štúrovo\, 943 01
CATEGORIES:Prezentačný deň
ATTACH;FMTTYPE=image/jpeg:https://blog.hagard.sk/wp-content/uploads/2024/09/pd_Signify_2024.jpg
END:VEVENT
BEGIN:VEVENT
DTSTART;TZID=Europe/Bratislava:20240918T080000
DTEND;TZID=Europe/Bratislava:20240918T140000
DTSTAMP:20260426T015037
CREATED:20240916T083130Z
LAST-MODIFIED:20240916T083131Z
UID:2338-1726646400-1726668000@blog.hagard.sk
SUMMARY:Signify prezentačný deň
DESCRIPTION:Vážení zákazníci\,pozývame Vás na prezentačné dni\, kde si môžete za nakúp produktov Signify a Pila vytočiť zaujímavú výhru.
URL:https://blog.hagard.sk/udalost/signify-prezentacny-den-2/
LOCATION:HAGARD:HAL Piešťany\, A. Hlinku 15/4430\, Piešťany\, 921 01
CATEGORIES:Prezentačný deň
ATTACH;FMTTYPE=image/jpeg:https://blog.hagard.sk/wp-content/uploads/2024/09/pd_Signify_2024.jpg
END:VEVENT
BEGIN:VEVENT
DTSTART;TZID=Europe/Bratislava:20240917T080000
DTEND;TZID=Europe/Bratislava:20240917T140000
DTSTAMP:20260426T015037
CREATED:20240916T082802Z
LAST-MODIFIED:20240916T082803Z
UID:2336-1726560000-1726581600@blog.hagard.sk
SUMMARY:Signify prezentačný deň
DESCRIPTION:Vážení zákazníci\,pozývame Vás na prezentačné dni\, kde si môžete za nakúp produktov Signify a Pila vytočiť zaujímavú výhru.
URL:https://blog.hagard.sk/udalost/signify-prezentacny-den/
LOCATION:HAGARD:HAL Nové Zámky\, Dvorská cesta 23\, Nové Zámky\, 940 02
CATEGORIES:Prezentačný deň
ATTACH;FMTTYPE=image/jpeg:https://blog.hagard.sk/wp-content/uploads/2024/09/pd_Signify_2024.jpg
END:VEVENT
BEGIN:VEVENT
DTSTART;TZID=Europe/Bratislava:20240911T080000
DTEND;TZID=Europe/Bratislava:20240911T140000
DTSTAMP:20260426T015037
CREATED:20240906T053552Z
LAST-MODIFIED:20240909T131715Z
UID:2316-1726041600-1726063200@blog.hagard.sk
SUMMARY:Signify prezentačný deň
DESCRIPTION:Vážení zákazníci\,pozývame Vás na prezentačné dni\, kde si môžete za nakúp produktov Signify a Pila vytočiť zaujímavú výhru.
URL:https://blog.hagard.sk/udalost/prezentacny-den-signify-2/
LOCATION:HAGARD:HAL Prešov\, Budovateľská 50\, Prešov\, 080 01
CATEGORIES:Prezentačný deň
ATTACH;FMTTYPE=image/jpeg:https://blog.hagard.sk/wp-content/uploads/2024/09/pd_Signify_2024.jpg
END:VEVENT
BEGIN:VEVENT
DTSTART;TZID=Europe/Bratislava:20240910T080000
DTEND;TZID=Europe/Bratislava:20240910T140000
DTSTAMP:20260426T015037
CREATED:20240906T052141Z
LAST-MODIFIED:20240909T131728Z
UID:2312-1725955200-1725976800@blog.hagard.sk
SUMMARY:Signify prezentačný deň
DESCRIPTION:Vážení zákazníci\,pozývame Vás na prezentačné dni\, kde si môžete za nakúp produktov Signify a Pila vytočiť zaujímavú výhru.
URL:https://blog.hagard.sk/udalost/prezentacny-den-signify/
LOCATION:HAGARD:HAL Poprad\, Teplická 34\, Poprad\, 058 01
CATEGORIES:Prezentačný deň
ATTACH;FMTTYPE=image/jpeg:https://blog.hagard.sk/wp-content/uploads/2024/09/pd_Signify_2024.jpg
END:VEVENT
BEGIN:VEVENT
DTSTART;TZID=Europe/Bratislava:20240814T000000
DTEND;TZID=Europe/Bratislava:20240815T235959
DTSTAMP:20260426T015037
CREATED:20240625T171754Z
LAST-MODIFIED:20240625T171755Z
UID:2210-1723593600-1723766399@blog.hagard.sk
SUMMARY:Schneider Electric prezentačný deň
DESCRIPTION:09:00 – 15:00 \n\n\n\n\n\n\n\n\n\nVážení zákazníci\,pozývame Vás na prezentačné dni zamerané na nové domové nabíjacie stanice Schneider Charge.
URL:https://blog.hagard.sk/udalost/schneider-electric-prezentacny-den-2/
LOCATION:HAGARD:HAL Trnava\, Zavarská 10/E\, Trnava\, 917 00
CATEGORIES:Prezentačný deň
ATTACH;FMTTYPE=image/jpeg:https://blog.hagard.sk/wp-content/uploads/2024/06/pd_Schneider_ev_charge_2024.jpg
END:VEVENT
BEGIN:VEVENT
DTSTART;TZID=Europe/Bratislava:20240812T000000
DTEND;TZID=Europe/Bratislava:20240813T235959
DTSTAMP:20260426T015037
CREATED:20240625T162206Z
LAST-MODIFIED:20240625T170513Z
UID:2202-1723420800-1723593599@blog.hagard.sk
SUMMARY:Schneider Electric prezentačný deň
DESCRIPTION:09:00 – 15:00 \n\n\n\n\n\n\n\n\n\nVážení zákazníci\,pozývame Vás na prezentačné dni zamerané na nové domové nabíjacie stanice Schneider Charge.
URL:https://blog.hagard.sk/udalost/schneider-electric-prezentacny-den/
LOCATION:HAGARD:HAL Nitra\, Pražská 9\, Nitra - Mlynárce\, 949 11
CATEGORIES:Prezentačný deň
ATTACH;FMTTYPE=image/jpeg:https://blog.hagard.sk/wp-content/uploads/2024/06/pd_Schneider_ev_charge_2024.jpg
END:VEVENT
BEGIN:VEVENT
DTSTART;TZID=Europe/Bratislava:20240805T000000
DTEND;TZID=Europe/Bratislava:20240806T235959
DTSTAMP:20260426T015037
CREATED:20240625T172213Z
LAST-MODIFIED:20240625T172214Z
UID:2213-1722816000-1722988799@blog.hagard.sk
SUMMARY:Schneider Electric prezentačný deň
DESCRIPTION:09:00 – 15:00 \n\n\n\n\n\n\n\n\n\nVážení zákazníci\,pozývame Vás na prezentačné dni zamerané na nové domové nabíjacie stanice Schneider Charge.
URL:https://blog.hagard.sk/udalost/schneider-electric-prezentacny-den-3/
LOCATION:HAGARD:HAL Bratislava\, Ivánska cesta 34\, Mokráň Záhon\, Bratislava\, 82104
CATEGORIES:Prezentačný deň
ATTACH;FMTTYPE=image/jpeg:https://blog.hagard.sk/wp-content/uploads/2024/06/pd_Schneider_ev_charge_2024.jpg
END:VEVENT
BEGIN:VEVENT
DTSTART;TZID=Europe/Bratislava:20240801T000000
DTEND;TZID=Europe/Bratislava:20240930T235959
DTSTAMP:20260426T015037
CREATED:20240730T184900Z
LAST-MODIFIED:20240805T083220Z
UID:2229-1722470400-1727740799@blog.hagard.sk
SUMMARY:ELKO EP predajná akcia
DESCRIPTION:DOPLŇ SI ENERGIU\n\n\n\n\n\n\n\n\n\nPodmienky akcie: \n\n\n\n\ndarček sa vzťahuje na celý sortiment značky ELKO EP\, iNELS\, Efapel (Logus90\, Quadra\, Siza)\n\n\n\nakcia prebieha od 1.8. do 30.9.2024 alebo do rozdania darčekov\n\n\n\nakcia sa nevzťahuje na projekty\n\n\n\nza nákup produktov v hodnote 40€ bez DPH získa zákazník plechovku energy drinku\n\n\n\nna jeden nákup je možné získať maximálne 5ks plechoviek\n\n\n\npredajná akcia sa nevzťahuje na objednávky zasielané kuriérom\n\n\n\n\n\n\n\n\n\nPrejsť k produktom na e-shop
URL:https://blog.hagard.sk/udalost/elko-ep-predajna-akcia/
CATEGORIES:Predajná akcia
ATTACH;FMTTYPE=image/jpeg:https://blog.hagard.sk/wp-content/uploads/2024/07/bnr_elko_EP_energy_drink_2024.jpg
END:VEVENT
BEGIN:VEVENT
DTSTART;TZID=Europe/Bratislava:20240709T080000
DTEND;TZID=Europe/Bratislava:20240709T140000
DTSTAMP:20260426T015037
CREATED:20240625T154000Z
LAST-MODIFIED:20240625T154001Z
UID:2198-1720512000-1720533600@blog.hagard.sk
SUMMARY:KOPOS prezentačný deň
DESCRIPTION:Vážení zákazníci\,pozývame Vás na prezentáciu\, kde Vám predstavíme novinky v sortimente\, ako sú nové inštalačné systémy do betónu\, nové bezhalogénové krabice do dutých stien\, antibakteriálne lišty a iné.
URL:https://blog.hagard.sk/udalost/kopos-prezentacny-den/
LOCATION:HAGARD:HAL Zvolen\, Tulská 9227/2\, Zvolen\, 960 01
CATEGORIES:Prezentačný deň
ATTACH;FMTTYPE=image/jpeg:https://blog.hagard.sk/wp-content/uploads/2024/06/pd_kopos_2024.jpg
END:VEVENT
BEGIN:VEVENT
DTSTART;TZID=Europe/Bratislava:20240701T000000
DTEND;TZID=Europe/Bratislava:20240831T235959
DTSTAMP:20260426T015037
CREATED:20240625T180122Z
LAST-MODIFIED:20240626T055518Z
UID:2215-1719792000-1725148799@blog.hagard.sk
SUMMARY:NOARK predajná akcia
DESCRIPTION:ZAŽEŇ SMÄD S NOARKOM\n\n\n\n\n\n\n\n\n\nPodmienky akcie: \n\n\n\n\ndarček sa vzťahuje na celý sortiment značky NOARK\n\n\n\nakcia prebieha od 1.7. do 31.8.2024 alebo do rozdania darčekov\n\n\n\nakcia sa nevzťahuje na projekty\n\n\n\nza nákup vybraných produktov v hodnote 50€ bez DPH získa zákazník plechovku piva Budweiser\n\n\n\nna jeden nákup je možné získať maximálne 6ks plechoviek piva\n\n\n\npredajná akcia sa nevzťahuje na objednávky zasielané kuriérom\n\n\n\n\n\n\n\n\n\nPrejsť k produktom na e-shop
URL:https://blog.hagard.sk/udalost/noark-predajna-akcia-2/
CATEGORIES:Predajná akcia
ATTACH;FMTTYPE=image/jpeg:https://blog.hagard.sk/wp-content/uploads/2024/06/pa_noark_budweiser_2024.jpg
END:VEVENT
BEGIN:VEVENT
DTSTART;TZID=Europe/Bratislava:20240628T090000
DTEND;TZID=Europe/Bratislava:20240628T130000
DTSTAMP:20260426T015037
CREATED:20240602T132737Z
LAST-MODIFIED:20240602T132738Z
UID:2176-1719565200-1719579600@blog.hagard.sk
SUMMARY:EATON prezentačný deň
DESCRIPTION:Vážení zákazníci\,pozývame Vás na prezentáciu v našom mobilnom showroome\, kde Vám predstavíme naše portfólio produktov vrátane noviniek v sortimente.
URL:https://blog.hagard.sk/udalost/eaton-prezentacny-den-5/
LOCATION:HAGARD:HAL Nitra\, Pražská 9\, Nitra - Mlynárce\, 949 11
CATEGORIES:Prezentačný deň
ATTACH;FMTTYPE=image/jpeg:https://blog.hagard.sk/wp-content/uploads/2024/05/pd_eaton_2024.jpg
END:VEVENT
BEGIN:VEVENT
DTSTART;TZID=Europe/Bratislava:20240627T080000
DTEND;TZID=Europe/Bratislava:20240627T140000
DTSTAMP:20260426T015037
CREATED:20240617T180228Z
LAST-MODIFIED:20240617T180229Z
UID:2192-1719475200-1719496800@blog.hagard.sk
SUMMARY:Obo Bettermann prezentačný deň
DESCRIPTION:Vážení zákazníci\,radi by sme vás pozvali na prezentáciu výrobného sortimentu OBO BETTERMANN\, ktorá sa bude konať v predajných priestoroch pobočky. Predstavíme Vám novinky v našom sortimente.
URL:https://blog.hagard.sk/udalost/obo-bettermann-prezentacny-den-3/
LOCATION:HAGARD:HAL Nové Zámky\, Dvorská cesta 23\, Nové Zámky\, 940 02
CATEGORIES:Prezentačný deň
ATTACH;FMTTYPE=image/jpeg:https://blog.hagard.sk/wp-content/uploads/2024/02/pd_obo_2024.jpg
END:VEVENT
BEGIN:VEVENT
DTSTART;TZID=Europe/Bratislava:20240626T090000
DTEND;TZID=Europe/Bratislava:20240626T130000
DTSTAMP:20260426T015037
CREATED:20240602T132612Z
LAST-MODIFIED:20240602T132613Z
UID:2174-1719392400-1719406800@blog.hagard.sk
SUMMARY:EATON prezentačný deň
DESCRIPTION:Vážení zákazníci\,pozývame Vás na prezentáciu v našom mobilnom showroome\, kde Vám predstavíme naše portfólio produktov vrátane noviniek v sortimente.
URL:https://blog.hagard.sk/udalost/eaton-prezentacny-den-4/
LOCATION:HAGARD:HAL Nové Zámky\, Dvorská cesta 23\, Nové Zámky\, 940 02
CATEGORIES:Prezentačný deň
ATTACH;FMTTYPE=image/jpeg:https://blog.hagard.sk/wp-content/uploads/2024/05/pd_eaton_2024.jpg
END:VEVENT
BEGIN:VEVENT
DTSTART;TZID=Europe/Bratislava:20240626T080000
DTEND;TZID=Europe/Bratislava:20240626T140000
DTSTAMP:20260426T015037
CREATED:20240617T180418Z
LAST-MODIFIED:20240617T180419Z
UID:2195-1719388800-1719410400@blog.hagard.sk
SUMMARY:Obo Bettermann prezentačný deň
DESCRIPTION:Vážení zákazníci\,radi by sme vás pozvali na prezentáciu výrobného sortimentu OBO BETTERMANN\, ktorá sa bude konať v predajných priestoroch pobočky. Predstavíme Vám novinky v našom sortimente.
URL:https://blog.hagard.sk/udalost/obo-bettermann-prezentacny-den-4/
LOCATION:Hagard:Hal Komárno\, Bratislavská cesta 1804\, Komárno\, 945 01
CATEGORIES:Prezentačný deň
ATTACH;FMTTYPE=image/jpeg:https://blog.hagard.sk/wp-content/uploads/2024/02/pd_obo_2024.jpg
END:VEVENT
BEGIN:VEVENT
DTSTART;TZID=Europe/Bratislava:20240625T100000
DTEND;TZID=Europe/Bratislava:20240625T140000
DTSTAMP:20260426T015037
CREATED:20240603T071815Z
LAST-MODIFIED:20240603T071816Z
UID:2185-1719309600-1719324000@blog.hagard.sk
SUMMARY:TRILUX prezentačný deň
DESCRIPTION:SPOZNAJTE SVET SVIETIDIEL TRILUX-TWENTY3\n\n\n\nVážení zákazníci\, \n\n\n\ntáto prezentácia Vám ponúkne možnosť spoznať svet svietidiel TRILUX – twenty3\, ktoré sú navrhnuté tak\, aby spĺňali všetky potreby profesionálneho osvetlenia v každodennej prevádzke. Súčasťou prezentačnej akcie je aj malé občerstvenie. \n\n\n\nNenechajte si ujsť túto jedinečnú príležitosť dozvedieť sa viac o najnovších trendoch a inováciách v oblasti osvetlenia\, ktoré môžu prispieť k úspechu vašich projektov. \n\n\n\nTešíme sa na Vás!Tím TRILUX Slovakia s.r.o.
URL:https://blog.hagard.sk/udalost/trilux-prezentacny-den-12/
LOCATION:HAGARD:HAL Nitra\, Pražská 9\, Nitra - Mlynárce\, 949 11
CATEGORIES:Prezentačný deň
ATTACH;FMTTYPE=image/jpeg:https://blog.hagard.sk/wp-content/uploads/2024/06/pd_trilux_2024_PP_PO_NR.jpg
END:VEVENT
BEGIN:VEVENT
DTSTART;TZID=Europe/Bratislava:20240621T080000
DTEND;TZID=Europe/Bratislava:20240621T150000
DTSTAMP:20260426T015037
CREATED:20240531T125905Z
LAST-MODIFIED:20240531T125906Z
UID:2164-1718956800-1718982000@blog.hagard.sk
SUMMARY:MOREK prezentačný deň
DESCRIPTION:Vážení zákazníci\,pozývame Vás na prezentáciu v našom mobilnom showroome\, kde Vám predstavíme naše portfólio produktov vrátane noviniek v sortimente.
URL:https://blog.hagard.sk/udalost/morek-prezentacny-den-10/
LOCATION:HAGARD:HAL Štúrovo\, Továrenská 3505\, Štúrovo\, 943 01
CATEGORIES:Prezentačný deň
ATTACH;FMTTYPE=image/jpeg:https://blog.hagard.sk/wp-content/uploads/2024/04/pd_Morek_2024.jpg
END:VEVENT
END:VCALENDAR