BEGIN:VCALENDAR
VERSION:2.0
PRODID:-//HAGARD:HAL BLOG - ECPv6.15.20//NONSGML v1.0//EN
CALSCALE:GREGORIAN
METHOD:PUBLISH
X-WR-CALNAME:HAGARD:HAL BLOG
X-ORIGINAL-URL:https://blog.hagard.sk
X-WR-CALDESC:Udalosti pre HAGARD:HAL BLOG
REFRESH-INTERVAL;VALUE=DURATION:PT1H
X-Robots-Tag:noindex
X-PUBLISHED-TTL:PT1H
BEGIN:VTIMEZONE
TZID:Europe/Bratislava
BEGIN:DAYLIGHT
TZOFFSETFROM:+0100
TZOFFSETTO:+0200
TZNAME:CEST
DTSTART:20240331T010000
END:DAYLIGHT
BEGIN:STANDARD
TZOFFSETFROM:+0200
TZOFFSETTO:+0100
TZNAME:CET
DTSTART:20241027T010000
END:STANDARD
BEGIN:DAYLIGHT
TZOFFSETFROM:+0100
TZOFFSETTO:+0200
TZNAME:CEST
DTSTART:20250330T010000
END:DAYLIGHT
BEGIN:STANDARD
TZOFFSETFROM:+0200
TZOFFSETTO:+0100
TZNAME:CET
DTSTART:20251026T010000
END:STANDARD
BEGIN:DAYLIGHT
TZOFFSETFROM:+0100
TZOFFSETTO:+0200
TZNAME:CEST
DTSTART:20260329T010000
END:DAYLIGHT
BEGIN:STANDARD
TZOFFSETFROM:+0200
TZOFFSETTO:+0100
TZNAME:CET
DTSTART:20261025T010000
END:STANDARD
END:VTIMEZONE
BEGIN:VEVENT
DTSTART;TZID=Europe/Bratislava:20250703T070000
DTEND;TZID=Europe/Bratislava:20250703T150000
DTSTAMP:20260425T134713
CREATED:20250701T083104Z
LAST-MODIFIED:20250701T083105Z
UID:2990-1751526000-1751554800@blog.hagard.sk
SUMMARY:MOREK prezentačný deň
DESCRIPTION:Vážení zákazníci\,pozývame Vás na prezentáciu v našom mobilnom showroome\, kde Vám predstavíme naše portfólio produktov vrátane noviniek v sortimente.
URL:https://blog.hagard.sk/udalost/morek-prezentacny-den-19/
LOCATION:Hagard:Hal Komárno\, Bratislavská cesta 1804\, Komárno\, 945 01
CATEGORIES:Prezentačný deň
ATTACH;FMTTYPE=image/jpeg:https://blog.hagard.sk/wp-content/uploads/2025/04/pd_morek_2025.jpg
END:VEVENT
BEGIN:VEVENT
DTSTART;TZID=Europe/Bratislava:20250702T070000
DTEND;TZID=Europe/Bratislava:20250702T150000
DTSTAMP:20260425T134713
CREATED:20250701T082919Z
LAST-MODIFIED:20250701T082920Z
UID:2988-1751439600-1751468400@blog.hagard.sk
SUMMARY:MOREK prezentačný deň
DESCRIPTION:Vážení zákazníci\,pozývame Vás na prezentáciu v našom mobilnom showroome\, kde Vám predstavíme naše portfólio produktov vrátane noviniek v sortimente.
URL:https://blog.hagard.sk/udalost/morek-prezentacny-den-18/
LOCATION:HAGARD:HAL Štúrovo\, Továrenská 3505\, Štúrovo\, 943 01
CATEGORIES:Prezentačný deň
ATTACH;FMTTYPE=image/jpeg:https://blog.hagard.sk/wp-content/uploads/2025/04/pd_morek_2025.jpg
END:VEVENT
BEGIN:VEVENT
DTSTART;TZID=Europe/Bratislava:20250702T070000
DTEND;TZID=Europe/Bratislava:20250702T120000
DTSTAMP:20260425T134713
CREATED:20250701T081736Z
LAST-MODIFIED:20250701T081738Z
UID:2982-1751439600-1751457600@blog.hagard.sk
SUMMARY:NOARK prezentačný deň
DESCRIPTION:Vážení zákazníci\,radi by sme vás pozvali na prezentáciu\, ktorá sa bude konať v predajných priestoroch pobočky. Pripravili sme pre vás novinky v našom sortimente a taktiež malé občerstvenie.
URL:https://blog.hagard.sk/udalost/noark-prezentacny-den-17/
LOCATION:HAGARD:HAL Martin\, Ulica pri Turci 24\, Martin\, 036 01
CATEGORIES:Prezentačný deň
ATTACH;FMTTYPE=image/jpeg:https://blog.hagard.sk/wp-content/uploads/2025/06/pd_noark_2025.jpg
END:VEVENT
BEGIN:VEVENT
DTSTART;TZID=Europe/Bratislava:20250701T070000
DTEND;TZID=Europe/Bratislava:20250701T150000
DTSTAMP:20260425T134713
CREATED:20250701T082112Z
LAST-MODIFIED:20250701T082113Z
UID:2985-1751353200-1751382000@blog.hagard.sk
SUMMARY:MOREK prezentačný deň
DESCRIPTION:Vážení zákazníci\,pozývame Vás na prezentáciu v našom mobilnom showroome\, kde Vám predstavíme naše portfólio produktov vrátane noviniek v sortimente.
URL:https://blog.hagard.sk/udalost/morek-prezentacny-den-17/
LOCATION:HAGARD:HAL Nové Zámky\, Dvorská cesta 23\, Nové Zámky\, 940 02
CATEGORIES:Prezentačný deň
ATTACH;FMTTYPE=image/jpeg:https://blog.hagard.sk/wp-content/uploads/2025/04/pd_morek_2025.jpg
END:VEVENT
BEGIN:VEVENT
DTSTART;TZID=Europe/Bratislava:20250701T070000
DTEND;TZID=Europe/Bratislava:20250701T120000
DTSTAMP:20260425T134713
CREATED:20250701T073255Z
LAST-MODIFIED:20250707T051237Z
UID:2980-1751353200-1751371200@blog.hagard.sk
SUMMARY:NOARK prezentačný deň
DESCRIPTION:Vážení zákazníci\,radi by sme vás pozvali na prezentáciu\, ktorá sa bude konať v predajných priestoroch pobočky. Pripravili sme pre vás novinky v našom sortimente a taktiež malé občerstvenie.
URL:https://blog.hagard.sk/udalost/noark-prezentacny-den-16/
LOCATION:HAGARD:HAL Dolný Kubín\, Aleja Slobody 2236/15\, Dolný Kubín\, 026 01
CATEGORIES:Prezentačný deň
ATTACH;FMTTYPE=image/jpeg:https://blog.hagard.sk/wp-content/uploads/2025/06/pd_noark_2025.jpg
END:VEVENT
BEGIN:VEVENT
DTSTART;TZID=Europe/Bratislava:20250626T080000
DTEND;TZID=Europe/Bratislava:20250626T150000
DTSTAMP:20260425T134713
CREATED:20250617T120146Z
LAST-MODIFIED:20250617T120823Z
UID:2961-1750924800-1750950000@blog.hagard.sk
SUMMARY:SCAME prezentačný deň
DESCRIPTION:Vážení zákazníci\,radi by sme Vás pozvali na prezentáciu\, ktorá sa bude konať v predajných priestoroch pobočky a bude spojená so školením na nabíjacie stanice pre elektromobily.
URL:https://blog.hagard.sk/udalost/scame-prezentacny-den/
LOCATION:HAGARD:HAL Bratislava\, Ivánska cesta 34\, Mokráň Záhon\, Bratislava\, 82104
CATEGORIES:Prezentačný deň
ATTACH;FMTTYPE=image/jpeg:https://blog.hagard.sk/wp-content/uploads/2025/06/pd_scame_2025.jpg
END:VEVENT
BEGIN:VEVENT
DTSTART;TZID=Europe/Bratislava:20250626T070000
DTEND;TZID=Europe/Bratislava:20250626T140000
DTSTAMP:20260425T134713
CREATED:20250617T121418Z
LAST-MODIFIED:20250617T121420Z
UID:2974-1750921200-1750946400@blog.hagard.sk
SUMMARY:ARKYS prezentačný deň
DESCRIPTION:Vážení zákazníci\,radi by sme vás pozvali na prezentáciu káblových nosných systémov MERKUR\, LINEAR a POLAR. Prezentácia sa bude konať v predajných priestoroch pobočky. Predstavíme Vám novinky v našom sortimente. \n\n\n\n\n\n\n\n\n\n\n\nPozývame Vás na prezentáciu systémov káblových trás MERKUR\, LINEAR a POLAR\, ktoré predstavujú komplexné a ucelené riešenia pre inštaláciu\, spĺňajúce najvyššie požiadavky na bezpečnosť\, efektivitu\, funkčnosť a kvalitu. Príďte sa osobne presvedčiť o ich výhodách a tipoch na využitie. Naši odborníci Vám budú k dispozícii. Súčasťou prezentačnej akcie je občerstvenie.
URL:https://blog.hagard.sk/udalost/arkys-prezentacny-den-35/
LOCATION:HAGARD:HAL Bratislava\, Ivánska cesta 34\, Mokráň Záhon\, Bratislava\, 82104
CATEGORIES:Prezentačný deň
ATTACH;FMTTYPE=image/png:https://blog.hagard.sk/wp-content/uploads/2024/02/pd_arkys_2024.png
END:VEVENT
BEGIN:VEVENT
DTSTART;TZID=Europe/Bratislava:20250626T070000
DTEND;TZID=Europe/Bratislava:20250626T120000
DTSTAMP:20260425T134713
CREATED:20250617T100817Z
LAST-MODIFIED:20250617T100818Z
UID:2958-1750921200-1750939200@blog.hagard.sk
SUMMARY:NOARK prezentačný deň
DESCRIPTION:Vážení zákazníci\,radi by sme vás pozvali na prezentáciu\, ktorá sa bude konať v predajných priestoroch pobočky. Pripravili sme pre vás novinky v našom sortimente a taktiež malé občerstvenie.
URL:https://blog.hagard.sk/udalost/noark-prezentacny-den-15/
LOCATION:HAGARD:HAL Nové Zámky\, Dvorská cesta 23\, Nové Zámky\, 940 02
CATEGORIES:Prezentačný deň
ATTACH;FMTTYPE=image/jpeg:https://blog.hagard.sk/wp-content/uploads/2025/06/pd_noark_2025.jpg
END:VEVENT
BEGIN:VEVENT
DTSTART;TZID=Europe/Bratislava:20250625T080000
DTEND;TZID=Europe/Bratislava:20250625T150000
DTSTAMP:20260425T134713
CREATED:20250617T121016Z
LAST-MODIFIED:20250617T121017Z
UID:2970-1750838400-1750863600@blog.hagard.sk
SUMMARY:SCAME prezentačný deň
DESCRIPTION:Vážení zákazníci\,radi by sme Vás pozvali na prezentáciu\, ktorá sa bude konať v predajných priestoroch pobočky a bude spojená so školením na nabíjacie stanice pre elektromobily.
URL:https://blog.hagard.sk/udalost/scame-prezentacny-den-3/
LOCATION:HAGARD:HAL Nové Zámky\, Dvorská cesta 23\, Nové Zámky\, 940 02
CATEGORIES:Prezentačný deň
ATTACH;FMTTYPE=image/jpeg:https://blog.hagard.sk/wp-content/uploads/2025/06/pd_scame_2025.jpg
END:VEVENT
BEGIN:VEVENT
DTSTART;TZID=Europe/Bratislava:20250625T070000
DTEND;TZID=Europe/Bratislava:20250625T120000
DTSTAMP:20260425T134713
CREATED:20250617T100544Z
LAST-MODIFIED:20250617T100545Z
UID:2955-1750834800-1750852800@blog.hagard.sk
SUMMARY:NOARK prezentačný deň
DESCRIPTION:Vážení zákazníci\,radi by sme vás pozvali na prezentáciu\, ktorá sa bude konať v predajných priestoroch pobočky. Pripravili sme pre vás novinky v našom sortimente a taktiež malé občerstvenie.
URL:https://blog.hagard.sk/udalost/noark-prezentacny-den-14/
LOCATION:HAGARD:HAL Nitra\, Pražská 9\, Nitra - Mlynárce\, 949 11
CATEGORIES:Prezentačný deň
ATTACH;FMTTYPE=image/jpeg:https://blog.hagard.sk/wp-content/uploads/2025/06/pd_noark_2025.jpg
END:VEVENT
BEGIN:VEVENT
DTSTART;TZID=Europe/Bratislava:20250624T080000
DTEND;TZID=Europe/Bratislava:20250624T150000
DTSTAMP:20260425T134713
CREATED:20250617T120811Z
LAST-MODIFIED:20250617T121101Z
UID:2966-1750752000-1750777200@blog.hagard.sk
SUMMARY:SCAME prezentačný deň
DESCRIPTION:Vážení zákazníci\,radi by sme Vás pozvali na prezentáciu\, ktorá sa bude konať v predajných priestoroch pobočky a bude spojená so školením na nabíjacie stanice pre elektromobily.
URL:https://blog.hagard.sk/udalost/scame-prezentacny-den-2/
LOCATION:HAGARD:HAL Nitra\, Pražská 9\, Nitra - Mlynárce\, 949 11
CATEGORIES:Prezentačný deň
ATTACH;FMTTYPE=image/jpeg:https://blog.hagard.sk/wp-content/uploads/2025/06/pd_scame_2025.jpg
END:VEVENT
BEGIN:VEVENT
DTSTART;TZID=Europe/Bratislava:20250624T070000
DTEND;TZID=Europe/Bratislava:20250624T120000
DTSTAMP:20260425T134713
CREATED:20250617T100220Z
LAST-MODIFIED:20250617T100221Z
UID:2951-1750748400-1750766400@blog.hagard.sk
SUMMARY:NOARK prezentačný deň
DESCRIPTION:Vážení zákazníci\,radi by sme vás pozvali na prezentáciu\, ktorá sa bude konať v predajných priestoroch pobočky. Pripravili sme pre vás novinky v našom sortimente a taktiež malé občerstvenie.
URL:https://blog.hagard.sk/udalost/noark-prezentacny-den-13/
LOCATION:HAGARD:HAL Bratislava\, Ivánska cesta 34\, Mokráň Záhon\, Bratislava\, 82104
CATEGORIES:Prezentačný deň
ATTACH;FMTTYPE=image/jpeg:https://blog.hagard.sk/wp-content/uploads/2025/06/pd_noark_2025.jpg
END:VEVENT
BEGIN:VEVENT
DTSTART;TZID=Europe/Bratislava:20250605T090000
DTEND;TZID=Europe/Bratislava:20250605T140000
DTSTAMP:20260425T134713
CREATED:20250404T135638Z
LAST-MODIFIED:20250404T135639Z
UID:2789-1749114000-1749132000@blog.hagard.sk
SUMMARY:Júnová grilovačka
DESCRIPTION:Vážení obchodní partneri\,radi by sme vás pozvali na „Júnovú grilovačku“\, ktorá sa bude konať pred predajnými priestormi pobočky. V prípade nepriaznivého počasia a akcia ruší. \n\n\n\n\n\n\n\n\n\n\n\nPartner podujatia:
URL:https://blog.hagard.sk/udalost/junova-grilovacka/
LOCATION:HAGARD:HAL Zvolen\, Tulská 9227/2\, Zvolen\, 960 01
CATEGORIES:Prezentačný deň
ATTACH;FMTTYPE=image/jpeg:https://blog.hagard.sk/wp-content/uploads/2025/04/junova_grilovacka_zv_2025.jpg
END:VEVENT
BEGIN:VEVENT
DTSTART;TZID=Europe/Bratislava:20250605T080000
DTEND;TZID=Europe/Bratislava:20250605T140000
DTSTAMP:20260425T134713
CREATED:20250502T110252Z
LAST-MODIFIED:20250502T110253Z
UID:2833-1749110400-1749132000@blog.hagard.sk
SUMMARY:KOPOS prezentačný deň
DESCRIPTION:Vážení zákazníci\,pozývame Vás na prezentáciu\, kde Vám predstavíme novinky v sortimente\, ako sú nové inštalačné systémy do betónu\, nové bezhalogénové krabice do dutých stien\, antibakteriálne lišty a iné.
URL:https://blog.hagard.sk/udalost/kopos-prezentacny-den-3/
LOCATION:Hagard:Hal Banská Bystrica\, Kremnička 51\, Banská Bystrica\, 974 05
CATEGORIES:Prezentačný deň
ATTACH;FMTTYPE=image/jpeg:https://blog.hagard.sk/wp-content/uploads/2025/05/pd_kopos_2025.jpg
END:VEVENT
BEGIN:VEVENT
DTSTART;TZID=Europe/Bratislava:20250601T000000
DTEND;TZID=Europe/Bratislava:20250831T235959
DTSTAMP:20260425T134713
CREATED:20250602T125900Z
LAST-MODIFIED:20250805T111815Z
UID:2899-1748736000-1756684799@blog.hagard.sk
SUMMARY:SCAME predajná akcia
DESCRIPTION:TRADIČNÉ HASENIE SMÄDU SO SCAME\n\n\n\n\n\n\n\n\n\nPodmienky akcie: \n\n\n\n\ndarček sa vzťahuje na zásuvkové rozvodnice Scame\n\n\n\nakcia prebieha od 1.6. do 31.7.2025 predĺžená 31.8.2025\, alebo do rozdania darčekov\n\n\n\nakcia sa nevzťahuje na projekty a na objednávky zasielané kuriérom\n\n\n\nprodukty sú v e-shope označené štítkom darček\n\n\n\n\n\n\n\n\n\nPrejsť k produktom na e-shop
URL:https://blog.hagard.sk/udalost/scame-predajna-akcia-2/
CATEGORIES:Predajná akcia
ATTACH;FMTTYPE=image/jpeg:https://blog.hagard.sk/wp-content/uploads/2025/06/bnr_pa_scame_rozvodnice_pivo_2025_.jpg
END:VEVENT
BEGIN:VEVENT
DTSTART;TZID=Europe/Bratislava:20250529T070000
DTEND;TZID=Europe/Bratislava:20250529T150000
DTSTAMP:20260425T134713
CREATED:20250420T184939Z
LAST-MODIFIED:20250420T184940Z
UID:2811-1748502000-1748530800@blog.hagard.sk
SUMMARY:MOREK prezentačný deň
DESCRIPTION:Vážení zákazníci\,pozývame Vás na prezentáciu v našom mobilnom showroome\, kde Vám predstavíme naše portfólio produktov vrátane noviniek v sortimente.
URL:https://blog.hagard.sk/udalost/morek-prezentacny-den-11/
LOCATION:Hagard:Hal Banská Bystrica\, Kremnička 51\, Banská Bystrica\, 974 05
CATEGORIES:Prezentačný deň
ATTACH;FMTTYPE=image/jpeg:https://blog.hagard.sk/wp-content/uploads/2025/04/pd_morek_2025.jpg
END:VEVENT
BEGIN:VEVENT
DTSTART;TZID=Europe/Bratislava:20250528T070000
DTEND;TZID=Europe/Bratislava:20250528T150000
DTSTAMP:20260425T134713
CREATED:20250420T185440Z
LAST-MODIFIED:20250420T185441Z
UID:2816-1748415600-1748444400@blog.hagard.sk
SUMMARY:MOREK prezentačný deň
DESCRIPTION:Vážení zákazníci\,pozývame Vás na prezentáciu v našom mobilnom showroome\, kde Vám predstavíme naše portfólio produktov vrátane noviniek v sortimente.
URL:https://blog.hagard.sk/udalost/morek-prezentacny-den-13/
LOCATION:HAGARD:HAL Nitra\, Pražská 9\, Nitra - Mlynárce\, 949 11
CATEGORIES:Prezentačný deň
ATTACH;FMTTYPE=image/jpeg:https://blog.hagard.sk/wp-content/uploads/2025/04/pd_morek_2025.jpg
END:VEVENT
BEGIN:VEVENT
DTSTART;TZID=Europe/Bratislava:20250527T080000
DTEND;TZID=Europe/Bratislava:20250527T140000
DTSTAMP:20260425T134713
CREATED:20250321T155400Z
LAST-MODIFIED:20250321T155401Z
UID:2758-1748332800-1748354400@blog.hagard.sk
SUMMARY:ARKYS prezentačný deň
DESCRIPTION:Vážení zákazníci\,radi by sme vás pozvali na prezentáciu káblových nosných systémov MERKUR\, LINEAR a POLAR. Prezentácia sa bude konať v predajných priestoroch pobočky. Predstavíme Vám novinky v našom sortimente. \n\n\n\n\n\n\n\n\n\n\n\nPozývame Vás na prezentáciu systémov káblových trás MERKUR\, LINEAR a POLAR\, ktoré predstavujú komplexné a ucelené riešenia pre inštaláciu\, spĺňajúce najvyššie požiadavky na bezpečnosť\, efektivitu\, funkčnosť a kvalitu. Príďte sa osobne presvedčiť o ich výhodách a tipoch na využitie. Naši odborníci Vám budú k dispozícii. Súčasťou prezentačnej akcie je občerstvenie.
URL:https://blog.hagard.sk/udalost/arkys-prezentacny-den-31/
LOCATION:HAGARD:HAL Piešťany\, A. Hlinku 15/4430\, Piešťany\, 921 01
CATEGORIES:Prezentačný deň
ATTACH;FMTTYPE=image/png:https://blog.hagard.sk/wp-content/uploads/2024/02/pd_arkys_2024.png
END:VEVENT
BEGIN:VEVENT
DTSTART;TZID=Europe/Bratislava:20250527T080000
DTEND;TZID=Europe/Bratislava:20250527T140000
DTSTAMP:20260425T134713
CREATED:20250321T151148Z
LAST-MODIFIED:20250321T151150Z
UID:2739-1748332800-1748354400@blog.hagard.sk
SUMMARY:ARKYS prezentačný deň
DESCRIPTION:Vážení zákazníci\,radi by sme vás pozvali na prezentáciu káblových nosných systémov MERKUR\, LINEAR a POLAR. Prezentácia sa bude konať v predajných priestoroch pobočky. Predstavíme Vám novinky v našom sortimente. \n\n\n\n\n\n\n\n\n\n\n\nPozývame Vás na prezentáciu systémov káblových trás MERKUR\, LINEAR a POLAR\, ktoré predstavujú komplexné a ucelené riešenia pre inštaláciu\, spĺňajúce najvyššie požiadavky na bezpečnosť\, efektivitu\, funkčnosť a kvalitu. Príďte sa osobne presvedčiť o ich výhodách a tipoch na využitie. Naši odborníci Vám budú k dispozícii. Súčasťou prezentačnej akcie je občerstvenie.
URL:https://blog.hagard.sk/udalost/arkys-prezentacny-den-25/
LOCATION:HAGARD:HAL Košice\, Holubyho 12\, Košice\, 040 01
CATEGORIES:Prezentačný deň
ATTACH;FMTTYPE=image/png:https://blog.hagard.sk/wp-content/uploads/2024/02/pd_arkys_2024.png
END:VEVENT
BEGIN:VEVENT
DTSTART;TZID=Europe/Bratislava:20250527T070000
DTEND;TZID=Europe/Bratislava:20250527T150000
DTSTAMP:20260425T134713
CREATED:20250420T185224Z
LAST-MODIFIED:20250420T185225Z
UID:2814-1748329200-1748358000@blog.hagard.sk
SUMMARY:MOREK prezentačný deň
DESCRIPTION:Vážení zákazníci\,pozývame Vás na prezentáciu v našom mobilnom showroome\, kde Vám predstavíme naše portfólio produktov vrátane noviniek v sortimente.
URL:https://blog.hagard.sk/udalost/morek-prezentacny-den-12/
LOCATION:HAGARD:HAL Bratislava\, Ivánska cesta 34\, Mokráň Záhon\, Bratislava\, 82104
CATEGORIES:Prezentačný deň
ATTACH;FMTTYPE=image/jpeg:https://blog.hagard.sk/wp-content/uploads/2025/04/pd_morek_2025.jpg
END:VEVENT
BEGIN:VEVENT
DTSTART;TZID=Europe/Bratislava:20250526T070000
DTEND;TZID=Europe/Bratislava:20250526T150000
DTSTAMP:20260425T134713
CREATED:20250420T185910Z
LAST-MODIFIED:20250420T185911Z
UID:2821-1748242800-1748271600@blog.hagard.sk
SUMMARY:MOREK prezentačný deň
DESCRIPTION:Vážení zákazníci\,pozývame Vás na prezentáciu v našom mobilnom showroome\, kde Vám predstavíme naše portfólio produktov vrátane noviniek v sortimente.
URL:https://blog.hagard.sk/udalost/morek-prezentacny-den-15/
LOCATION:HAGARD:HAL Trnava\, Zavarská 10/E\, Trnava\, 917 00
CATEGORIES:Prezentačný deň
ATTACH;FMTTYPE=image/jpeg:https://blog.hagard.sk/wp-content/uploads/2025/04/pd_morek_2025.jpg
END:VEVENT
BEGIN:VEVENT
DTSTART;TZID=Europe/Bratislava:20250523T080000
DTEND;TZID=Europe/Bratislava:20250523T140000
DTSTAMP:20260425T134713
CREATED:20250502T105703Z
LAST-MODIFIED:20250502T105704Z
UID:2829-1747987200-1748008800@blog.hagard.sk
SUMMARY:KOPOS prezentačný deň
DESCRIPTION:Vážení zákazníci\,pozývame Vás na prezentáciu\, kde Vám predstavíme novinky v sortimente\, ako sú nové inštalačné systémy do betónu\, nové bezhalogénové krabice do dutých stien\, antibakteriálne lišty a iné.
URL:https://blog.hagard.sk/udalost/kopos-prezentacny-den-2/
CATEGORIES:Prezentačný deň
ATTACH;FMTTYPE=image/jpeg:https://blog.hagard.sk/wp-content/uploads/2025/05/pd_kopos_2025.jpg
END:VEVENT
BEGIN:VEVENT
DTSTART;TZID=Europe/Bratislava:20250523T080000
DTEND;TZID=Europe/Bratislava:20250523T140000
DTSTAMP:20260425T134713
CREATED:20250320T143927Z
LAST-MODIFIED:20250320T143928Z
UID:2721-1747987200-1748008800@blog.hagard.sk
SUMMARY:HUAWEI C&I Truck + LEDVANCE + K2 systems prezentačný deň
DESCRIPTION:Vážení zákazníci\,radi by sme vás pozvali na prezentáciu\, ktorá sa bude konať pred predajnými priestormi pobočky.
URL:https://blog.hagard.sk/udalost/huawei-ci-truck-ledvance-k2-systems-prezentacny-den-2/
LOCATION:HAGARD:HAL Prešov\, Budovateľská 50\, Prešov\, 080 01
CATEGORIES:Prezentačný deň
ATTACH;FMTTYPE=image/jpeg:https://blog.hagard.sk/wp-content/uploads/2025/03/PD_Huawei_Ledvance_K2-systems_2025_PO.jpg
END:VEVENT
BEGIN:VEVENT
DTSTART;TZID=Europe/Bratislava:20250523T070000
DTEND;TZID=Europe/Bratislava:20250523T150000
DTSTAMP:20260425T134713
CREATED:20250420T185709Z
LAST-MODIFIED:20250420T185710Z
UID:2819-1747983600-1748012400@blog.hagard.sk
SUMMARY:MOREK prezentačný deň
DESCRIPTION:Vážení zákazníci\,pozývame Vás na prezentáciu v našom mobilnom showroome\, kde Vám predstavíme naše portfólio produktov vrátane noviniek v sortimente.
URL:https://blog.hagard.sk/udalost/morek-prezentacny-den-14/
LOCATION:HAGARD:HAL Piešťany\, A. Hlinku 15/4430\, Piešťany\, 921 01
CATEGORIES:Prezentačný deň
ATTACH;FMTTYPE=image/jpeg:https://blog.hagard.sk/wp-content/uploads/2025/04/pd_morek_2025.jpg
END:VEVENT
BEGIN:VEVENT
DTSTART;TZID=Europe/Bratislava:20250522T073000
DTEND;TZID=Europe/Bratislava:20250522T113000
DTSTAMP:20260425T134713
CREATED:20250504T175520Z
LAST-MODIFIED:20250504T175521Z
UID:2874-1747899000-1747913400@blog.hagard.sk
SUMMARY:EATON prezentačný deň
DESCRIPTION:Vážení zákazníci\,radi by sme vám osobne predstavili nové riešenie rozvodníc BF-U-3S\, ktoré prináša množstvo výhod a uľahčuje prácu pri výrobe rozvádzača. Hlavnou výhodou je\, že máte zvlášť ochrannú vaňu\, rám s DIN lištami a potom samostatný rám s dverami. Vďaka tomu môžete prácu rozdeliť na tri kroky.
URL:https://blog.hagard.sk/udalost/eaton-prezentacny-den-10/
LOCATION:HAGARD:HAL Poprad\, Teplická 34\, Poprad\, 058 01
CATEGORIES:Prezentačný deň
ATTACH;FMTTYPE=image/jpeg:https://blog.hagard.sk/wp-content/uploads/2025/05/pd_eaton_2025.jpg
END:VEVENT
BEGIN:VEVENT
DTSTART;TZID=Europe/Bratislava:20250521T080000
DTEND;TZID=Europe/Bratislava:20250521T140000
DTSTAMP:20260425T134713
CREATED:20250512T091700Z
LAST-MODIFIED:20250512T091701Z
UID:2894-1747814400-1747836000@blog.hagard.sk
SUMMARY:TECH-Controllers prezentačný deň
DESCRIPTION:Vážení zákazníci\,pozývame Vás na stretnutie s obchodným zástupcom\, ktorý Vám predstaví portfólio produktov vrátane noviniek v sortimente.
URL:https://blog.hagard.sk/udalost/tech-controllers-prezentacny-den-4/
LOCATION:HAGARD:HAL Bratislava\, Ivánska cesta 34\, Mokráň Záhon\, Bratislava\, 82104
CATEGORIES:Prezentačný deň
ATTACH;FMTTYPE=image/jpeg:https://blog.hagard.sk/wp-content/uploads/2025/05/pd_tech-controllers_2025.jpg
END:VEVENT
BEGIN:VEVENT
DTSTART;TZID=Europe/Bratislava:20250521T080000
DTEND;TZID=Europe/Bratislava:20250521T140000
DTSTAMP:20260425T134713
CREATED:20250321T154709Z
LAST-MODIFIED:20250321T154709Z
UID:2751-1747814400-1747836000@blog.hagard.sk
SUMMARY:ARKYS prezentačný deň
DESCRIPTION:Vážení zákazníci\,radi by sme vás pozvali na prezentáciu káblových nosných systémov MERKUR\, LINEAR a POLAR. Prezentácia sa bude konať v predajných priestoroch pobočky. Predstavíme Vám novinky v našom sortimente. \n\n\n\n\n\n\n\n\n\n\n\nPozývame Vás na prezentáciu systémov káblových trás MERKUR\, LINEAR a POLAR\, ktoré predstavujú komplexné a ucelené riešenia pre inštaláciu\, spĺňajúce najvyššie požiadavky na bezpečnosť\, efektivitu\, funkčnosť a kvalitu. Príďte sa osobne presvedčiť o ich výhodách a tipoch na využitie. Naši odborníci Vám budú k dispozícii. Súčasťou prezentačnej akcie je občerstvenie.
URL:https://blog.hagard.sk/udalost/arkys-prezentacny-den-28/
LOCATION:HAGARD:HAL Michalovce\, Močarianska 3582/1\, Michalovce\, 071 01
CATEGORIES:Prezentačný deň
ATTACH;FMTTYPE=image/png:https://blog.hagard.sk/wp-content/uploads/2024/02/pd_arkys_2024.png
END:VEVENT
BEGIN:VEVENT
DTSTART;TZID=Europe/Bratislava:20250521T073000
DTEND;TZID=Europe/Bratislava:20250521T113000
DTSTAMP:20260425T134713
CREATED:20250504T175653Z
LAST-MODIFIED:20250504T175655Z
UID:2876-1747812600-1747827000@blog.hagard.sk
SUMMARY:EATON prezentačný deň
DESCRIPTION:Vážení zákazníci\,radi by sme vám osobne predstavili nové riešenie rozvodníc BF-U-3S\, ktoré prináša množstvo výhod a uľahčuje prácu pri výrobe rozvádzača. Hlavnou výhodou je\, že máte zvlášť ochrannú vaňu\, rám s DIN lištami a potom samostatný rám s dverami. Vďaka tomu môžete prácu rozdeliť na tri kroky.
URL:https://blog.hagard.sk/udalost/eaton-prezentacny-den-11/
LOCATION:HAGARD:HAL Prešov\, Budovateľská 50\, Prešov\, 080 01
CATEGORIES:Prezentačný deň
ATTACH;FMTTYPE=image/jpeg:https://blog.hagard.sk/wp-content/uploads/2025/05/pd_eaton_2025.jpg
END:VEVENT
BEGIN:VEVENT
DTSTART;TZID=Europe/Bratislava:20250521T070000
DTEND;TZID=Europe/Bratislava:20250521T150000
DTSTAMP:20260425T134713
CREATED:20250420T190059Z
LAST-MODIFIED:20250420T190100Z
UID:2823-1747810800-1747839600@blog.hagard.sk
SUMMARY:MOREK prezentačný deň
DESCRIPTION:Vážení zákazníci\,pozývame Vás na prezentáciu v našom mobilnom showroome\, kde Vám predstavíme naše portfólio produktov vrátane noviniek v sortimente.
URL:https://blog.hagard.sk/udalost/morek-prezentacny-den-16/
LOCATION:HAGARD:HAL Zvolen\, Tulská 9227/2\, Zvolen\, 960 01
CATEGORIES:Prezentačný deň
ATTACH;FMTTYPE=image/jpeg:https://blog.hagard.sk/wp-content/uploads/2025/04/pd_morek_2025.jpg
END:VEVENT
BEGIN:VEVENT
DTSTART;TZID=Europe/Bratislava:20250520T130000
DTEND;TZID=Europe/Bratislava:20250520T153000
DTSTAMP:20260425T134713
CREATED:20250504T175110Z
LAST-MODIFIED:20250504T175111Z
UID:2870-1747746000-1747755000@blog.hagard.sk
SUMMARY:EATON prezentačný deň
DESCRIPTION:Vážení zákazníci\,radi by sme vám osobne predstavili nové riešenie rozvodníc BF-U-3S\, ktoré prináša množstvo výhod a uľahčuje prácu pri výrobe rozvádzača. Hlavnou výhodou je\, že máte zvlášť ochrannú vaňu\, rám s DIN lištami a potom samostatný rám s dverami. Vďaka tomu môžete prácu rozdeliť na tri kroky.
URL:https://blog.hagard.sk/udalost/eaton-prezentacny-den-8/
LOCATION:HAGARD:HAL Košice\, Holubyho 12\, Košice\, 040 01
CATEGORIES:Prezentačný deň
ATTACH;FMTTYPE=image/jpeg:https://blog.hagard.sk/wp-content/uploads/2025/05/pd_eaton_2025.jpg
END:VEVENT
END:VCALENDAR