BEGIN:VCALENDAR
VERSION:2.0
PRODID:-//HAGARD:HAL BLOG - ECPv6.15.20//NONSGML v1.0//EN
CALSCALE:GREGORIAN
METHOD:PUBLISH
X-WR-CALNAME:HAGARD:HAL BLOG
X-ORIGINAL-URL:https://blog.hagard.sk
X-WR-CALDESC:Udalosti pre HAGARD:HAL BLOG
REFRESH-INTERVAL;VALUE=DURATION:PT1H
X-Robots-Tag:noindex
X-PUBLISHED-TTL:PT1H
BEGIN:VTIMEZONE
TZID:Europe/Bratislava
BEGIN:DAYLIGHT
TZOFFSETFROM:+0100
TZOFFSETTO:+0200
TZNAME:CEST
DTSTART:20240331T010000
END:DAYLIGHT
BEGIN:STANDARD
TZOFFSETFROM:+0200
TZOFFSETTO:+0100
TZNAME:CET
DTSTART:20241027T010000
END:STANDARD
BEGIN:DAYLIGHT
TZOFFSETFROM:+0100
TZOFFSETTO:+0200
TZNAME:CEST
DTSTART:20250330T010000
END:DAYLIGHT
BEGIN:STANDARD
TZOFFSETFROM:+0200
TZOFFSETTO:+0100
TZNAME:CET
DTSTART:20251026T010000
END:STANDARD
BEGIN:DAYLIGHT
TZOFFSETFROM:+0100
TZOFFSETTO:+0200
TZNAME:CEST
DTSTART:20260329T010000
END:DAYLIGHT
BEGIN:STANDARD
TZOFFSETFROM:+0200
TZOFFSETTO:+0100
TZNAME:CET
DTSTART:20261025T010000
END:STANDARD
BEGIN:DAYLIGHT
TZOFFSETFROM:+0100
TZOFFSETTO:+0200
TZNAME:CEST
DTSTART:20270328T010000
END:DAYLIGHT
BEGIN:STANDARD
TZOFFSETFROM:+0200
TZOFFSETTO:+0100
TZNAME:CET
DTSTART:20271031T010000
END:STANDARD
END:VTIMEZONE
BEGIN:VEVENT
DTSTART;TZID=Europe/Bratislava:20251028T080000
DTEND;TZID=Europe/Bratislava:20251028T150000
DTSTAMP:20260425T152914
CREATED:20251002T141230Z
LAST-MODIFIED:20251002T141231Z
UID:3237-1761638400-1761663600@blog.hagard.sk
SUMMARY:PHILIPS a PILA prezentačný deň
DESCRIPTION:Vážení zákazníci\,za nákup výrobkov PHILIPS a PILA si môžete počas prezentačného dňa vytočiť zaujímavú výhru.
URL:https://blog.hagard.sk/udalost/philips-a-pila-prezentacny-den-9/
LOCATION:HAGARD:HAL Prešov\, Budovateľská 50\, Prešov\, 080 01
CATEGORIES:Prezentačný deň
ATTACH;FMTTYPE=image/jpeg:https://blog.hagard.sk/wp-content/uploads/2025/09/pd_philips_pila_2025.jpg
END:VEVENT
BEGIN:VEVENT
DTSTART;TZID=Europe/Bratislava:20251028T100000
DTEND;TZID=Europe/Bratislava:20251028T140000
DTSTAMP:20260425T152914
CREATED:20251001T094657Z
LAST-MODIFIED:20251001T094659Z
UID:3221-1761645600-1761660000@blog.hagard.sk
SUMMARY:TRILUX prezentačný deň
DESCRIPTION:SPOZNAJTE SVET SVIETIDIEL TRILUX-TWENTY3\n\n\n\nVážení zákazníci\, \n\n\n\ntáto prezentácia Vám ponúkne možnosť spoznať svet svietidiel TRILUX – twenty3\, ktoré sú navrhnuté tak\, aby spĺňali všetky potreby profesionálneho osvetlenia v každodennej prevádzke. Súčasťou prezentačnej akcie je aj malé občerstvenie. \n\n\n\nNenechajte si ujsť túto jedinečnú príležitosť dozvedieť sa viac o najnovších trendoch a inováciách v oblasti osvetlenia\, ktoré môžu prispieť k úspechu vašich projektov. \n\n\n\nTešíme sa na Vás!Tím TRILUX Slovakia s.r.o. \n\n\n\n\n\n\n\n\n\n\n\n\n\n\n\n\nakcia znížených predajných cien platí od 1.10. do 31.12.2025\n\n\n\n\n\n\n\n\n\nPrejsť k produktom TRILUX twenty3
URL:https://blog.hagard.sk/udalost/trilux-prezentacny-den-18/
LOCATION:HAGARD:HAL Košice\, Holubyho 12\, Košice\, 040 01
CATEGORIES:Predajná akcia,Prezentačný deň
ATTACH;FMTTYPE=image/jpeg:https://blog.hagard.sk/wp-content/uploads/2025/09/pd_trilux_2025.jpg
END:VEVENT
BEGIN:VEVENT
DTSTART;TZID=Europe/Bratislava:20251029T080000
DTEND;TZID=Europe/Bratislava:20251029T150000
DTSTAMP:20260425T152914
CREATED:20251002T141452Z
LAST-MODIFIED:20251002T141454Z
UID:3240-1761724800-1761750000@blog.hagard.sk
SUMMARY:PHILIPS a PILA prezentačný deň
DESCRIPTION:Vážení zákazníci\,za nákup výrobkov PHILIPS a PILA si môžete počas prezentačného dňa vytočiť zaujímavú výhru.
URL:https://blog.hagard.sk/udalost/philips-a-pila-prezentacny-den-10/
LOCATION:HAGARD:HAL Poprad\, Teplická 34\, Poprad\, 058 01
CATEGORIES:Prezentačný deň
ATTACH;FMTTYPE=image/jpeg:https://blog.hagard.sk/wp-content/uploads/2025/09/pd_philips_pila_2025.jpg
END:VEVENT
BEGIN:VEVENT
DTSTART;TZID=Europe/Bratislava:20251029T100000
DTEND;TZID=Europe/Bratislava:20251029T140000
DTSTAMP:20260425T152914
CREATED:20251001T094842Z
LAST-MODIFIED:20251001T094843Z
UID:3223-1761732000-1761746400@blog.hagard.sk
SUMMARY:TRILUX prezentačný deň
DESCRIPTION:SPOZNAJTE SVET SVIETIDIEL TRILUX-TWENTY3\n\n\n\nVážení zákazníci\, \n\n\n\ntáto prezentácia Vám ponúkne možnosť spoznať svet svietidiel TRILUX – twenty3\, ktoré sú navrhnuté tak\, aby spĺňali všetky potreby profesionálneho osvetlenia v každodennej prevádzke. Súčasťou prezentačnej akcie je aj malé občerstvenie. \n\n\n\nNenechajte si ujsť túto jedinečnú príležitosť dozvedieť sa viac o najnovších trendoch a inováciách v oblasti osvetlenia\, ktoré môžu prispieť k úspechu vašich projektov. \n\n\n\nTešíme sa na Vás!Tím TRILUX Slovakia s.r.o. \n\n\n\n\n\n\n\n\n\n\n\n\n\n\n\n\nakcia znížených predajných cien platí od 1.10. do 31.12.2025\n\n\n\n\n\n\n\n\n\nPrejsť k produktom TRILUX twenty3
URL:https://blog.hagard.sk/udalost/trilux-prezentacny-den-19/
LOCATION:HAGARD:HAL Prešov\, Budovateľská 50\, Prešov\, 080 01
CATEGORIES:Predajná akcia,Prezentačný deň
ATTACH;FMTTYPE=image/jpeg:https://blog.hagard.sk/wp-content/uploads/2025/09/pd_trilux_2025.jpg
END:VEVENT
BEGIN:VEVENT
DTSTART;TZID=Europe/Bratislava:20251104T073000
DTEND;TZID=Europe/Bratislava:20251104T123000
DTSTAMP:20260425T152914
CREATED:20251028T140305Z
LAST-MODIFIED:20251103T064846Z
UID:3260-1762241400-1762259400@blog.hagard.sk
SUMMARY:EMOS prezentačný deň
DESCRIPTION:Vážení zákazníci\,pozývame Vás na prezentáciu s raňajkami\, kde vám predstavíme novinky LIGHTING\, MONITOROVACEJ TECHNIKY a produkty inteligentnej domácnosti.
URL:https://blog.hagard.sk/udalost/emos-prezentacny-den-5/
LOCATION:HAGARD:HAL Nitra\, Pražská 9\, Nitra - Mlynárce\, 949 11
CATEGORIES:Prezentačný deň
ATTACH;FMTTYPE=image/jpeg:https://blog.hagard.sk/wp-content/uploads/2025/10/pd_emos_jesen_2025.jpg
END:VEVENT
BEGIN:VEVENT
DTSTART;TZID=Europe/Bratislava:20251104T080000
DTEND;TZID=Europe/Bratislava:20251104T140000
DTSTAMP:20260425T152914
CREATED:20250902T091921Z
LAST-MODIFIED:20250902T091922Z
UID:3127-1762243200-1762264800@blog.hagard.sk
SUMMARY:Obo Bettermann prezentačný deň
DESCRIPTION:Vážení zákazníci\,radi by sme vás pozvali na prezentáciu výrobného sortimentu OBO BETTERMANN\, ktorá sa bude konať v predajných priestoroch pobočky. Predstavíme Vám novinky v našom sortimente.
URL:https://blog.hagard.sk/udalost/obo-bettermann-prezentacny-den-17/
LOCATION:HAGARD:HAL Poprad\, Teplická 34\, Poprad\, 058 01
CATEGORIES:Prezentačný deň
ATTACH;FMTTYPE=image/jpeg:https://blog.hagard.sk/wp-content/uploads/2024/02/pd_obo_2024.jpg
END:VEVENT
BEGIN:VEVENT
DTSTART;TZID=Europe/Bratislava:20251104T100000
DTEND;TZID=Europe/Bratislava:20251104T140000
DTSTAMP:20260425T152914
CREATED:20251001T095031Z
LAST-MODIFIED:20251001T095032Z
UID:3225-1762250400-1762264800@blog.hagard.sk
SUMMARY:TRILUX prezentačný deň
DESCRIPTION:SPOZNAJTE SVET SVIETIDIEL TRILUX-TWENTY3\n\n\n\nVážení zákazníci\, \n\n\n\ntáto prezentácia Vám ponúkne možnosť spoznať svet svietidiel TRILUX – twenty3\, ktoré sú navrhnuté tak\, aby spĺňali všetky potreby profesionálneho osvetlenia v každodennej prevádzke. Súčasťou prezentačnej akcie je aj malé občerstvenie. \n\n\n\nNenechajte si ujsť túto jedinečnú príležitosť dozvedieť sa viac o najnovších trendoch a inováciách v oblasti osvetlenia\, ktoré môžu prispieť k úspechu vašich projektov. \n\n\n\nTešíme sa na Vás!Tím TRILUX Slovakia s.r.o. \n\n\n\n\n\n\n\n\n\n\n\n\n\n\n\n\nakcia znížených predajných cien platí od 1.10. do 31.12.2025\n\n\n\n\n\n\n\n\n\nPrejsť k produktom TRILUX twenty3
URL:https://blog.hagard.sk/udalost/trilux-prezentacny-den-20/
LOCATION:HAGARD:HAL Trnava\, Zavarská 10/E\, Trnava\, 917 00
CATEGORIES:Predajná akcia,Prezentačný deň
ATTACH;FMTTYPE=image/jpeg:https://blog.hagard.sk/wp-content/uploads/2025/09/pd_trilux_2025.jpg
END:VEVENT
BEGIN:VEVENT
DTSTART;TZID=Europe/Bratislava:20251105T073000
DTEND;TZID=Europe/Bratislava:20251105T123000
DTSTAMP:20260425T152914
CREATED:20251103T065011Z
LAST-MODIFIED:20251103T065051Z
UID:3266-1762327800-1762345800@blog.hagard.sk
SUMMARY:EMOS prezentačný deň
DESCRIPTION:Vážení zákazníci\,pozývame Vás na prezentáciu s raňajkami\, kde vám predstavíme novinky LIGHTING\, MONITOROVACEJ TECHNIKY a produkty inteligentnej domácnosti.
URL:https://blog.hagard.sk/udalost/emos-prezentacny-den-6/
LOCATION:HAGARD:HAL Bratislava\, Ivánska cesta 34\, Mokráň Záhon\, Bratislava\, 82104
CATEGORIES:Prezentačný deň
ATTACH;FMTTYPE=image/jpeg:https://blog.hagard.sk/wp-content/uploads/2025/10/pd_emos_jesen_2025.jpg
END:VEVENT
BEGIN:VEVENT
DTSTART;TZID=Europe/Bratislava:20251105T100000
DTEND;TZID=Europe/Bratislava:20251105T140000
DTSTAMP:20260425T152914
CREATED:20251001T095220Z
LAST-MODIFIED:20251001T095221Z
UID:3227-1762336800-1762351200@blog.hagard.sk
SUMMARY:TRILUX prezentačný deň
DESCRIPTION:SPOZNAJTE SVET SVIETIDIEL TRILUX-TWENTY3\n\n\n\nVážení zákazníci\, \n\n\n\ntáto prezentácia Vám ponúkne možnosť spoznať svet svietidiel TRILUX – twenty3\, ktoré sú navrhnuté tak\, aby spĺňali všetky potreby profesionálneho osvetlenia v každodennej prevádzke. Súčasťou prezentačnej akcie je aj malé občerstvenie. \n\n\n\nNenechajte si ujsť túto jedinečnú príležitosť dozvedieť sa viac o najnovších trendoch a inováciách v oblasti osvetlenia\, ktoré môžu prispieť k úspechu vašich projektov. \n\n\n\nTešíme sa na Vás!Tím TRILUX Slovakia s.r.o. \n\n\n\n\n\n\n\n\n\n\n\n\n\n\n\n\nakcia znížených predajných cien platí od 1.10. do 31.12.2025\n\n\n\n\n\n\n\n\n\nPrejsť k produktom TRILUX twenty3
URL:https://blog.hagard.sk/udalost/trilux-prezentacny-den-21/
LOCATION:HAGARD:HAL Trenčín\, Zlatovská 33\, Trenčín - Zlatovce\, 911 05
CATEGORIES:Predajná akcia,Prezentačný deň
ATTACH;FMTTYPE=image/jpeg:https://blog.hagard.sk/wp-content/uploads/2025/09/pd_trilux_2025.jpg
END:VEVENT
BEGIN:VEVENT
DTSTART;TZID=Europe/Bratislava:20251106T073000
DTEND;TZID=Europe/Bratislava:20251106T123000
DTSTAMP:20260425T152914
CREATED:20251103T065325Z
LAST-MODIFIED:20251103T065326Z
UID:3269-1762414200-1762432200@blog.hagard.sk
SUMMARY:EMOS prezentačný deň
DESCRIPTION:Vážení zákazníci\,pozývame Vás na prezentáciu s raňajkami\, kde vám predstavíme novinky LIGHTING\, MONITOROVACEJ TECHNIKY a produkty inteligentnej domácnosti.
URL:https://blog.hagard.sk/udalost/emos-prezentacny-den-7/
LOCATION:HAGARD:HAL Žilina\, Kvačalova 782/11\, Žilina - Závodie\, 010 04
CATEGORIES:Prezentačný deň
ATTACH;FMTTYPE=image/jpeg:https://blog.hagard.sk/wp-content/uploads/2025/10/pd_emos_jesen_2025.jpg
END:VEVENT
BEGIN:VEVENT
DTSTART;TZID=Europe/Bratislava:20251110T000000
DTEND;TZID=Europe/Bratislava:20251222T235959
DTSTAMP:20260425T152914
CREATED:20251105T071930Z
LAST-MODIFIED:20251106T092318Z
UID:3287-1762732800-1766447999@blog.hagard.sk
SUMMARY:NOARK predajná akcia
DESCRIPTION:ZÍSKAJTE VOŇAVKU DO AUTA AKO DARČEK\n\n\n\n\n\n\n\n\n\nPodmienky akcie: \n\n\n\n\ndarček sa vzťahuje na celý sortiment značky NOARK\n\n\n\nakcia prebieha od 10.11.2025 do rozdania darčekov\n\n\n\nakcia neplatí pre projekty\n\n\n\nza nákup produktov v hodnote 50€ bez DPH získa zákazník darček\n\n\n\n\n\n\n\n\n\nPrejsť k produktom na e-shop
URL:https://blog.hagard.sk/udalost/noark-predajna-akcia-4/
ATTACH;FMTTYPE=image/jpeg:https://blog.hagard.sk/wp-content/uploads/2025/11/pa_noark_vona_do_auta_2025.jpg
END:VEVENT
BEGIN:VEVENT
DTSTART;TZID=Europe/Bratislava:20251111T073000
DTEND;TZID=Europe/Bratislava:20251111T123000
DTSTAMP:20260425T152914
CREATED:20251104T132405Z
LAST-MODIFIED:20251104T132406Z
UID:3273-1762846200-1762864200@blog.hagard.sk
SUMMARY:EMOS prezentačný deň
DESCRIPTION:Vážení zákazníci\,pozývame Vás na prezentáciu s raňajkami\, kde vám predstavíme novinky LIGHTING\, MONITOROVACEJ TECHNIKY a produkty inteligentnej domácnosti.
URL:https://blog.hagard.sk/udalost/emos-prezentacny-den-8/
LOCATION:HAGARD:HAL Trenčín\, Zlatovská 33\, Trenčín - Zlatovce\, 911 05
CATEGORIES:Prezentačný deň
ATTACH;FMTTYPE=image/jpeg:https://blog.hagard.sk/wp-content/uploads/2025/10/pd_emos_jesen_2025.jpg
END:VEVENT
BEGIN:VEVENT
DTSTART;TZID=Europe/Bratislava:20251112T073000
DTEND;TZID=Europe/Bratislava:20251112T123000
DTSTAMP:20260425T152914
CREATED:20251104T132634Z
LAST-MODIFIED:20251104T132636Z
UID:3275-1762932600-1762950600@blog.hagard.sk
SUMMARY:EMOS prezentačný deň
DESCRIPTION:Vážení zákazníci\,pozývame Vás na prezentáciu s raňajkami\, kde vám predstavíme novinky LIGHTING\, MONITOROVACEJ TECHNIKY a produkty inteligentnej domácnosti.
URL:https://blog.hagard.sk/udalost/emos-prezentacny-den-9/
LOCATION:HAGARD:HAL Košice\, Holubyho 12\, Košice\, 040 01
CATEGORIES:Prezentačný deň
ATTACH;FMTTYPE=image/jpeg:https://blog.hagard.sk/wp-content/uploads/2025/10/pd_emos_jesen_2025.jpg
END:VEVENT
BEGIN:VEVENT
DTSTART;TZID=Europe/Bratislava:20251113T073000
DTEND;TZID=Europe/Bratislava:20251113T123000
DTSTAMP:20260425T152914
CREATED:20251104T133317Z
LAST-MODIFIED:20251104T133318Z
UID:3277-1763019000-1763037000@blog.hagard.sk
SUMMARY:EMOS prezentačný deň
DESCRIPTION:Vážení zákazníci\,pozývame Vás na prezentáciu s raňajkami\, kde vám predstavíme novinky LIGHTING\, MONITOROVACEJ TECHNIKY a produkty inteligentnej domácnosti.
URL:https://blog.hagard.sk/udalost/emos-prezentacny-den-10/
LOCATION:Hagard:Hal Banská Bystrica\, Kremnička 51\, Banská Bystrica\, 974 05
CATEGORIES:Prezentačný deň
ATTACH;FMTTYPE=image/jpeg:https://blog.hagard.sk/wp-content/uploads/2025/10/pd_emos_jesen_2025.jpg
END:VEVENT
BEGIN:VEVENT
DTSTART;TZID=Europe/Bratislava:20251118T073000
DTEND;TZID=Europe/Bratislava:20251118T123000
DTSTAMP:20260425T152914
CREATED:20251104T133451Z
LAST-MODIFIED:20251104T133453Z
UID:3279-1763451000-1763469000@blog.hagard.sk
SUMMARY:EMOS prezentačný deň
DESCRIPTION:Vážení zákazníci\,pozývame Vás na prezentáciu s raňajkami\, kde vám predstavíme novinky LIGHTING\, MONITOROVACEJ TECHNIKY a produkty inteligentnej domácnosti.
URL:https://blog.hagard.sk/udalost/emos-prezentacny-den-11/
LOCATION:HAGARD:HAL Zvolen\, Tulská 9227/2\, Zvolen\, 960 01
CATEGORIES:Prezentačný deň
ATTACH;FMTTYPE=image/jpeg:https://blog.hagard.sk/wp-content/uploads/2025/10/pd_emos_jesen_2025.jpg
END:VEVENT
BEGIN:VEVENT
DTSTART;TZID=Europe/Bratislava:20251118T080000
DTEND;TZID=Europe/Bratislava:20251118T140000
DTSTAMP:20260425T152914
CREATED:20251105T064725Z
LAST-MODIFIED:20251105T064726Z
UID:3284-1763452800-1763474400@blog.hagard.sk
SUMMARY:Obo Bettermann prezentačný deň
DESCRIPTION:Vážení zákazníci\,radi by sme vás pozvali na prezentáciu výrobného sortimentu OBO BETTERMANN\, ktorá sa bude konať v predajných priestoroch pobočky. Predstavíme Vám novinky v našom sortimente.
URL:https://blog.hagard.sk/udalost/obo-bettermann-prezentacny-den-18/
LOCATION:HAGARD:HAL Martin\, Ulica pri Turci 24\, Martin\, 036 01
CATEGORIES:Prezentačný deň
ATTACH;FMTTYPE=image/jpeg:https://blog.hagard.sk/wp-content/uploads/2024/02/pd_obo_2024.jpg
END:VEVENT
BEGIN:VEVENT
DTSTART;TZID=Europe/Bratislava:20251120T080000
DTEND;TZID=Europe/Bratislava:20251120T140000
DTSTAMP:20260425T152914
CREATED:20251105T064532Z
LAST-MODIFIED:20251105T064533Z
UID:3282-1763625600-1763647200@blog.hagard.sk
SUMMARY:Obo Bettermann prezentačný deň
DESCRIPTION:Vážení zákazníci\,radi by sme vás pozvali na prezentáciu výrobného sortimentu OBO BETTERMANN\, ktorá sa bude konať v predajných priestoroch pobočky. Predstavíme Vám novinky v našom sortimente.
URL:https://blog.hagard.sk/udalost/automaticky-konceptobo-bettermann-prezentacny-den/
LOCATION:HAGARD:HAL Dolný Kubín\, Aleja Slobody 2236/15\, Dolný Kubín\, 026 01
CATEGORIES:Prezentačný deň
ATTACH;FMTTYPE=image/jpeg:https://blog.hagard.sk/wp-content/uploads/2024/02/pd_obo_2024.jpg
END:VEVENT
BEGIN:VEVENT
DTSTART;TZID=Europe/Bratislava:20260317T073000
DTEND;TZID=Europe/Bratislava:20260317T123000
DTSTAMP:20260425T152914
CREATED:20260312T133311Z
LAST-MODIFIED:20260312T133313Z
UID:3349-1773732600-1773750600@blog.hagard.sk
SUMMARY:EMOS prezentačný deň
DESCRIPTION:Vážení zákazníci\,pozývame Vás na prezentáciu s raňajkami\, kde vám predstavíme novinky LIGHTING\, MONITOROVACEJ TECHNIKY a produkty inteligentnej domácnosti.
URL:https://blog.hagard.sk/udalost/emos-prezentacny-den-12/
LOCATION:HAGARD:HAL Michalovce\, Močarianska 3582/1\, Michalovce\, 071 01
CATEGORIES:Prezentačný deň
ATTACH;FMTTYPE=image/jpeg:https://blog.hagard.sk/wp-content/uploads/2026/03/pd_emos_2026_bnr.jpg
END:VEVENT
BEGIN:VEVENT
DTSTART;TZID=Europe/Bratislava:20260318T073000
DTEND;TZID=Europe/Bratislava:20260318T123000
DTSTAMP:20260425T152914
CREATED:20260313T083108Z
LAST-MODIFIED:20260313T083110Z
UID:3352-1773819000-1773837000@blog.hagard.sk
SUMMARY:EMOS prezentačný deň
DESCRIPTION:Vážení zákazníci\,pozývame Vás na prezentáciu s raňajkami\, kde vám predstavíme novinky LIGHTING\, MONITOROVACEJ TECHNIKY a produkty inteligentnej domácnosti.
URL:https://blog.hagard.sk/udalost/emos-prezentacny-den-13/
LOCATION:HAGARD:HAL Humenné\, Tolstého 1\, Humenné\, 066 01
CATEGORIES:Prezentačný deň
ATTACH;FMTTYPE=image/jpeg:https://blog.hagard.sk/wp-content/uploads/2026/03/pd_emos_2026_bnr.jpg
END:VEVENT
BEGIN:VEVENT
DTSTART;TZID=Europe/Bratislava:20260319T073000
DTEND;TZID=Europe/Bratislava:20260319T123000
DTSTAMP:20260425T152914
CREATED:20260313T083344Z
LAST-MODIFIED:20260313T083345Z
UID:3355-1773905400-1773923400@blog.hagard.sk
SUMMARY:EMOS prezentačný deň
DESCRIPTION:Vážení zákazníci\, \n\n\n\n\n\n\n\n\n\n\n\n\n\nVážení zákazníci\,pozývame Vás na prezentáciu s raňajkami\, kde vám predstavíme novinky LIGHTING\, MONITOROVACEJ TECHNIKY a produkty inteligentnej domácnosti.
URL:https://blog.hagard.sk/udalost/emos-prezentacny-den-14/
LOCATION:HAGARD:HAL Prešov\, Budovateľská 50\, Prešov\, 080 01
CATEGORIES:Prezentačný deň
ATTACH;FMTTYPE=image/jpeg:https://blog.hagard.sk/wp-content/uploads/2026/03/pd_emos_2026_bnr.jpg
END:VEVENT
BEGIN:VEVENT
DTSTART;TZID=Europe/Bratislava:20260401T000000
DTEND;TZID=Europe/Bratislava:20260531T235959
DTSTAMP:20260425T152914
CREATED:20260323T140846Z
LAST-MODIFIED:20260327T134605Z
UID:3358-1775001600-1780271999@blog.hagard.sk
SUMMARY:NOARK predajná akcia
DESCRIPTION:ZÍSKAJTE TERMOHRNČEK AKO DARČEK\n\n\n\n\n\n\n\n\n\nPodmienky akcie: \n\n\n\n\ndarček sa vzťahuje na vybraný sortiment značky NOARK\n\n\n\nakcia prebieha od 1.4.2026 do rozdania darčekov\n\n\n\nakcia neplatí pre projekty\n\n\n\n\n\n\n\n\n\nPrejsť k produktom na e-shop
URL:https://blog.hagard.sk/udalost/noark-predajna-akcia-5/
CATEGORIES:Predajná akcia
ATTACH;FMTTYPE=image/jpeg:https://blog.hagard.sk/wp-content/uploads/2026/03/pa_noark_hrncek_2026_.jpg
END:VEVENT
BEGIN:VEVENT
DTSTART;TZID=Europe/Bratislava:20260401T083000
DTEND;TZID=Europe/Bratislava:20260401T143000
DTSTAMP:20260425T152914
CREATED:20260401T050231Z
LAST-MODIFIED:20260401T050232Z
UID:3366-1775032200-1775053800@blog.hagard.sk
SUMMARY:ABB prezentačný deň
DESCRIPTION:Vážení zákazníci\, \n\n\n\n\n\n\n\n\n\n\n\n\n\nVážení zákazníci\,pozývame Vás na prezentáciu\, kde vám predstavíme novinky z radu Zoni\, UK600\, ABB Welcome Midi
URL:https://blog.hagard.sk/udalost/abb-prezentacny-den/
LOCATION:HAGARD:HAL Trenčín\, Zlatovská 33\, Trenčín - Zlatovce\, 911 05
CATEGORIES:Prezentačný deň
ATTACH;FMTTYPE=image/jpeg:https://blog.hagard.sk/wp-content/uploads/2026/04/bnr_pd_abb_2026.jpg
END:VEVENT
BEGIN:VEVENT
DTSTART;TZID=Europe/Bratislava:20260413T083000
DTEND;TZID=Europe/Bratislava:20260413T143000
DTSTAMP:20260425T152914
CREATED:20260401T053750Z
LAST-MODIFIED:20260401T053752Z
UID:3370-1776069000-1776090600@blog.hagard.sk
SUMMARY:ABB prezentačný deň
DESCRIPTION:Vážení zákazníci\, \n\n\n\n\n\n\n\n\n\n\n\n\n\nVážení zákazníci\,pozývame Vás na prezentáciu\, kde vám predstavíme novinky z radu Zoni\, UK600\, ABB Welcome Midi
URL:https://blog.hagard.sk/udalost/abb-prezentacny-den-2/
LOCATION:HAGARD:HAL Nitra\, Pražská 9\, Nitra - Mlynárce\, 949 11
CATEGORIES:Prezentačný deň
ATTACH;FMTTYPE=image/jpeg:https://blog.hagard.sk/wp-content/uploads/2026/04/bnr_pd_abb_2026.jpg
END:VEVENT
BEGIN:VEVENT
DTSTART;TZID=Europe/Bratislava:20260414T083000
DTEND;TZID=Europe/Bratislava:20260414T143000
DTSTAMP:20260425T152914
CREATED:20260401T060818Z
LAST-MODIFIED:20260401T060819Z
UID:3376-1776155400-1776177000@blog.hagard.sk
SUMMARY:ABB prezentačný deň
DESCRIPTION:Vážení zákazníci\, \n\n\n\n\n\n\n\n\n\n\n\n\n\nVážení zákazníci\,pozývame Vás na prezentáciu\, kde vám predstavíme novinky z radu Zoni\, UK600\, ABB Welcome Midi
URL:https://blog.hagard.sk/udalost/abb-prezentacny-den-4/
LOCATION:HAGARD:HAL Nové Zámky\, Dvorská cesta 23\, Nové Zámky\, 940 02
CATEGORIES:Prezentačný deň
ATTACH;FMTTYPE=image/jpeg:https://blog.hagard.sk/wp-content/uploads/2026/04/bnr_pd_abb_2026.jpg
END:VEVENT
BEGIN:VEVENT
DTSTART;TZID=Europe/Bratislava:20260415T083000
DTEND;TZID=Europe/Bratislava:20260415T143000
DTSTAMP:20260425T152914
CREATED:20260401T064302Z
LAST-MODIFIED:20260401T064303Z
UID:3378-1776241800-1776263400@blog.hagard.sk
SUMMARY:ABB prezentačný deň
DESCRIPTION:Vážení zákazníci\, \n\n\n\n\n\n\n\n\n\n\n\n\n\nVážení zákazníci\,pozývame Vás na prezentáciu\, kde vám predstavíme novinky z radu Zoni\, UK600\, ABB Welcome Midi
URL:https://blog.hagard.sk/udalost/abb-prezentacny-den-5/
LOCATION:HAGARD:HAL Bratislava\, Ivánska cesta 34\, Mokráň Záhon\, Bratislava\, 82104
CATEGORIES:Prezentačný deň
ATTACH;FMTTYPE=image/jpeg:https://blog.hagard.sk/wp-content/uploads/2026/04/bnr_pd_abb_2026.jpg
END:VEVENT
BEGIN:VEVENT
DTSTART;TZID=Europe/Bratislava:20260416T080000
DTEND;TZID=Europe/Bratislava:20260416T140000
DTSTAMP:20260425T152914
CREATED:20260415T153434Z
LAST-MODIFIED:20260415T153728Z
UID:3388-1776326400-1776348000@blog.hagard.sk
SUMMARY:KOPOS prezentačný deň
DESCRIPTION:Vážení zákazníci\,pozývame Vás na prezentáciu\, kde Vám predstavíme novinky v sortimente.
URL:https://blog.hagard.sk/udalost/kopos-prezentacny-den-4/
LOCATION:HAGARD:HAL Martin\, Ulica pri Turci 24\, Martin\, 036 01
CATEGORIES:Prezentačný deň
ATTACH;FMTTYPE=image/jpeg:https://blog.hagard.sk/wp-content/uploads/2026/04/pd_kopos_2026_.jpg
END:VEVENT
BEGIN:VEVENT
DTSTART;TZID=Europe/Bratislava:20260421T080000
DTEND;TZID=Europe/Bratislava:20260421T140000
DTSTAMP:20260425T152914
CREATED:20260415T154056Z
LAST-MODIFIED:20260415T154058Z
UID:3393-1776758400-1776780000@blog.hagard.sk
SUMMARY:KOPOS prezentačný deň
DESCRIPTION:Vážení zákazníci\,pozývame Vás na prezentáciu\, kde Vám predstavíme novinky v sortimente.
URL:https://blog.hagard.sk/udalost/kopos-prezentacny-den-5/
LOCATION:HAGARD:HAL Trenčín\, Zlatovská 33\, Trenčín - Zlatovce\, 911 05
CATEGORIES:Prezentačný deň
ATTACH;FMTTYPE=image/jpeg:https://blog.hagard.sk/wp-content/uploads/2026/04/pd_kopos_2026_.jpg
END:VEVENT
BEGIN:VEVENT
DTSTART;TZID=Europe/Bratislava:20260421T083000
DTEND;TZID=Europe/Bratislava:20260421T143000
DTSTAMP:20260425T152914
CREATED:20260401T065035Z
LAST-MODIFIED:20260401T065037Z
UID:3380-1776760200-1776781800@blog.hagard.sk
SUMMARY:ABB prezentačný deň
DESCRIPTION:Vážení zákazníci\, \n\n\n\n\n\n\n\n\n\n\n\n\n\nVážení zákazníci\,pozývame Vás na prezentáciu\, kde vám predstavíme novinky z radu Zoni\, UK600\, ABB Welcome Midi
URL:https://blog.hagard.sk/udalost/abb-prezentacny-den-6/
LOCATION:HAGARD:HAL Michalovce\, Močarianska 3582/1\, Michalovce\, 071 01
CATEGORIES:Prezentačný deň
ATTACH;FMTTYPE=image/jpeg:https://blog.hagard.sk/wp-content/uploads/2026/04/bnr_pd_abb_2026.jpg
END:VEVENT
BEGIN:VEVENT
DTSTART;TZID=Europe/Bratislava:20260422T080000
DTEND;TZID=Europe/Bratislava:20260422T140000
DTSTAMP:20260425T152914
CREATED:20260415T162605Z
LAST-MODIFIED:20260415T162607Z
UID:3405-1776844800-1776866400@blog.hagard.sk
SUMMARY:E|S|T - prezentačný deň
DESCRIPTION:Vážení zákazníci\,radi by sme vás pozvali na prezentáciu\, ktorá sa bude konať v predajných priestoroch pobočky. Predstavíme Vám novinky v našom sortimente.
URL:https://blog.hagard.sk/udalost/est-prezentacny-den-42/
LOCATION:HAGARD:HAL Nitra\, Pražská 9\, Nitra - Mlynárce\, 949 11
CATEGORIES:Prezentačný deň
ATTACH;FMTTYPE=image/jpeg:https://blog.hagard.sk/wp-content/uploads/2026/04/pd_est_2026.jpg
END:VEVENT
BEGIN:VEVENT
DTSTART;TZID=Europe/Bratislava:20260422T083000
DTEND;TZID=Europe/Bratislava:20260422T143000
DTSTAMP:20260425T152914
CREATED:20260401T065220Z
LAST-MODIFIED:20260401T065222Z
UID:3383-1776846600-1776868200@blog.hagard.sk
SUMMARY:ABB prezentačný deň
DESCRIPTION:Vážení zákazníci\, \n\n\n\n\n\n\n\n\n\n\n\n\n\nVážení zákazníci\,pozývame Vás na prezentáciu\, kde vám predstavíme novinky z radu Zoni\, UK600\, ABB Welcome Midi
URL:https://blog.hagard.sk/udalost/abb-prezentacny-den-7/
LOCATION:HAGARD:HAL Poprad\, Teplická 34\, Poprad\, 058 01
CATEGORIES:Prezentačný deň
ATTACH;FMTTYPE=image/jpeg:https://blog.hagard.sk/wp-content/uploads/2026/04/bnr_pd_abb_2026.jpg
END:VEVENT
END:VCALENDAR