BEGIN:VCALENDAR
VERSION:2.0
PRODID:-//HAGARD:HAL BLOG - ECPv6.15.20//NONSGML v1.0//EN
CALSCALE:GREGORIAN
METHOD:PUBLISH
X-ORIGINAL-URL:https://blog.hagard.sk
X-WR-CALDESC:Udalosti pre HAGARD:HAL BLOG
REFRESH-INTERVAL;VALUE=DURATION:PT1H
X-Robots-Tag:noindex
X-PUBLISHED-TTL:PT1H
BEGIN:VTIMEZONE
TZID:Europe/Bratislava
BEGIN:DAYLIGHT
TZOFFSETFROM:+0100
TZOFFSETTO:+0200
TZNAME:CEST
DTSTART:20240331T010000
END:DAYLIGHT
BEGIN:STANDARD
TZOFFSETFROM:+0200
TZOFFSETTO:+0100
TZNAME:CET
DTSTART:20241027T010000
END:STANDARD
BEGIN:DAYLIGHT
TZOFFSETFROM:+0100
TZOFFSETTO:+0200
TZNAME:CEST
DTSTART:20250330T010000
END:DAYLIGHT
BEGIN:STANDARD
TZOFFSETFROM:+0200
TZOFFSETTO:+0100
TZNAME:CET
DTSTART:20251026T010000
END:STANDARD
BEGIN:DAYLIGHT
TZOFFSETFROM:+0100
TZOFFSETTO:+0200
TZNAME:CEST
DTSTART:20260329T010000
END:DAYLIGHT
BEGIN:STANDARD
TZOFFSETFROM:+0200
TZOFFSETTO:+0100
TZNAME:CET
DTSTART:20261025T010000
END:STANDARD
END:VTIMEZONE
BEGIN:VEVENT
DTSTART;TZID=Europe/Bratislava:20250905T070000
DTEND;TZID=Europe/Bratislava:20250905T140000
DTSTAMP:20260425T174558
CREATED:20250901T073907Z
LAST-MODIFIED:20250901T073908Z
UID:3107-1757055600-1757080800@blog.hagard.sk
SUMMARY:Brother prezentačný deň
DESCRIPTION:Vážení zákazníci\,radi by sme vás pozvali na prezentáciu\, ktorá sa bude konať v predajných priestoroch pobočky. Pripravili sme pre vás novinky v našom sortimente a taktiež malé občerstvenie.
URL:https://blog.hagard.sk/udalost/brother-prezentacny-den-4/
LOCATION:HAGARD:HAL Žilina\, Kvačalova 782/11\, Žilina - Závodie\, 010 04
CATEGORIES:Prezentačný deň
ATTACH;FMTTYPE=image/jpeg:https://blog.hagard.sk/wp-content/uploads/2025/09/pd_brother_2025.jpg
END:VEVENT
BEGIN:VEVENT
DTSTART;TZID=Europe/Bratislava:20250922T070000
DTEND;TZID=Europe/Bratislava:20250922T140000
DTSTAMP:20260425T174558
CREATED:20250901T080239Z
LAST-MODIFIED:20250901T080240Z
UID:3110-1758524400-1758549600@blog.hagard.sk
SUMMARY:Brother prezentačný deň
DESCRIPTION:Vážení zákazníci\,radi by sme vás pozvali na prezentáciu\, ktorá sa bude konať v predajných priestoroch pobočky. Pripravili sme pre vás novinky v našom sortimente a taktiež malé občerstvenie.
URL:https://blog.hagard.sk/udalost/brother-prezentacny-den-5/
LOCATION:HAGARD:HAL Košice\, Holubyho 12\, Košice\, 040 01
CATEGORIES:Prezentačný deň
ATTACH;FMTTYPE=image/jpeg:https://blog.hagard.sk/wp-content/uploads/2025/09/pd_brother_2025.jpg
END:VEVENT
BEGIN:VEVENT
DTSTART;TZID=Europe/Bratislava:20250923T070000
DTEND;TZID=Europe/Bratislava:20250923T140000
DTSTAMP:20260425T174558
CREATED:20250901T080506Z
LAST-MODIFIED:20250901T080507Z
UID:3113-1758610800-1758636000@blog.hagard.sk
SUMMARY:Brother prezentačný deň
DESCRIPTION:Vážení zákazníci\,radi by sme vás pozvali na prezentáciu\, ktorá sa bude konať v predajných priestoroch pobočky. Pripravili sme pre vás novinky v našom sortimente a taktiež malé občerstvenie.
URL:https://blog.hagard.sk/udalost/brother-prezentacny-den-6/
LOCATION:HAGARD:HAL Prešov\, Budovateľská 50\, Prešov\, 080 01
CATEGORIES:Prezentačný deň
ATTACH;FMTTYPE=image/jpeg:https://blog.hagard.sk/wp-content/uploads/2025/09/pd_brother_2025.jpg
END:VEVENT
BEGIN:VEVENT
DTSTART;TZID=Europe/Bratislava:20250923T080000
DTEND;TZID=Europe/Bratislava:20250923T140000
DTSTAMP:20260425T174558
CREATED:20250901T083030Z
LAST-MODIFIED:20250901T083031Z
UID:3117-1758614400-1758636000@blog.hagard.sk
SUMMARY:Obo Bettermann prezentačný deň
DESCRIPTION:Vážení zákazníci\,radi by sme vás pozvali na prezentáciu výrobného sortimentu OBO BETTERMANN\, ktorá sa bude konať v predajných priestoroch pobočky. Predstavíme Vám novinky v našom sortimente.
URL:https://blog.hagard.sk/udalost/obo-bettermann-prezentacny-den-13/
LOCATION:HAGARD:HAL Michalovce\, Močarianska 3582/1\, Michalovce\, 071 01
CATEGORIES:Prezentačný deň
ATTACH;FMTTYPE=image/jpeg:https://blog.hagard.sk/wp-content/uploads/2024/02/pd_obo_2024.jpg
END:VEVENT
BEGIN:VEVENT
DTSTART;TZID=Europe/Bratislava:20250924T070000
DTEND;TZID=Europe/Bratislava:20250924T140000
DTSTAMP:20260425T174558
CREATED:20250901T080704Z
LAST-MODIFIED:20250901T080705Z
UID:3115-1758697200-1758722400@blog.hagard.sk
SUMMARY:Brother prezentačný deň
DESCRIPTION:Vážení zákazníci\,radi by sme vás pozvali na prezentáciu\, ktorá sa bude konať v predajných priestoroch pobočky. Pripravili sme pre vás novinky v našom sortimente a taktiež malé občerstvenie.
URL:https://blog.hagard.sk/udalost/brother-prezentacny-den-7/
LOCATION:HAGARD:HAL Poprad\, Teplická 34\, Poprad\, 058 01
CATEGORIES:Prezentačný deň
ATTACH;FMTTYPE=image/jpeg:https://blog.hagard.sk/wp-content/uploads/2025/09/pd_brother_2025.jpg
END:VEVENT
BEGIN:VEVENT
DTSTART;TZID=Europe/Bratislava:20250924T080000
DTEND;TZID=Europe/Bratislava:20250924T140000
DTSTAMP:20260425T174558
CREATED:20250902T090659Z
LAST-MODIFIED:20250902T090700Z
UID:3120-1758700800-1758722400@blog.hagard.sk
SUMMARY:Obo Bettermann prezentačný deň
DESCRIPTION:Vážení zákazníci\,radi by sme vás pozvali na prezentáciu výrobného sortimentu OBO BETTERMANN\, ktorá sa bude konať v predajných priestoroch pobočky. Predstavíme Vám novinky v našom sortimente.
URL:https://blog.hagard.sk/udalost/obo-bettermann-prezentacny-den-14/
LOCATION:HAGARD:HAL Humenné\, Tolstého 1\, Humenné\, 066 01
CATEGORIES:Prezentačný deň
ATTACH;FMTTYPE=image/jpeg:https://blog.hagard.sk/wp-content/uploads/2024/02/pd_obo_2024.jpg
END:VEVENT
BEGIN:VEVENT
DTSTART;TZID=Europe/Bratislava:20250925T080000
DTEND;TZID=Europe/Bratislava:20250925T140000
DTSTAMP:20260425T174558
CREATED:20250902T091013Z
LAST-MODIFIED:20250902T091014Z
UID:3123-1758787200-1758808800@blog.hagard.sk
SUMMARY:Obo Bettermann prezentačný deň
DESCRIPTION:Vážení zákazníci\,radi by sme vás pozvali na prezentáciu výrobného sortimentu OBO BETTERMANN\, ktorá sa bude konať v predajných priestoroch pobočky. Predstavíme Vám novinky v našom sortimente.
URL:https://blog.hagard.sk/udalost/obo-bettermann-prezentacny-den-15/
LOCATION:HAGARD:HAL Košice\, Holubyho 12\, Košice\, 040 01
CATEGORIES:Prezentačný deň
ATTACH;FMTTYPE=image/jpeg:https://blog.hagard.sk/wp-content/uploads/2024/02/pd_obo_2024.jpg
END:VEVENT
BEGIN:VEVENT
DTSTART;TZID=Europe/Bratislava:20250926T080000
DTEND;TZID=Europe/Bratislava:20250926T140000
DTSTAMP:20260425T174558
CREATED:20250902T091641Z
LAST-MODIFIED:20250902T091643Z
UID:3125-1758873600-1758895200@blog.hagard.sk
SUMMARY:Obo Bettermann prezentačný deň
DESCRIPTION:Vážení zákazníci\,radi by sme vás pozvali na prezentáciu výrobného sortimentu OBO BETTERMANN\, ktorá sa bude konať v predajných priestoroch pobočky. Predstavíme Vám novinky v našom sortimente.
URL:https://blog.hagard.sk/udalost/obo-bettermann-prezentacny-den-16/
LOCATION:HAGARD:HAL Prešov\, Budovateľská 50\, Prešov\, 080 01
CATEGORIES:Prezentačný deň
ATTACH;FMTTYPE=image/jpeg:https://blog.hagard.sk/wp-content/uploads/2024/02/pd_obo_2024.jpg
END:VEVENT
BEGIN:VEVENT
DTSTART;TZID=Europe/Bratislava:20250930T080000
DTEND;TZID=Europe/Bratislava:20250930T150000
DTSTAMP:20260425T174558
CREATED:20250929T114326Z
LAST-MODIFIED:20250929T114327Z
UID:3182-1759219200-1759244400@blog.hagard.sk
SUMMARY:PHILIPS a PILA prezentačný deň
DESCRIPTION:Vážení zákazníci\,za nákup výrobkov PHILIPS a PILA si môžete počas prezentačného dňa vytočiť zaujímavú výhru.
URL:https://blog.hagard.sk/udalost/philips-a-pila-prezentacny-den/
LOCATION:Hagard:Hal Banská Bystrica\, Kremnička 51\, Banská Bystrica\, 974 05
CATEGORIES:Predajná akcia,Prezentačný deň
ATTACH;FMTTYPE=image/jpeg:https://blog.hagard.sk/wp-content/uploads/2025/09/pd_philips_pila_2025.jpg
END:VEVENT
BEGIN:VEVENT
DTSTART;TZID=Europe/Bratislava:20251001T000000
DTEND;TZID=Europe/Bratislava:20251110T235959
DTSTAMP:20260425T174558
CREATED:20250929T085859Z
LAST-MODIFIED:20251111T141401Z
UID:3174-1759276800-1762819199@blog.hagard.sk
SUMMARY:EATON predajná akcia
DESCRIPTION:Podmienky akcie: \n\n\n\n\ndarček sa vzťahuje na EATON položku „Chránič prúdový PFL6 112875 16/1P+N/30mA B 6kA typA kombi s ističom„\n\n\n\nakcia prebieha od 1.10. do 30.11.2025 alebo do rozdania darčekov\n\n\n\nakcia sa nevzťahuje na projekty\n\n\n\n\n\n\n\n\n\nPrejsť k produktu na e-shop
URL:https://blog.hagard.sk/udalost/eaton-predajna-akcia-2/
CATEGORIES:Predajná akcia
ATTACH;FMTTYPE=image/jpeg:https://blog.hagard.sk/wp-content/uploads/2025/09/pa_eaton_chranic_3_plus_1_2025.jpg
END:VEVENT
BEGIN:VEVENT
DTSTART;TZID=Europe/Bratislava:20251001T000000
DTEND;TZID=Europe/Bratislava:20251231T235959
DTSTAMP:20260425T174558
CREATED:20251001T070741Z
LAST-MODIFIED:20251001T070827Z
UID:3202-1759276800-1767225599@blog.hagard.sk
SUMMARY:SCAME predajná akcia
DESCRIPTION:SLOVENSKÝ VÝROBOK\, TALIANSKY KULINÁRKSY ZÁŽITOK\n\n\n\n\n\n\n\n\n\nPodmienky akcie: \n\n\n\n\ndarček sa vzťahuje na staveniskový rozvádzač SCAME typ: BST4.4011-1\n\n\n\nakcia prebieha od 1.10. do 31.12.2025\, alebo do rozdania darčekov\n\n\n\n\n\n\n\n\n\nPrejsť k produktu na e-shop
URL:https://blog.hagard.sk/udalost/scame-predajna-akcia-3/
CATEGORIES:Predajná akcia
ATTACH;FMTTYPE=image/jpeg:https://blog.hagard.sk/wp-content/uploads/2025/10/bnr_scame_olej-cestoviny_2025_.jpg
END:VEVENT
BEGIN:VEVENT
DTSTART;TZID=Europe/Bratislava:20251001T080000
DTEND;TZID=Europe/Bratislava:20251001T150000
DTSTAMP:20260425T174558
CREATED:20250929T133127Z
LAST-MODIFIED:20250929T133128Z
UID:3186-1759305600-1759330800@blog.hagard.sk
SUMMARY:PHILIPS a PILA prezentačný deň
DESCRIPTION:Vážení zákazníci\,za nákup výrobkov PHILIPS a PILA si môžete počas prezentačného dňa vytočiť zaujímavú výhru.
URL:https://blog.hagard.sk/udalost/philips-a-pila-prezentacny-den-2/
LOCATION:HAGARD:HAL Nitra\, Pražská 9\, Nitra - Mlynárce\, 949 11
CATEGORIES:Predajná akcia,Prezentačný deň
ATTACH;FMTTYPE=image/jpeg:https://blog.hagard.sk/wp-content/uploads/2025/09/pd_philips_pila_2025.jpg
END:VEVENT
BEGIN:VEVENT
DTSTART;TZID=Europe/Bratislava:20251001T100000
DTEND;TZID=Europe/Bratislava:20251001T140000
DTSTAMP:20260425T174558
CREATED:20250929T141017Z
LAST-MODIFIED:20251001T093613Z
UID:3198-1759312800-1759327200@blog.hagard.sk
SUMMARY:TRILUX prezentačný deň
DESCRIPTION:SPOZNAJTE SVET SVIETIDIEL TRILUX-TWENTY3\n\n\n\nVážení zákazníci\, \n\n\n\ntáto prezentácia Vám ponúkne možnosť spoznať svet svietidiel TRILUX – twenty3\, ktoré sú navrhnuté tak\, aby spĺňali všetky potreby profesionálneho osvetlenia v každodennej prevádzke. Súčasťou prezentačnej akcie je aj malé občerstvenie. \n\n\n\nNenechajte si ujsť túto jedinečnú príležitosť dozvedieť sa viac o najnovších trendoch a inováciách v oblasti osvetlenia\, ktoré môžu prispieť k úspechu vašich projektov. \n\n\n\nTešíme sa na Vás!Tím TRILUX Slovakia s.r.o. \n\n\n\n\n\n\n\n\n\n\n\n\n\n\n\n\nakcia znížených predajných cien platí od 1.10. do 31.12.2025\n\n\n\n\n\n\n\n\n\nPrejsť k produktom TRILUX twenty3
URL:https://blog.hagard.sk/udalost/trilux-prezentacny-den-13/
LOCATION:HAGARD:HAL Bratislava\, Ivánska cesta 34\, Mokráň Záhon\, Bratislava\, 82104
CATEGORIES:Predajná akcia,Prezentačný deň
ATTACH;FMTTYPE=image/jpeg:https://blog.hagard.sk/wp-content/uploads/2025/09/pd_trilux_2025.jpg
END:VEVENT
BEGIN:VEVENT
DTSTART;TZID=Europe/Bratislava:20251002T080000
DTEND;TZID=Europe/Bratislava:20251002T150000
DTSTAMP:20260425T174558
CREATED:20250929T133443Z
LAST-MODIFIED:20250929T133444Z
UID:3189-1759392000-1759417200@blog.hagard.sk
SUMMARY:PHILIPS a PILA prezentačný deň
DESCRIPTION:Vážení zákazníci\,za nákup výrobkov PHILIPS a PILA si môžete počas prezentačného dňa vytočiť zaujímavú výhru.
URL:https://blog.hagard.sk/udalost/philips-a-pila-prezentacny-den-3/
LOCATION:HAGARD:HAL Trenčín\, Zlatovská 33\, Trenčín - Zlatovce\, 911 05
CATEGORIES:Predajná akcia,Prezentačný deň
ATTACH;FMTTYPE=image/jpeg:https://blog.hagard.sk/wp-content/uploads/2025/09/pd_philips_pila_2025.jpg
END:VEVENT
BEGIN:VEVENT
DTSTART;TZID=Europe/Bratislava:20251002T100000
DTEND;TZID=Europe/Bratislava:20251002T140000
DTSTAMP:20260425T174558
CREATED:20251001T093750Z
LAST-MODIFIED:20251001T094037Z
UID:3210-1759399200-1759413600@blog.hagard.sk
SUMMARY:TRILUX prezentačný deň
DESCRIPTION:SPOZNAJTE SVET SVIETIDIEL TRILUX-TWENTY3\n\n\n\nVážení zákazníci\, \n\n\n\ntáto prezentácia Vám ponúkne možnosť spoznať svet svietidiel TRILUX – twenty3\, ktoré sú navrhnuté tak\, aby spĺňali všetky potreby profesionálneho osvetlenia v každodennej prevádzke. Súčasťou prezentačnej akcie je aj malé občerstvenie. \n\n\n\nNenechajte si ujsť túto jedinečnú príležitosť dozvedieť sa viac o najnovších trendoch a inováciách v oblasti osvetlenia\, ktoré môžu prispieť k úspechu vašich projektov. \n\n\n\nTešíme sa na Vás!Tím TRILUX Slovakia s.r.o. \n\n\n\n\n\n\n\n\n\n\n\n\n\n\n\n\nakcia znížených predajných cien platí od 1.10. do 31.12.2025\n\n\n\n\n\n\n\n\n\nPrejsť k produktom TRILUX twenty3
URL:https://blog.hagard.sk/udalost/trilux-prezentacny-den-14/
LOCATION:HAGARD:HAL Žilina\, Kvačalova 782/11\, Žilina - Závodie\, 010 04
CATEGORIES:Predajná akcia,Prezentačný deň
ATTACH;FMTTYPE=image/jpeg:https://blog.hagard.sk/wp-content/uploads/2025/09/pd_trilux_2025.jpg
END:VEVENT
BEGIN:VEVENT
DTSTART;TZID=Europe/Bratislava:20251007T080000
DTEND;TZID=Europe/Bratislava:20251007T160000
DTSTAMP:20260425T174558
CREATED:20250929T133643Z
LAST-MODIFIED:20250929T133644Z
UID:3192-1759824000-1759852800@blog.hagard.sk
SUMMARY:PHILIPS a PILA prezentačný deň
DESCRIPTION:Vážení zákazníci\,za nákup výrobkov PHILIPS a PILA si môžete počas prezentačného dňa vytočiť zaujímavú výhru.
URL:https://blog.hagard.sk/udalost/philips-a-pila-prezentacny-den-4/
LOCATION:HAGARD:HAL Martin\, Ulica pri Turci 24\, Martin\, 036 01
CATEGORIES:Predajná akcia,Prezentačný deň
ATTACH;FMTTYPE=image/jpeg:https://blog.hagard.sk/wp-content/uploads/2025/09/pd_philips_pila_2025.jpg
END:VEVENT
BEGIN:VEVENT
DTSTART;TZID=Europe/Bratislava:20251007T100000
DTEND;TZID=Europe/Bratislava:20251007T140000
DTSTAMP:20260425T174559
CREATED:20251001T094004Z
LAST-MODIFIED:20251001T094005Z
UID:3214-1759831200-1759845600@blog.hagard.sk
SUMMARY:TRILUX prezentačný deň
DESCRIPTION:SPOZNAJTE SVET SVIETIDIEL TRILUX-TWENTY3\n\n\n\nVážení zákazníci\, \n\n\n\ntáto prezentácia Vám ponúkne možnosť spoznať svet svietidiel TRILUX – twenty3\, ktoré sú navrhnuté tak\, aby spĺňali všetky potreby profesionálneho osvetlenia v každodennej prevádzke. Súčasťou prezentačnej akcie je aj malé občerstvenie. \n\n\n\nNenechajte si ujsť túto jedinečnú príležitosť dozvedieť sa viac o najnovších trendoch a inováciách v oblasti osvetlenia\, ktoré môžu prispieť k úspechu vašich projektov. \n\n\n\nTešíme sa na Vás!Tím TRILUX Slovakia s.r.o. \n\n\n\n\n\n\n\n\n\n\n\n\n\n\n\n\nakcia znížených predajných cien platí od 1.10. do 31.12.2025\n\n\n\n\n\n\n\n\n\nPrejsť k produktom TRILUX twenty3
URL:https://blog.hagard.sk/udalost/trilux-prezentacny-den-15/
LOCATION:HAGARD:HAL Poprad\, Teplická 34\, Poprad\, 058 01
CATEGORIES:Predajná akcia,Prezentačný deň
ATTACH;FMTTYPE=image/jpeg:https://blog.hagard.sk/wp-content/uploads/2025/09/pd_trilux_2025.jpg
END:VEVENT
BEGIN:VEVENT
DTSTART;TZID=Europe/Bratislava:20251008T080000
DTEND;TZID=Europe/Bratislava:20251008T150000
DTSTAMP:20260425T174559
CREATED:20250929T133915Z
LAST-MODIFIED:20250929T133916Z
UID:3194-1759910400-1759935600@blog.hagard.sk
SUMMARY:PHILIPS a PILA prezentačný deň
DESCRIPTION:Vážení zákazníci\,za nákup výrobkov PHILIPS a PILA si môžete počas prezentačného dňa vytočiť zaujímavú výhru.
URL:https://blog.hagard.sk/udalost/philips-a-pila-prezentacny-den-5/
LOCATION:HAGARD:HAL Trnava\, Zavarská 10/E\, Trnava\, 917 00
CATEGORIES:Predajná akcia,Prezentačný deň
ATTACH;FMTTYPE=image/jpeg:https://blog.hagard.sk/wp-content/uploads/2025/09/pd_philips_pila_2025.jpg
END:VEVENT
BEGIN:VEVENT
DTSTART;TZID=Europe/Bratislava:20251009T080000
DTEND;TZID=Europe/Bratislava:20251009T150000
DTSTAMP:20260425T174559
CREATED:20250929T134117Z
LAST-MODIFIED:20250929T134118Z
UID:3196-1759996800-1760022000@blog.hagard.sk
SUMMARY:PHILIPS a PILA prezentačný deň
DESCRIPTION:Vážení zákazníci\,za nákup výrobkov PHILIPS a PILA si môžete počas prezentačného dňa vytočiť zaujímavú výhru.
URL:https://blog.hagard.sk/udalost/philips-a-pila-prezentacny-den-6/
LOCATION:HAGARD:HAL Zvolen\, Tulská 9227/2\, Zvolen\, 960 01
CATEGORIES:Predajná akcia,Prezentačný deň
ATTACH;FMTTYPE=image/jpeg:https://blog.hagard.sk/wp-content/uploads/2025/09/pd_philips_pila_2025.jpg
END:VEVENT
BEGIN:VEVENT
DTSTART;TZID=Europe/Bratislava:20251014T100000
DTEND;TZID=Europe/Bratislava:20251014T140000
DTSTAMP:20260425T174559
CREATED:20251001T094348Z
LAST-MODIFIED:20251001T094350Z
UID:3217-1760436000-1760450400@blog.hagard.sk
SUMMARY:TRILUX prezentačný deň
DESCRIPTION:SPOZNAJTE SVET SVIETIDIEL TRILUX-TWENTY3\n\n\n\nVážení zákazníci\, \n\n\n\ntáto prezentácia Vám ponúkne možnosť spoznať svet svietidiel TRILUX – twenty3\, ktoré sú navrhnuté tak\, aby spĺňali všetky potreby profesionálneho osvetlenia v každodennej prevádzke. Súčasťou prezentačnej akcie je aj malé občerstvenie. \n\n\n\nNenechajte si ujsť túto jedinečnú príležitosť dozvedieť sa viac o najnovších trendoch a inováciách v oblasti osvetlenia\, ktoré môžu prispieť k úspechu vašich projektov. \n\n\n\nTešíme sa na Vás!Tím TRILUX Slovakia s.r.o. \n\n\n\n\n\n\n\n\n\n\n\n\n\n\n\n\nakcia znížených predajných cien platí od 1.10. do 31.12.2025\n\n\n\n\n\n\n\n\n\nPrejsť k produktom TRILUX twenty3
URL:https://blog.hagard.sk/udalost/trilux-prezentacny-den-16/
LOCATION:HAGARD:HAL Nitra\, Pražská 9\, Nitra - Mlynárce\, 949 11
CATEGORIES:Predajná akcia,Prezentačný deň
ATTACH;FMTTYPE=image/jpeg:https://blog.hagard.sk/wp-content/uploads/2025/09/pd_trilux_2025.jpg
END:VEVENT
BEGIN:VEVENT
DTSTART;TZID=Europe/Bratislava:20251015T000000
DTEND;TZID=Europe/Bratislava:20251109T235959
DTSTAMP:20260425T174559
CREATED:20251008T132724Z
LAST-MODIFIED:20251110T100651Z
UID:3245-1760486400-1762732799@blog.hagard.sk
SUMMARY:Schneider Electric predajná akcia
DESCRIPTION:Energia na každý deň!\n\n\n\n\n\n\n\n\n\nPodmienky akcie: \n\n\n\n\nreferencie na ktoré platí akcia sú v e-shope označené štítkom „darček“\n\n\n\nakcia prebieha od 15.10. do rozdania darčekov\n\n\n\nakcia sa nevzťahuje na projekty\n\n\n\nza nákup vybraných produktov v minimálnej hodnote 50€ bez DPH získa zákazník darček:\n\nenergetický nápoj „HELL Energy coffee 250ml„\n\n\n\n\n\ndarček sa nevzťahuje na objednávky zasielané kuriérom\n\n\n\n\n\n\n\n\n\nPrejsť k produktom na e-shop
URL:https://blog.hagard.sk/udalost/schneider-electric-predajna-akcia-3/
CATEGORIES:Predajná akcia
ATTACH;FMTTYPE=image/jpeg:https://blog.hagard.sk/wp-content/uploads/2025/10/pa_schneider_energia_2025.jpg
END:VEVENT
BEGIN:VEVENT
DTSTART;TZID=Europe/Bratislava:20251015T100000
DTEND;TZID=Europe/Bratislava:20251015T140000
DTSTAMP:20260425T174559
CREATED:20251001T094514Z
LAST-MODIFIED:20251001T094516Z
UID:3219-1760522400-1760536800@blog.hagard.sk
SUMMARY:TRILUX prezentačný deň
DESCRIPTION:SPOZNAJTE SVET SVIETIDIEL TRILUX-TWENTY3\n\n\n\nVážení zákazníci\, \n\n\n\ntáto prezentácia Vám ponúkne možnosť spoznať svet svietidiel TRILUX – twenty3\, ktoré sú navrhnuté tak\, aby spĺňali všetky potreby profesionálneho osvetlenia v každodennej prevádzke. Súčasťou prezentačnej akcie je aj malé občerstvenie. \n\n\n\nNenechajte si ujsť túto jedinečnú príležitosť dozvedieť sa viac o najnovších trendoch a inováciách v oblasti osvetlenia\, ktoré môžu prispieť k úspechu vašich projektov. \n\n\n\nTešíme sa na Vás!Tím TRILUX Slovakia s.r.o. \n\n\n\n\n\n\n\n\n\n\n\n\n\n\n\n\nakcia znížených predajných cien platí od 1.10. do 31.12.2025\n\n\n\n\n\n\n\n\n\nPrejsť k produktom TRILUX twenty3
URL:https://blog.hagard.sk/udalost/trilux-prezentacny-den-17/
LOCATION:HAGARD:HAL Piešťany\, A. Hlinku 15/4430\, Piešťany\, 921 01
CATEGORIES:Predajná akcia,Prezentačný deň
ATTACH;FMTTYPE=image/jpeg:https://blog.hagard.sk/wp-content/uploads/2025/09/pd_trilux_2025.jpg
END:VEVENT
BEGIN:VEVENT
DTSTART;TZID=Europe/Bratislava:20251021T080000
DTEND;TZID=Europe/Bratislava:20251021T150000
DTSTAMP:20260425T174559
CREATED:20251002T141629Z
LAST-MODIFIED:20251002T141630Z
UID:3242-1761033600-1761058800@blog.hagard.sk
SUMMARY:PHILIPS a PILA prezentačný deň
DESCRIPTION:Vážení zákazníci\,za nákup výrobkov PHILIPS a PILA si môžete počas prezentačného dňa vytočiť zaujímavú výhru.
URL:https://blog.hagard.sk/udalost/philips-a-pila-prezentacny-den-11/
LOCATION:HAGARD:HAL Žilina\, Kvačalova 782/11\, Žilina - Závodie\, 010 04
CATEGORIES:Prezentačný deň
ATTACH;FMTTYPE=image/jpeg:https://blog.hagard.sk/wp-content/uploads/2025/09/pd_philips_pila_2025.jpg
END:VEVENT
BEGIN:VEVENT
DTSTART;TZID=Europe/Bratislava:20251022T000000
DTEND;TZID=Europe/Bratislava:20251230T235959
DTSTAMP:20260425T174559
CREATED:20251024T072612Z
LAST-MODIFIED:20251024T072613Z
UID:3256-1761091200-1767139199@blog.hagard.sk
SUMMARY:MOREK predajná akcia
DESCRIPTION:Podmienky akcie: \n\n\n\n\nakcia sa vzťahuje na produkty značky: „MOREK“\n\n\n\nakcia prebieha do 30.12.2025 alebo do rozdania darčekov\n\n\n\nakcia sa nevzťahuje na projekty\n\n\n\nza nákup produktov v minimálnej hodnote 60€ bez DPH získa zákazník darček: skrutkovač“\n\n\n\nza jeden nákup je možné získať maximálne jeden skrutkovač\n\n\n\n\n\n\n\n\n\nPrejsť k produktom na e-shop
URL:https://blog.hagard.sk/udalost/morek-predajna-akcia/
CATEGORIES:Predajná akcia
ATTACH;FMTTYPE=image/jpeg:https://blog.hagard.sk/wp-content/uploads/2025/10/bnr_morek_darcek_2025.jpg
END:VEVENT
BEGIN:VEVENT
DTSTART;TZID=Europe/Bratislava:20251023T080000
DTEND;TZID=Europe/Bratislava:20251023T150000
DTSTAMP:20260425T174559
CREATED:20251002T140337Z
LAST-MODIFIED:20251002T140952Z
UID:3231-1761206400-1761231600@blog.hagard.sk
SUMMARY:PHILIPS a PILA prezentačný deň
DESCRIPTION:Vážení zákazníci\,za nákup výrobkov PHILIPS a PILA si môžete počas prezentačného dňa vytočiť zaujímavú výhru.
URL:https://blog.hagard.sk/udalost/philips-a-pila-prezentacny-den-8/
LOCATION:HAGARD:HAL Košice\, Holubyho 12\, Košice\, 040 01
CATEGORIES:Predajná akcia,Prezentačný deň
ATTACH;FMTTYPE=image/jpeg:https://blog.hagard.sk/wp-content/uploads/2025/09/pd_philips_pila_2025.jpg
END:VEVENT
BEGIN:VEVENT
DTSTART;TZID=Europe/Bratislava:20251028T080000
DTEND;TZID=Europe/Bratislava:20251028T150000
DTSTAMP:20260425T174559
CREATED:20251002T141230Z
LAST-MODIFIED:20251002T141231Z
UID:3237-1761638400-1761663600@blog.hagard.sk
SUMMARY:PHILIPS a PILA prezentačný deň
DESCRIPTION:Vážení zákazníci\,za nákup výrobkov PHILIPS a PILA si môžete počas prezentačného dňa vytočiť zaujímavú výhru.
URL:https://blog.hagard.sk/udalost/philips-a-pila-prezentacny-den-9/
LOCATION:HAGARD:HAL Prešov\, Budovateľská 50\, Prešov\, 080 01
CATEGORIES:Prezentačný deň
ATTACH;FMTTYPE=image/jpeg:https://blog.hagard.sk/wp-content/uploads/2025/09/pd_philips_pila_2025.jpg
END:VEVENT
BEGIN:VEVENT
DTSTART;TZID=Europe/Bratislava:20251028T100000
DTEND;TZID=Europe/Bratislava:20251028T140000
DTSTAMP:20260425T174559
CREATED:20251001T094657Z
LAST-MODIFIED:20251001T094659Z
UID:3221-1761645600-1761660000@blog.hagard.sk
SUMMARY:TRILUX prezentačný deň
DESCRIPTION:SPOZNAJTE SVET SVIETIDIEL TRILUX-TWENTY3\n\n\n\nVážení zákazníci\, \n\n\n\ntáto prezentácia Vám ponúkne možnosť spoznať svet svietidiel TRILUX – twenty3\, ktoré sú navrhnuté tak\, aby spĺňali všetky potreby profesionálneho osvetlenia v každodennej prevádzke. Súčasťou prezentačnej akcie je aj malé občerstvenie. \n\n\n\nNenechajte si ujsť túto jedinečnú príležitosť dozvedieť sa viac o najnovších trendoch a inováciách v oblasti osvetlenia\, ktoré môžu prispieť k úspechu vašich projektov. \n\n\n\nTešíme sa na Vás!Tím TRILUX Slovakia s.r.o. \n\n\n\n\n\n\n\n\n\n\n\n\n\n\n\n\nakcia znížených predajných cien platí od 1.10. do 31.12.2025\n\n\n\n\n\n\n\n\n\nPrejsť k produktom TRILUX twenty3
URL:https://blog.hagard.sk/udalost/trilux-prezentacny-den-18/
LOCATION:HAGARD:HAL Košice\, Holubyho 12\, Košice\, 040 01
CATEGORIES:Predajná akcia,Prezentačný deň
ATTACH;FMTTYPE=image/jpeg:https://blog.hagard.sk/wp-content/uploads/2025/09/pd_trilux_2025.jpg
END:VEVENT
BEGIN:VEVENT
DTSTART;TZID=Europe/Bratislava:20251029T080000
DTEND;TZID=Europe/Bratislava:20251029T150000
DTSTAMP:20260425T174559
CREATED:20251002T141452Z
LAST-MODIFIED:20251002T141454Z
UID:3240-1761724800-1761750000@blog.hagard.sk
SUMMARY:PHILIPS a PILA prezentačný deň
DESCRIPTION:Vážení zákazníci\,za nákup výrobkov PHILIPS a PILA si môžete počas prezentačného dňa vytočiť zaujímavú výhru.
URL:https://blog.hagard.sk/udalost/philips-a-pila-prezentacny-den-10/
LOCATION:HAGARD:HAL Poprad\, Teplická 34\, Poprad\, 058 01
CATEGORIES:Prezentačný deň
ATTACH;FMTTYPE=image/jpeg:https://blog.hagard.sk/wp-content/uploads/2025/09/pd_philips_pila_2025.jpg
END:VEVENT
BEGIN:VEVENT
DTSTART;TZID=Europe/Bratislava:20251029T100000
DTEND;TZID=Europe/Bratislava:20251029T140000
DTSTAMP:20260425T174559
CREATED:20251001T094842Z
LAST-MODIFIED:20251001T094843Z
UID:3223-1761732000-1761746400@blog.hagard.sk
SUMMARY:TRILUX prezentačný deň
DESCRIPTION:SPOZNAJTE SVET SVIETIDIEL TRILUX-TWENTY3\n\n\n\nVážení zákazníci\, \n\n\n\ntáto prezentácia Vám ponúkne možnosť spoznať svet svietidiel TRILUX – twenty3\, ktoré sú navrhnuté tak\, aby spĺňali všetky potreby profesionálneho osvetlenia v každodennej prevádzke. Súčasťou prezentačnej akcie je aj malé občerstvenie. \n\n\n\nNenechajte si ujsť túto jedinečnú príležitosť dozvedieť sa viac o najnovších trendoch a inováciách v oblasti osvetlenia\, ktoré môžu prispieť k úspechu vašich projektov. \n\n\n\nTešíme sa na Vás!Tím TRILUX Slovakia s.r.o. \n\n\n\n\n\n\n\n\n\n\n\n\n\n\n\n\nakcia znížených predajných cien platí od 1.10. do 31.12.2025\n\n\n\n\n\n\n\n\n\nPrejsť k produktom TRILUX twenty3
URL:https://blog.hagard.sk/udalost/trilux-prezentacny-den-19/
LOCATION:HAGARD:HAL Prešov\, Budovateľská 50\, Prešov\, 080 01
CATEGORIES:Predajná akcia,Prezentačný deň
ATTACH;FMTTYPE=image/jpeg:https://blog.hagard.sk/wp-content/uploads/2025/09/pd_trilux_2025.jpg
END:VEVENT
BEGIN:VEVENT
DTSTART;TZID=Europe/Bratislava:20251104T073000
DTEND;TZID=Europe/Bratislava:20251104T123000
DTSTAMP:20260425T174559
CREATED:20251028T140305Z
LAST-MODIFIED:20251103T064846Z
UID:3260-1762241400-1762259400@blog.hagard.sk
SUMMARY:EMOS prezentačný deň
DESCRIPTION:Vážení zákazníci\,pozývame Vás na prezentáciu s raňajkami\, kde vám predstavíme novinky LIGHTING\, MONITOROVACEJ TECHNIKY a produkty inteligentnej domácnosti.
URL:https://blog.hagard.sk/udalost/emos-prezentacny-den-5/
LOCATION:HAGARD:HAL Nitra\, Pražská 9\, Nitra - Mlynárce\, 949 11
CATEGORIES:Prezentačný deň
ATTACH;FMTTYPE=image/jpeg:https://blog.hagard.sk/wp-content/uploads/2025/10/pd_emos_jesen_2025.jpg
END:VEVENT
END:VCALENDAR